BEGIN:VCALENDAR
VERSION:2.0
PRODID:-//Grand View Christian School - Des Moines, IA - ECPv6.15.13.1//NONSGML v1.0//EN
CALSCALE:GREGORIAN
METHOD:PUBLISH
X-ORIGINAL-URL:https://grandviewchristianschool.org
X-WR-CALDESC:Events for Grand View Christian School - Des Moines, IA
REFRESH-INTERVAL;VALUE=DURATION:PT1H
X-Robots-Tag:noindex
X-PUBLISHED-TTL:PT1H
BEGIN:VTIMEZONE
TZID:America/Chicago
BEGIN:DAYLIGHT
TZOFFSETFROM:-0600
TZOFFSETTO:-0500
TZNAME:CDT
DTSTART:20240310T080000
END:DAYLIGHT
BEGIN:STANDARD
TZOFFSETFROM:-0500
TZOFFSETTO:-0600
TZNAME:CST
DTSTART:20241103T070000
END:STANDARD
BEGIN:DAYLIGHT
TZOFFSETFROM:-0600
TZOFFSETTO:-0500
TZNAME:CDT
DTSTART:20250309T080000
END:DAYLIGHT
BEGIN:STANDARD
TZOFFSETFROM:-0500
TZOFFSETTO:-0600
TZNAME:CST
DTSTART:20251102T070000
END:STANDARD
BEGIN:DAYLIGHT
TZOFFSETFROM:-0600
TZOFFSETTO:-0500
TZNAME:CDT
DTSTART:20260308T080000
END:DAYLIGHT
BEGIN:STANDARD
TZOFFSETFROM:-0500
TZOFFSETTO:-0600
TZNAME:CST
DTSTART:20261101T070000
END:STANDARD
END:VTIMEZONE
BEGIN:VEVENT
DTSTART;VALUE=DATE:20251216
DTEND;VALUE=DATE:20251220
DTSTAMP:20260425T204648
CREATED:20250804T204121Z
LAST-MODIFIED:20250804T204121Z
UID:7600-1765843200-1766188799@grandviewchristianschool.org
SUMMARY:HS Finals
DESCRIPTION:
URL:https://grandviewchristianschool.org/event/hs-finals-2/
CATEGORIES:All Parents,Master Calendar
END:VEVENT
BEGIN:VEVENT
DTSTART;TZID=America/Chicago:20251218T171500
DTEND;TZID=America/Chicago:20251218T200000
DTSTAMP:20260425T204648
CREATED:20251027T150235Z
LAST-MODIFIED:20251027T150235Z
UID:8335-1766078100-1766088000@grandviewchristianschool.org
SUMMARY:Elementary Christmas Concert
DESCRIPTION:PS – 5:15 p.m. \nK/1st/2nd – 6 p.m. \n3rd/4th/5th – 7 p.m.
URL:https://grandviewchristianschool.org/event/elementary-christmas-concert/
LOCATION:Grace Church\, 4200 E. 25th St\, Des Moines\, IA\, 50317\, United States
CATEGORIES:All Parents
END:VEVENT
END:VCALENDAR