BEGIN:VCALENDAR
VERSION:2.0
PRODID:-//Grand View Christian School - Des Moines, IA - ECPv6.15.13.1//NONSGML v1.0//EN
CALSCALE:GREGORIAN
METHOD:PUBLISH
X-ORIGINAL-URL:https://grandviewchristianschool.org
X-WR-CALDESC:Events for Grand View Christian School - Des Moines, IA
REFRESH-INTERVAL;VALUE=DURATION:PT1H
X-Robots-Tag:noindex
X-PUBLISHED-TTL:PT1H
BEGIN:VTIMEZONE
TZID:America/Chicago
BEGIN:DAYLIGHT
TZOFFSETFROM:-0600
TZOFFSETTO:-0500
TZNAME:CDT
DTSTART:20230312T080000
END:DAYLIGHT
BEGIN:STANDARD
TZOFFSETFROM:-0500
TZOFFSETTO:-0600
TZNAME:CST
DTSTART:20231105T070000
END:STANDARD
BEGIN:DAYLIGHT
TZOFFSETFROM:-0600
TZOFFSETTO:-0500
TZNAME:CDT
DTSTART:20240310T080000
END:DAYLIGHT
BEGIN:STANDARD
TZOFFSETFROM:-0500
TZOFFSETTO:-0600
TZNAME:CST
DTSTART:20241103T070000
END:STANDARD
BEGIN:DAYLIGHT
TZOFFSETFROM:-0600
TZOFFSETTO:-0500
TZNAME:CDT
DTSTART:20250309T080000
END:DAYLIGHT
BEGIN:STANDARD
TZOFFSETFROM:-0500
TZOFFSETTO:-0600
TZNAME:CST
DTSTART:20251102T070000
END:STANDARD
BEGIN:DAYLIGHT
TZOFFSETFROM:-0600
TZOFFSETTO:-0500
TZNAME:CDT
DTSTART:20260308T080000
END:DAYLIGHT
BEGIN:STANDARD
TZOFFSETFROM:-0500
TZOFFSETTO:-0600
TZNAME:CST
DTSTART:20261101T070000
END:STANDARD
BEGIN:DAYLIGHT
TZOFFSETFROM:-0600
TZOFFSETTO:-0500
TZNAME:CDT
DTSTART:20270314T080000
END:DAYLIGHT
BEGIN:STANDARD
TZOFFSETFROM:-0500
TZOFFSETTO:-0600
TZNAME:CST
DTSTART:20271107T070000
END:STANDARD
END:VTIMEZONE
BEGIN:VEVENT
DTSTART;TZID=America/Chicago:20260206T180000
DTEND;TZID=America/Chicago:20260206T210000
DTSTAMP:20260425T192347
CREATED:20260130T165538Z
LAST-MODIFIED:20260130T165538Z
UID:8419-1770400800-1770411600@grandviewchristianschool.org
SUMMARY:Varsity Girls and Boys Basketball @ Casey's Center
DESCRIPTION:Varsity Girls vs Nevada – 6 p.m. \nVarsity Boys vs Nevada – 7:30 p.m. \nTicket Link: https://www.gofevo.com/event/20252026466
URL:https://grandviewchristianschool.org/event/varsity-girls-and-boys-basketball-caseys-center/
LOCATION:Casey’s Center\, 233 Center St\, Des Moines\, IA\, 50309\, United States
CATEGORIES:HS Boys Basketball,HS Girls Basketball
END:VEVENT
BEGIN:VEVENT
DTSTART;TZID=America/Chicago:20250218T190000
DTEND;TZID=America/Chicago:20250218T210000
DTSTAMP:20260425T192347
CREATED:20250217T165641Z
LAST-MODIFIED:20250217T165720Z
UID:6927-1739905200-1739912400@grandviewchristianschool.org
SUMMARY:Varsity Girls Basketball @ Central Decatur - 1st Round Regionals
DESCRIPTION:
URL:https://grandviewchristianschool.org/event/hs-girls-basketball-central-decatur-1st-round-regionals/
LOCATION:Central Decatur High School\, 1201 NE Poplar St\, Leon\, IA\, 50144\, United States
CATEGORIES:HS Girls Basketball
END:VEVENT
BEGIN:VEVENT
DTSTART;TZID=America/Chicago:20250211T163000
DTEND;TZID=America/Chicago:20250211T210000
DTSTAMP:20260425T192347
CREATED:20241028T205025Z
LAST-MODIFIED:20250210T154155Z
UID:6381-1739291400-1739307600@grandviewchristianschool.org
SUMMARY:JV/V Girls & Boys Basketball (H) Perry
DESCRIPTION:JV Girls – 5:00 (MAC)\nJV Boys – 4:30 (MS/HS)\nJV2 Boys – 5:45 (MS/HS)\nV Girls – 6:00 (MAC)\nV Boys – 7:30 (MAC)
URL:https://grandviewchristianschool.org/event/jv-v-girls-boys-basketball-h-perry/
LOCATION:IA
CATEGORIES:HS Boys Basketball,HS Girls Basketball
END:VEVENT
BEGIN:VEVENT
DTSTART;TZID=America/Chicago:20250207T163000
DTEND;TZID=America/Chicago:20250207T210000
DTSTAMP:20260425T192347
CREATED:20241028T204803Z
LAST-MODIFIED:20241028T204803Z
UID:6379-1738945800-1738962000@grandviewchristianschool.org
SUMMARY:JV/V Girls & Boys Basketball @ Nevada
DESCRIPTION:JV1 Boys – 4:30pm\nJV2 Boys – 5:45pm\nJV Girls – 4:30pm\nVarsity Girls – 6:00pm\nVarsity Boys – 7:30pm
URL:https://grandviewchristianschool.org/event/jv-v-girls-boys-basketball-nevada/
LOCATION:Nevada High School\, 1001 15th St\, Nevada\, IA\, 50201\, United States
CATEGORIES:HS Boys Basketball,HS Girls Basketball
END:VEVENT
BEGIN:VEVENT
DTSTART;TZID=America/Chicago:20250204T164500
DTEND;TZID=America/Chicago:20250204T210000
DTSTAMP:20260425T192347
CREATED:20241028T204317Z
LAST-MODIFIED:20241028T204317Z
UID:6377-1738687500-1738702800@grandviewchristianschool.org
SUMMARY:JV2/JV1 Boys & V Girls Basketball (H) ACA
DESCRIPTION:JV2 boys – 4:45; JV1 boys – 6:00; V girls – 7:30
URL:https://grandviewchristianschool.org/event/jv2-jv1-boys-v-girls-basketball-h-aca/
LOCATION:GVC McWilliams Activities Center (MAC)\, 290\, Des Moines\, IA\, United States
CATEGORIES:HS Boys Basketball,HS Girls Basketball
END:VEVENT
BEGIN:VEVENT
DTSTART;TZID=America/Chicago:20250131T163000
DTEND;TZID=America/Chicago:20250131T210000
DTSTAMP:20260425T192347
CREATED:20241028T203855Z
LAST-MODIFIED:20250107T190607Z
UID:6375-1738341000-1738357200@grandviewchristianschool.org
SUMMARY:JV/V Girls & Boys Basketball (H) Saydel - SENIOR NIGHT
DESCRIPTION:JV1 Boys – 4:30pm (MS/HS)\nJV2 Boys – 5:45pm (MS/HS)\nJV Girls – 4:30pm (MAC)\nVarsity Girls – 6:00pm (MAC)\nVarsity Boys – 7:30pm (MAC)
URL:https://grandviewchristianschool.org/event/jv-v-girls-basketball-h-saydel/
LOCATION:IA
CATEGORIES:HS Boys Basketball,HS Girls Basketball
END:VEVENT
BEGIN:VEVENT
DTSTART;TZID=America/Chicago:20250128T163000
DTEND;TZID=America/Chicago:20250128T210000
DTSTAMP:20260425T192347
CREATED:20241028T202417Z
LAST-MODIFIED:20241028T202510Z
UID:6371-1738081800-1738098000@grandviewchristianschool.org
SUMMARY:JV/V Girls & Boys Basketball @ PCM
DESCRIPTION:JV Girls – 4:30pm\nVarsity Girls – 6:00pm\nVarsity Boys – 7:30pm
URL:https://grandviewchristianschool.org/event/jv-v-girls-boys-basketball-pcm/
LOCATION:PCM High School\, 400 IA-163 BUS\, Monroe\, IA\, United States
CATEGORIES:HS Boys Basketball,HS Girls Basketball
END:VEVENT
BEGIN:VEVENT
DTSTART;TZID=America/Chicago:20250124T163000
DTEND;TZID=America/Chicago:20250124T210000
DTSTAMP:20260425T192347
CREATED:20241028T201747Z
LAST-MODIFIED:20250124T133858Z
UID:6367-1737736200-1737752400@grandviewchristianschool.org
SUMMARY:JV/V Girls & Boys Basketball (H) South Hamilton
DESCRIPTION:JV Girls – 4:30pm\nVarsity Girls – 6:00pm\nVarsity Boys – 7:30pm
URL:https://grandviewchristianschool.org/event/jv-v-girls-boys-basketball-h-south-hamilton/
LOCATION:GVC McWilliams Activities Center (MAC)\, 290\, Des Moines\, IA\, United States
CATEGORIES:HS Boys Basketball,HS Girls Basketball
END:VEVENT
BEGIN:VEVENT
DTSTART;TZID=America/Chicago:20250121T163000
DTEND;TZID=America/Chicago:20250121T210000
DTSTAMP:20260425T192347
CREATED:20241028T200527Z
LAST-MODIFIED:20241028T200527Z
UID:6363-1737477000-1737493200@grandviewchristianschool.org
SUMMARY:JV/V Girls & Boys Basketball @ West Marshall
DESCRIPTION:JV1 Boys – 4:30pm\nJV2 Boys – 5:45pm\nJV Girls – 4:30pm\nVarsity Girls – 6:00pm\nVarsity Boys – 7:30pm
URL:https://grandviewchristianschool.org/event/jv-v-girls-boys-basketball-west-marshall/
LOCATION:West Marshall High School\, 601 3rd St NW\, State Center\, IA\, 50247\, United States
CATEGORIES:HS Boys Basketball,HS Girls Basketball
END:VEVENT
BEGIN:VEVENT
DTSTART;TZID=America/Chicago:20250117T160000
DTEND;TZID=America/Chicago:20250117T210000
DTSTAMP:20260425T192347
CREATED:20241028T200152Z
LAST-MODIFIED:20250113T150129Z
UID:6360-1737129600-1737147600@grandviewchristianschool.org
SUMMARY:JV/V Girls & Boys Basketball @ Greene County
DESCRIPTION:JV2 Boys – 4:00pm (2 qtrs)\nJV Boys – 4:30pm\nVarsity Girls – 6:30pm\nVarsity Boys – 7:30pm
URL:https://grandviewchristianschool.org/event/jv-v-girls-boys-basketball-greene-county/
LOCATION:Greene County High School\, 1901 N Grimmell Rd\, Jefferson\, IA\, 50129\, United States
CATEGORIES:HS Boys Basketball,HS Girls Basketball
END:VEVENT
BEGIN:VEVENT
DTSTART;TZID=America/Chicago:20250114T163000
DTEND;TZID=America/Chicago:20250114T210000
DTSTAMP:20260425T192347
CREATED:20241028T195241Z
LAST-MODIFIED:20241205T202337Z
UID:6358-1736872200-1736888400@grandviewchristianschool.org
SUMMARY:JV/V Girls & Boys Basketball (H) Roland-Story
DESCRIPTION:JV1 Boys – 4:30pm (MS/HS)\nJV2 Boys – 5:45pm (MS/HS)\nJV Girls – 4:30pm (MAC)\nVarsity Girls – 6:00pm (MAC)\nVarsity Boys – 7:30pm (MAC)
URL:https://grandviewchristianschool.org/event/jv-v-girls-boys-basketball-h-roland-story/
LOCATION:IA
CATEGORIES:HS Boys Basketball,HS Girls Basketball
END:VEVENT
BEGIN:VEVENT
DTSTART;TZID=America/Chicago:20250113T180000
DTEND;TZID=America/Chicago:20250113T210000
DTSTAMP:20260425T192347
CREATED:20241028T194919Z
LAST-MODIFIED:20250113T145958Z
UID:6355-1736791200-1736802000@grandviewchristianschool.org
SUMMARY:JV/V Girls Basketball (H) Collins-Maxwell
DESCRIPTION:JV – 6:00 (2 Quarters); V – 7:30
URL:https://grandviewchristianschool.org/event/jv-v-girls-basketball-h-collins-maxwell/
LOCATION:GVC McWilliams Activities Center (MAC)\, 290\, Des Moines\, IA\, United States
CATEGORIES:HS Boys Basketball,HS Girls Basketball
END:VEVENT
BEGIN:VEVENT
DTSTART;TZID=America/Chicago:20250110T163000
DTEND;TZID=America/Chicago:20250110T210000
DTSTAMP:20260425T192347
CREATED:20241028T193852Z
LAST-MODIFIED:20241028T193852Z
UID:6353-1736526600-1736542800@grandviewchristianschool.org
SUMMARY:JV/V Girls & Boys Basketball @ Perry
DESCRIPTION:JV1 Boys – 4:30pm\nJV2 Boys – 5:45pm\nJV Girls – 4:30pm\nVarsity Girls – 6:00pm\nVarsity Boys – 7:30pm
URL:https://grandviewchristianschool.org/event/jv-v-girls-boys-basketball-perry/
LOCATION:IA
CATEGORIES:HS Boys Basketball,HS Girls Basketball
END:VEVENT
BEGIN:VEVENT
DTSTART;TZID=America/Chicago:20250107T163000
DTEND;TZID=America/Chicago:20250107T210000
DTSTAMP:20260425T192347
CREATED:20241028T193143Z
LAST-MODIFIED:20241028T193143Z
UID:6351-1736267400-1736283600@grandviewchristianschool.org
SUMMARY:JV/V Girls & Boys Basketball (H) Nevada
DESCRIPTION:JV1 Boys – 4:30pm (MS/HS)\nJV2 Boys – 5:45pm (MS/HS)\nJV Girls – 4:30pm (MAC)\nVarsity Girls – 6:00pm (MAC)\nVarsity Boys – 7:30pm (MAC)
URL:https://grandviewchristianschool.org/event/jv-v-girls-boys-basketball-h-nevada/
LOCATION:IA
CATEGORIES:HS Boys Basketball,HS Girls Basketball
END:VEVENT
BEGIN:VEVENT
DTSTART;TZID=America/Chicago:20250104T120000
DTEND;TZID=America/Chicago:20250104T163000
DTSTAMP:20260425T192347
CREATED:20241028T192652Z
LAST-MODIFIED:20241028T192652Z
UID:6348-1735992000-1736008200@grandviewchristianschool.org
SUMMARY:JV2/JV1/V Boys Basketball @ Treynor
DESCRIPTION:JV2 -12:00; JV1 – 1:30; V – 3:00
URL:https://grandviewchristianschool.org/event/jv2-jv1-v-boys-basketball-treynor/
LOCATION:Treynor Community School\, 102 E Main St\, Treynor\, IA\, 51575\, United States
CATEGORIES:HS Boys Basketball,HS Girls Basketball
END:VEVENT
BEGIN:VEVENT
DTSTART;TZID=America/Chicago:20241220T163000
DTEND;TZID=America/Chicago:20241220T210000
DTSTAMP:20260425T192347
CREATED:20241028T190814Z
LAST-MODIFIED:20241028T190814Z
UID:6346-1734712200-1734728400@grandviewchristianschool.org
SUMMARY:JV/V Girls & Boys Basketball @ Saydel
DESCRIPTION:JV1 Boys – 4:30pm\nJV2 Boys – 5:45pm\nJV Girls – 4:30pm\nVarsity Girls – 6:00pm\nVarsity Boys – 7:30pm
URL:https://grandviewchristianschool.org/event/jv-v-girls-boys-basketball-saydel/
LOCATION:Saydel High School\, 5601 NE 7th St\, Des Moines\, IA\, 50313\, United States
CATEGORIES:HS Boys Basketball,HS Girls Basketball
END:VEVENT
BEGIN:VEVENT
DTSTART;TZID=America/Chicago:20241219T163000
DTEND;TZID=America/Chicago:20241219T210000
DTSTAMP:20260425T192347
CREATED:20241028T190617Z
LAST-MODIFIED:20241206T042236Z
UID:6344-1734625800-1734642000@grandviewchristianschool.org
SUMMARY:JV/V Girls & Boys Basketball (H) Pella Christian
DESCRIPTION:JV1 Boys – 4:30pm (MS/HS)\nJV2 Boys – 5:45pm (MS/HS)\nJV Girls – 4:30pm (MAC)\nVarsity Girls – 6:00pm (MAC)\nVarsity Boys – 7:30pm (MAC)
URL:https://grandviewchristianschool.org/event/jv-v-girls-boys-basketball-h-pcm-2/
LOCATION:IA
CATEGORIES:HS Boys Basketball,HS Girls Basketball
END:VEVENT
BEGIN:VEVENT
DTSTART;TZID=America/Chicago:20241217T163000
DTEND;TZID=America/Chicago:20241217T210000
DTSTAMP:20260425T192347
CREATED:20241028T185251Z
LAST-MODIFIED:20241028T185251Z
UID:6341-1734453000-1734469200@grandviewchristianschool.org
SUMMARY:JV/V Girls & Boys Basketball (H) PCM
DESCRIPTION:JV1 Boys – 4:30pm (MS/HS)\nJV2 Boys – 5:45pm (MS/HS)\nJV Girls – 4:30pm (MAC)\nVarsity Girls – 6:00pm (MAC)\nVarsity Boys – 7:30pm (MAC)
URL:https://grandviewchristianschool.org/event/jv-v-girls-boys-basketball-h-pcm/
LOCATION:IA
CATEGORIES:HS Boys Basketball,HS Girls Basketball
END:VEVENT
BEGIN:VEVENT
DTSTART;TZID=America/Chicago:20241213T163000
DTEND;TZID=America/Chicago:20241213T203000
DTSTAMP:20260425T192347
CREATED:20241028T185009Z
LAST-MODIFIED:20241028T185100Z
UID:6339-1734107400-1734121800@grandviewchristianschool.org
SUMMARY:JV/V Girls & Boys Basketball @ South Hamilton
DESCRIPTION:JV Girls – 4:30pm\nVarsity Girls – 6:00pm\nVarsity Boys – 7:30pm
URL:https://grandviewchristianschool.org/event/jv-v-girls-boys-basketball-south-hamilton/
LOCATION:South Hamilton High School\, 315 Division St\, Jewell\, IA\, 50130\, United States
CATEGORIES:HS Boys Basketball,HS Girls Basketball
END:VEVENT
BEGIN:VEVENT
DTSTART;TZID=America/Chicago:20241210T163000
DTEND;TZID=America/Chicago:20241210T210000
DTSTAMP:20260425T192347
CREATED:20241028T175925Z
LAST-MODIFIED:20241028T175925Z
UID:6335-1733848200-1733864400@grandviewchristianschool.org
SUMMARY:JV/V Girls & Boys Basketball (H) West Marshall
DESCRIPTION:JV1 Boys – 4:30pm (MS/HS)\nJV2 Boys – 5:45pm (MS/HS)\nJV Girls – 4:30pm (MAC)\nVarsity Girls – 6:00pm (MAC)\nVarsity Boys – 7:30pm (MAC)
URL:https://grandviewchristianschool.org/event/jv-v-girls-boys-basketball-h-west-marshall/
LOCATION:IA
CATEGORIES:HS Boys Basketball,HS Girls Basketball
END:VEVENT
BEGIN:VEVENT
DTSTART;TZID=America/Chicago:20241209T173000
DTEND;TZID=America/Chicago:20241209T210000
DTSTAMP:20260425T192347
CREATED:20241028T175431Z
LAST-MODIFIED:20241028T175431Z
UID:6333-1733765400-1733778000@grandviewchristianschool.org
SUMMARY:JV/V Girls Basketball (H) DSM North
DESCRIPTION:JV – 5:30pm; V – 7:00pm
URL:https://grandviewchristianschool.org/event/jv-v-girls-basketball-h-dsm-north/
LOCATION:GVC McWilliams Activities Center (MAC)\, 290\, Des Moines\, IA\, United States
CATEGORIES:HS Girls Basketball
END:VEVENT
BEGIN:VEVENT
DTSTART;TZID=America/Chicago:20241206T160000
DTEND;TZID=America/Chicago:20241206T210000
DTSTAMP:20260425T192347
CREATED:20241028T175000Z
LAST-MODIFIED:20241206T211152Z
UID:6330-1733500800-1733518800@grandviewchristianschool.org
SUMMARY:JV/V Girls & Boys Basketball (H) Greene County
DESCRIPTION:JV2 Boys- 4:00pm (2 quarters)\nJV1 Boys – 4:45pm\nVarsity Girls – 6:00pm\nVarsity Boys – 7:30pm
URL:https://grandviewchristianschool.org/event/jv-v-girls-boys-basketball-h-greene-county/
LOCATION:GVC McWilliams Activities Center (MAC)\, 290\, Des Moines\, IA\, United States
CATEGORIES:HS Boys Basketball,HS Girls Basketball
END:VEVENT
BEGIN:VEVENT
DTSTART;TZID=America/Chicago:20241203T163000
DTEND;TZID=America/Chicago:20241203T210000
DTSTAMP:20260425T192347
CREATED:20241028T174556Z
LAST-MODIFIED:20241028T174556Z
UID:6328-1733243400-1733259600@grandviewchristianschool.org
SUMMARY:JV/V Girls & Boys Basketball @ Roland-Story
DESCRIPTION:JV Girls – 4:30pm\nJV1 Boys – 4:30pm\nJV2 Boys – 5:45pm\nVarsity Girls – 6:00pm\nVarsity Boys – 7:30pm
URL:https://grandviewchristianschool.org/event/jv-v-girls-boys-basketball-roland-story/
LOCATION:IA
CATEGORIES:HS Boys Basketball,HS Girls Basketball
END:VEVENT
BEGIN:VEVENT
DTSTART;TZID=America/Chicago:20241125T180000
DTEND;TZID=America/Chicago:20241125T203000
DTSTAMP:20260425T192347
CREATED:20241028T172321Z
LAST-MODIFIED:20241028T172321Z
UID:6325-1732557600-1732566600@grandviewchristianschool.org
SUMMARY:JV/V Girls Basketball @ Ogden
DESCRIPTION:JV – 6:00pm; V – 7:30pm
URL:https://grandviewchristianschool.org/event/jv-v-girls-basketball-ogden/
LOCATION:Ogden High School\, 732 W Division St\, Ogden\, IA\, 50212\, United States
CATEGORIES:HS Girls Basketball
END:VEVENT
BEGIN:VEVENT
DTSTART;TZID=America/Chicago:20241119T193000
DTEND;TZID=America/Chicago:20241119T200000
DTSTAMP:20260425T192347
CREATED:20241028T172100Z
LAST-MODIFIED:20241028T172100Z
UID:6322-1732044600-1732046400@grandviewchristianschool.org
SUMMARY:V Girls Basketball @ Marshalltown Jamboree
DESCRIPTION:vs BCLUW
URL:https://grandviewchristianschool.org/event/v-girls-basketball-marshalltown-jamboree/
LOCATION:Marshalltown High School\, 1602 S 2nd Ave\, Marshalltown\, IA\, 50158\, United States
CATEGORIES:HS Girls Basketball
END:VEVENT
END:VCALENDAR