BEGIN:VCALENDAR
VERSION:2.0
PRODID:-//Grand View Christian School - Des Moines, IA - ECPv6.15.13.1//NONSGML v1.0//EN
CALSCALE:GREGORIAN
METHOD:PUBLISH
X-WR-CALNAME:Grand View Christian School - Des Moines, IA
X-ORIGINAL-URL:https://grandviewchristianschool.org
X-WR-CALDESC:Events for Grand View Christian School - Des Moines, IA
REFRESH-INTERVAL;VALUE=DURATION:PT1H
X-Robots-Tag:noindex
X-PUBLISHED-TTL:PT1H
BEGIN:VTIMEZONE
TZID:America/Chicago
BEGIN:DAYLIGHT
TZOFFSETFROM:-0600
TZOFFSETTO:-0500
TZNAME:CDT
DTSTART:20230312T080000
END:DAYLIGHT
BEGIN:STANDARD
TZOFFSETFROM:-0500
TZOFFSETTO:-0600
TZNAME:CST
DTSTART:20231105T070000
END:STANDARD
BEGIN:DAYLIGHT
TZOFFSETFROM:-0600
TZOFFSETTO:-0500
TZNAME:CDT
DTSTART:20240310T080000
END:DAYLIGHT
BEGIN:STANDARD
TZOFFSETFROM:-0500
TZOFFSETTO:-0600
TZNAME:CST
DTSTART:20241103T070000
END:STANDARD
BEGIN:DAYLIGHT
TZOFFSETFROM:-0600
TZOFFSETTO:-0500
TZNAME:CDT
DTSTART:20250309T080000
END:DAYLIGHT
BEGIN:STANDARD
TZOFFSETFROM:-0500
TZOFFSETTO:-0600
TZNAME:CST
DTSTART:20251102T070000
END:STANDARD
BEGIN:DAYLIGHT
TZOFFSETFROM:-0600
TZOFFSETTO:-0500
TZNAME:CDT
DTSTART:20260308T080000
END:DAYLIGHT
BEGIN:STANDARD
TZOFFSETFROM:-0500
TZOFFSETTO:-0600
TZNAME:CST
DTSTART:20261101T070000
END:STANDARD
END:VTIMEZONE
BEGIN:VEVENT
DTSTART;VALUE=DATE:20250519
DTEND;VALUE=DATE:20250520
DTSTAMP:20260425T203055
CREATED:20250228T192950Z
LAST-MODIFIED:20250502T160812Z
UID:7080-1747612800-1747699199@grandviewchristianschool.org
SUMMARY:V/B District Golf
DESCRIPTION:Time and location TBA
URL:https://grandviewchristianschool.org/event/v-b-district-golf/
LOCATION:IA
CATEGORIES:HS Golf
END:VEVENT
BEGIN:VEVENT
DTSTART;TZID=America/Chicago:20250508T160000
DTEND;TZID=America/Chicago:20250508T200000
DTSTAMP:20260425T203055
CREATED:20250228T192635Z
LAST-MODIFIED:20250228T194457Z
UID:7072-1746720000-1746734400@grandviewchristianschool.org
SUMMARY:JV/V G/B Golf @ Earlham
DESCRIPTION:
URL:https://grandviewchristianschool.org/event/jv-v-girls-boys-golf-earlham/
LOCATION:5 X 80 Golf & Country Club\, 1086 IA-25\, Menlo\, IA\, 50164\, United States
CATEGORIES:HS Golf
END:VEVENT
BEGIN:VEVENT
DTSTART;TZID=America/Chicago:20250507T090000
DTEND;TZID=America/Chicago:20250507T170000
DTSTAMP:20260425T203055
CREATED:20250228T192434Z
LAST-MODIFIED:20250228T192434Z
UID:7070-1746608400-1746637200@grandviewchristianschool.org
SUMMARY:V/G Golf @ HOIAC Meet
DESCRIPTION:
URL:https://grandviewchristianschool.org/event/v-g-golf-hoiac-meet/
LOCATION:Lincoln Valley Golf Course\, 1538 235th St\, State Center\, IA\, 50247\, United States
CATEGORIES:HS Golf
END:VEVENT
BEGIN:VEVENT
DTSTART;TZID=America/Chicago:20250506T090000
DTEND;TZID=America/Chicago:20250506T170000
DTSTAMP:20260425T203055
CREATED:20250228T192218Z
LAST-MODIFIED:20250228T192218Z
UID:7068-1746522000-1746550800@grandviewchristianschool.org
SUMMARY:V/B Golf @ HOIAC Meet
DESCRIPTION:
URL:https://grandviewchristianschool.org/event/v-b-golf-hoiac-meet/
LOCATION:Lincoln Valley Golf Course\, 1538 235th St\, State Center\, IA\, 50247\, United States
CATEGORIES:HS Golf
END:VEVENT
BEGIN:VEVENT
DTSTART;TZID=America/Chicago:20250505T153000
DTEND;TZID=America/Chicago:20250505T183000
DTSTAMP:20260425T203055
CREATED:20250505T151032Z
LAST-MODIFIED:20250505T151032Z
UID:7289-1746459000-1746469800@grandviewchristianschool.org
SUMMARY:JV Boys Golf vs West Marshall
DESCRIPTION:
URL:https://grandviewchristianschool.org/event/jv-boys-golf-vs-west-marshall/
LOCATION:Lincoln Valley Golf Course\, 1538 235th St\, State Center\, IA\, 50247\, United States
CATEGORIES:HS Golf
END:VEVENT
BEGIN:VEVENT
DTSTART;TZID=America/Chicago:20250430T090000
DTEND;TZID=America/Chicago:20250430T170000
DTSTAMP:20260425T203055
CREATED:20250228T192054Z
LAST-MODIFIED:20250228T192054Z
UID:7066-1746003600-1746032400@grandviewchristianschool.org
SUMMARY:V/B Golf @ BGM
DESCRIPTION:18 holes
URL:https://grandviewchristianschool.org/event/v-b-golf-bgm/
LOCATION:Brooklyn-Victor Country Club\, 2074 Old 6 Rd\, Brooklyn\, IA\, 52211\, United States
CATEGORIES:HS Golf
END:VEVENT
BEGIN:VEVENT
DTSTART;TZID=America/Chicago:20250428T090000
DTEND;TZID=America/Chicago:20250428T130000
DTSTAMP:20260425T203055
CREATED:20250228T191607Z
LAST-MODIFIED:20250428T134824Z
UID:7060-1745830800-1745845200@grandviewchristianschool.org
SUMMARY:V/B Golf @ PCM Invite
DESCRIPTION:
URL:https://grandviewchristianschool.org/event/v-b-golf-pcm-invite-2/
LOCATION:Gateway Recreation Golf Course\, 111 Taylor St\, Monroe\, IA\, 50170\, United States
CATEGORIES:HS Golf
END:VEVENT
BEGIN:VEVENT
DTSTART;TZID=America/Chicago:20250425T100000
DTEND;TZID=America/Chicago:20250425T150000
DTSTAMP:20260425T203055
CREATED:20250227T220105Z
LAST-MODIFIED:20250228T191411Z
UID:7057-1745575200-1745593200@grandviewchristianschool.org
SUMMARY:V/B Golf @ Sigourney Invitational
DESCRIPTION:
URL:https://grandviewchristianschool.org/event/v-b-golf-sigourney-invitational/
LOCATION:Sigourney Golf & Country Club\, 1103 200th Ave\, Sigourney\, IA\, 52591\, United States
CATEGORIES:HS Golf
END:VEVENT
BEGIN:VEVENT
DTSTART;TZID=America/Chicago:20250424T130000
DTEND;TZID=America/Chicago:20250424T180000
DTSTAMP:20260425T203055
CREATED:20250227T215704Z
LAST-MODIFIED:20250421T170019Z
UID:7055-1745499600-1745517600@grandviewchristianschool.org
SUMMARY:V/G Golf @ Roland-Story
DESCRIPTION:18 holes
URL:https://grandviewchristianschool.org/event/v-g-golf-roland-story-2/
LOCATION:Riverbend Golf Course\, 720 Forest Ave\, Story City\, IA\, 50248\, United States
CATEGORIES:HS Golf
END:VEVENT
BEGIN:VEVENT
DTSTART;TZID=America/Chicago:20250422T163000
DTEND;TZID=America/Chicago:20250422T193000
DTSTAMP:20260425T203055
CREATED:20250227T215604Z
LAST-MODIFIED:20250228T194140Z
UID:7053-1745339400-1745350200@grandviewchristianschool.org
SUMMARY:JV/V G/B Golf @ Colfax-Mingo
DESCRIPTION:Teams: GVC\, Colfax-Mingo\, Baxter
URL:https://grandviewchristianschool.org/event/jv-v-girls-boys-golf-colfax-mingo/
LOCATION:Colfax Country Club\, 3761 W 108th St S\, Colfax\, IA\, 50054\, United States
CATEGORIES:HS Golf
END:VEVENT
BEGIN:VEVENT
DTSTART;TZID=America/Chicago:20250417T160000
DTEND;TZID=America/Chicago:20250417T190000
DTSTAMP:20260425T203055
CREATED:20250227T215413Z
LAST-MODIFIED:20250227T215436Z
UID:7051-1744905600-1744916400@grandviewchristianschool.org
SUMMARY:JV/B Golf @ PCM Invite
DESCRIPTION:
URL:https://grandviewchristianschool.org/event/jv-b-golf-pcm-invite/
LOCATION:Gateway Recreation Golf Course\, 111 Taylor St\, Monroe\, IA\, 50170\, United States
CATEGORIES:HS Golf
END:VEVENT
BEGIN:VEVENT
DTSTART;TZID=America/Chicago:20250414T160000
DTEND;TZID=America/Chicago:20250414T190000
DTSTAMP:20260425T203055
CREATED:20250227T215157Z
LAST-MODIFIED:20250228T193833Z
UID:7049-1744646400-1744657200@grandviewchristianschool.org
SUMMARY:JV/V G/B Golf @ West Marshall
DESCRIPTION:Teams: GVC\, Colo-Nesco\, West Marshall
URL:https://grandviewchristianschool.org/event/jv-v-girls-boys-golf-west-marshall/
LOCATION:Lincoln Valley Golf Course\, 1538 235th St\, State Center\, IA\, 50247\, United States
CATEGORIES:HS Golf
END:VEVENT
BEGIN:VEVENT
DTSTART;TZID=America/Chicago:20250412T090000
DTEND;TZID=America/Chicago:20250412T140000
DTSTAMP:20260425T203055
CREATED:20250227T214856Z
LAST-MODIFIED:20250227T215018Z
UID:7047-1744448400-1744466400@grandviewchristianschool.org
SUMMARY:V/B Golf @ Greene County
DESCRIPTION:*18 holes \nMeet will take place at Jefferson Community Golf Course and The Hill Golf Course
URL:https://grandviewchristianschool.org/event/v-b-golf-greene-county-3/
LOCATION:Jefferson Community Golf Course\, 501 W Greenwood Rd\, Jefferson\, IA\, 50129\, United States
CATEGORIES:HS Golf
END:VEVENT
BEGIN:VEVENT
DTSTART;TZID=America/Chicago:20250410T100000
DTEND;TZID=America/Chicago:20250410T150000
DTSTAMP:20260425T203055
CREATED:20250227T214317Z
LAST-MODIFIED:20250227T214512Z
UID:7045-1744279200-1744297200@grandviewchristianschool.org
SUMMARY:V G/B Golf @ Nevada
DESCRIPTION:
URL:https://grandviewchristianschool.org/event/v-g-b-golf-nevada/
LOCATION:Indian Creek Country Club\, 63012 260th St\, Nevada\, IA\, 50201\, United States
CATEGORIES:HS Golf
END:VEVENT
BEGIN:VEVENT
DTSTART;TZID=America/Chicago:20250407T160000
DTEND;TZID=America/Chicago:20250407T190000
DTSTAMP:20260425T203055
CREATED:20250227T214154Z
LAST-MODIFIED:20250228T193137Z
UID:7043-1744041600-1744052400@grandviewchristianschool.org
SUMMARY:JV/V G/B Golf @ Saydel
DESCRIPTION:Teams: GVC\, Saydel\, Baxter \n*JV will play par 3 course
URL:https://grandviewchristianschool.org/event/jv-v-girls-boys-golf-saydel/
LOCATION:Woodland Hills Golf Course\, 620 NE 66th Ave\, Des Moines\, IA\, 50313\, United States
CATEGORIES:HS Golf
END:VEVENT
BEGIN:VEVENT
DTSTART;TZID=America/Chicago:20250403T160000
DTEND;TZID=America/Chicago:20250403T190000
DTSTAMP:20260425T203055
CREATED:20250227T213848Z
LAST-MODIFIED:20250228T193546Z
UID:7041-1743696000-1743706800@grandviewchristianschool.org
SUMMARY:JV/V G/B Golf @ BGM
DESCRIPTION:
URL:https://grandviewchristianschool.org/event/jv-v-girls-boys-golf-bgm/
LOCATION:Brooklyn-Victor Country Club\, 2074 Old 6 Rd\, Brooklyn\, IA\, 52211\, United States
CATEGORIES:HS Golf
END:VEVENT
BEGIN:VEVENT
DTSTART;TZID=America/Chicago:20240510T080000
DTEND;TZID=America/Chicago:20240510T170000
DTSTAMP:20260425T203055
CREATED:20240305T182959Z
LAST-MODIFIED:20240826T200400Z
UID:4909-1715328000-1715360400@grandviewchristianschool.org
SUMMARY:V/G Golf Regionals
DESCRIPTION:Time and location TBA
URL:https://grandviewchristianschool.org/event/v-g-golf-regionals/
LOCATION:IA
CATEGORIES:HS Golf,Master Calendar
END:VEVENT
BEGIN:VEVENT
DTSTART;TZID=America/Chicago:20240508T100000
DTEND;TZID=America/Chicago:20240508T170000
DTSTAMP:20260425T203055
CREATED:20240305T182925Z
LAST-MODIFIED:20240826T200359Z
UID:4907-1715162400-1715187600@grandviewchristianschool.org
SUMMARY:V/B Golf Sectionals @ Lynnville-Sully
DESCRIPTION:
URL:https://grandviewchristianschool.org/event/v-b-golf-sectionals-lynnville-sully/
LOCATION:IA
CATEGORIES:HS Golf,Master Calendar
END:VEVENT
BEGIN:VEVENT
DTSTART;TZID=America/Chicago:20240506T090000
DTEND;TZID=America/Chicago:20240506T130000
DTSTAMP:20260425T203055
CREATED:20240423T170041Z
LAST-MODIFIED:20240826T200358Z
UID:5045-1714986000-1715000400@grandviewchristianschool.org
SUMMARY:V/B Golf @ Greene County
DESCRIPTION:
URL:https://grandviewchristianschool.org/event/v-b-golf-greene-county-2/
LOCATION:Jefferson Community Golf Course\, 501 W Greenwood Rd\, Jefferson\, IA\, 50129\, United States
CATEGORIES:HS Golf,Master Calendar
END:VEVENT
BEGIN:VEVENT
DTSTART;TZID=America/Chicago:20240502T160000
DTEND;TZID=America/Chicago:20240502T190000
DTSTAMP:20260425T203055
CREATED:20240305T182842Z
LAST-MODIFIED:20240826T200357Z
UID:4904-1714665600-1714676400@grandviewchristianschool.org
SUMMARY:JV/V G/B Golf @ Earlham
DESCRIPTION:
URL:https://grandviewchristianschool.org/event/jv-v-g-b-golf-earlham/
LOCATION:5 X 80 Golf & Country Club\, 1086 IA-25\, Menlo\, IA\, 50164\, United States
CATEGORIES:HS Golf,Master Calendar
END:VEVENT
BEGIN:VEVENT
DTSTART;TZID=America/Chicago:20240430T160000
DTEND;TZID=America/Chicago:20240430T190000
DTSTAMP:20260425T203055
CREATED:20240305T182658Z
LAST-MODIFIED:20240826T200357Z
UID:4901-1714492800-1714503600@grandviewchristianschool.org
SUMMARY:JV/V G/B Golf @ BGM\, Victor
DESCRIPTION:
URL:https://grandviewchristianschool.org/event/jv-v-g-b-golf-bgm-victor/
LOCATION:Brooklyn-Victor Country Club\, 2074 Old 6 Rd\, Brooklyn\, IA\, 52211\, United States
CATEGORIES:HS Golf,Master Calendar
END:VEVENT
BEGIN:VEVENT
DTSTART;TZID=America/Chicago:20240423T160000
DTEND;TZID=America/Chicago:20240423T190000
DTSTAMP:20260425T203055
CREATED:20240305T182334Z
LAST-MODIFIED:20240826T200356Z
UID:4898-1713888000-1713898800@grandviewchristianschool.org
SUMMARY:JV?/V G/B Golf @ CAM\, Anita
DESCRIPTION:JV not for sure
URL:https://grandviewchristianschool.org/event/jv-v-g-b-golf-cam-anita/
LOCATION:Crestwood Hills Golf Course\, 1101 Hillcrest Dr\, Anita\, IA\, 50020\, United States
CATEGORIES:HS Golf,Master Calendar
END:VEVENT
BEGIN:VEVENT
DTSTART;TZID=America/Chicago:20240422T130000
DTEND;TZID=America/Chicago:20240422T170000
DTSTAMP:20260425T203055
CREATED:20240305T182057Z
LAST-MODIFIED:20240826T200359Z
UID:4895-1713790800-1713805200@grandviewchristianschool.org
SUMMARY:V/B Golf @ PCM Invite
DESCRIPTION:
URL:https://grandviewchristianschool.org/event/v-b-golf-pcm-invite/
LOCATION:Gateway Recreation Golf Course\, 111 Taylor St\, Monroe\, IA\, 50170\, United States
CATEGORIES:HS Golf,Master Calendar
END:VEVENT
BEGIN:VEVENT
DTSTART;TZID=America/Chicago:20240418T130000
DTEND;TZID=America/Chicago:20240418T173000
DTSTAMP:20260425T203055
CREATED:20240305T181816Z
LAST-MODIFIED:20250421T151450Z
UID:4892-1713445200-1713461400@grandviewchristianschool.org
SUMMARY:V/G Golf @ Roland-Story
DESCRIPTION:18 holes
URL:https://grandviewchristianschool.org/event/v-g-golf-roland-story/
LOCATION:Riverbend Golf Course\, 720 Forest Ave\, Story City\, IA\, 50248\, United States
CATEGORIES:HS Golf,Master Calendar
END:VEVENT
BEGIN:VEVENT
DTSTART;TZID=America/Chicago:20240416T163000
DTEND;TZID=America/Chicago:20240416T193000
DTSTAMP:20260425T203055
CREATED:20240305T181608Z
LAST-MODIFIED:20240826T200357Z
UID:4889-1713285000-1713295800@grandviewchristianschool.org
SUMMARY:JV/V G/B Golf @ Colfax-Mingo
DESCRIPTION:
URL:https://grandviewchristianschool.org/event/jv-v-g-b-golf-colfax-mingo/
LOCATION:Colfax Country Club\, 3761 W 108th St S\, Colfax\, IA\, 50054\, United States
CATEGORIES:HS Golf,Master Calendar
END:VEVENT
BEGIN:VEVENT
DTSTART;TZID=America/Chicago:20240413T090000
DTEND;TZID=America/Chicago:20240413T170000
DTSTAMP:20260425T203055
CREATED:20240305T181408Z
LAST-MODIFIED:20240826T200358Z
UID:4887-1712998800-1713027600@grandviewchristianschool.org
SUMMARY:V/B Golf @ Greene County
DESCRIPTION:18 holes at Jefferson Community Golf Course and The Hill Golf Course
URL:https://grandviewchristianschool.org/event/v-b-golf-greene-county/
LOCATION:IA
CATEGORIES:HS Golf,Master Calendar
END:VEVENT
BEGIN:VEVENT
DTSTART;TZID=America/Chicago:20240408T160000
DTEND;TZID=America/Chicago:20240408T190000
DTSTAMP:20260425T203055
CREATED:20240305T181249Z
LAST-MODIFIED:20240826T200357Z
UID:4884-1712592000-1712602800@grandviewchristianschool.org
SUMMARY:JV/V G/B Golf @ West Marshall
DESCRIPTION:
URL:https://grandviewchristianschool.org/event/jv-v-g-b-golf-west-marshall/
LOCATION:Lincoln Valley Golf Course\, 1538 235th St\, State Center\, IA\, 50247\, United States
CATEGORIES:HS Golf,Master Calendar
END:VEVENT
BEGIN:VEVENT
DTSTART;TZID=America/Chicago:20240404T100000
DTEND;TZID=America/Chicago:20240404T170000
DTSTAMP:20260425T203055
CREATED:20240305T180923Z
LAST-MODIFIED:20240826T200358Z
UID:4882-1712224800-1712250000@grandviewchristianschool.org
SUMMARY:V G/B Golf @ Nevada Coed Invitational
DESCRIPTION:
URL:https://grandviewchristianschool.org/event/v-g-b-golf-nevada-coed-invitational/
LOCATION:Indian Creek Country Club\, 63012 260th St\, Nevada\, IA\, 50201\, United States
CATEGORIES:HS Golf,Master Calendar
END:VEVENT
BEGIN:VEVENT
DTSTART;TZID=America/Chicago:20240401T160000
DTEND;TZID=America/Chicago:20240401T190000
DTSTAMP:20260425T203055
CREATED:20240305T180548Z
LAST-MODIFIED:20240826T200355Z
UID:4875-1711987200-1711998000@grandviewchristianschool.org
SUMMARY:*Canceled V G/B Golf @ Saydel
DESCRIPTION:
URL:https://grandviewchristianschool.org/event/v-g-b-golf-saydel-meet/
LOCATION:Woodland Hills Golf Course\, 620 NE 66th Ave\, Des Moines\, IA\, 50313\, United States
CATEGORIES:HS Golf,Master Calendar
END:VEVENT
BEGIN:VEVENT
DTSTART;TZID=America/Chicago:20240401T160000
DTEND;TZID=America/Chicago:20240401T183000
DTSTAMP:20260425T203055
CREATED:20240305T180753Z
LAST-MODIFIED:20240826T200356Z
UID:4878-1711987200-1711996200@grandviewchristianschool.org
SUMMARY:JV/B Golf @ Nevada
DESCRIPTION:
URL:https://grandviewchristianschool.org/event/jv-b-golf-nevada/
LOCATION:Indian Creek Country Club\, 63012 260th St\, Nevada\, IA\, 50201\, United States
CATEGORIES:HS Golf,Master Calendar
END:VEVENT
END:VCALENDAR