BEGIN:VCALENDAR
VERSION:2.0
PRODID:-//Grand View Christian School - Des Moines, IA - ECPv6.15.13.1//NONSGML v1.0//EN
CALSCALE:GREGORIAN
METHOD:PUBLISH
X-ORIGINAL-URL:https://grandviewchristianschool.org
X-WR-CALDESC:Events for Grand View Christian School - Des Moines, IA
REFRESH-INTERVAL;VALUE=DURATION:PT1H
X-Robots-Tag:noindex
X-PUBLISHED-TTL:PT1H
BEGIN:VTIMEZONE
TZID:America/Chicago
BEGIN:DAYLIGHT
TZOFFSETFROM:-0600
TZOFFSETTO:-0500
TZNAME:CDT
DTSTART:20230312T080000
END:DAYLIGHT
BEGIN:STANDARD
TZOFFSETFROM:-0500
TZOFFSETTO:-0600
TZNAME:CST
DTSTART:20231105T070000
END:STANDARD
BEGIN:DAYLIGHT
TZOFFSETFROM:-0600
TZOFFSETTO:-0500
TZNAME:CDT
DTSTART:20240310T080000
END:DAYLIGHT
BEGIN:STANDARD
TZOFFSETFROM:-0500
TZOFFSETTO:-0600
TZNAME:CST
DTSTART:20241103T070000
END:STANDARD
BEGIN:DAYLIGHT
TZOFFSETFROM:-0600
TZOFFSETTO:-0500
TZNAME:CDT
DTSTART:20250309T080000
END:DAYLIGHT
BEGIN:STANDARD
TZOFFSETFROM:-0500
TZOFFSETTO:-0600
TZNAME:CST
DTSTART:20251102T070000
END:STANDARD
BEGIN:DAYLIGHT
TZOFFSETFROM:-0600
TZOFFSETTO:-0500
TZNAME:CDT
DTSTART:20260308T080000
END:DAYLIGHT
BEGIN:STANDARD
TZOFFSETFROM:-0500
TZOFFSETTO:-0600
TZNAME:CST
DTSTART:20261101T070000
END:STANDARD
END:VTIMEZONE
BEGIN:VEVENT
DTSTART;TZID=America/Chicago:20250521T190000
DTEND;TZID=America/Chicago:20250521T203000
DTSTAMP:20260425T203953
CREATED:20250227T194308Z
LAST-MODIFIED:20250227T194308Z
UID:7039-1747854000-1747859400@grandviewchristianschool.org
SUMMARY:V/G Soccer Regionals
DESCRIPTION:TBA
URL:https://grandviewchristianschool.org/event/v-g-soccer-regionals/
LOCATION:IA
CATEGORIES:HS Girls Soccer
END:VEVENT
BEGIN:VEVENT
DTSTART;TZID=America/Chicago:20250515T170000
DTEND;TZID=America/Chicago:20250515T200000
DTSTAMP:20260425T203953
CREATED:20250227T194146Z
LAST-MODIFIED:20250227T194146Z
UID:7035-1747328400-1747339200@grandviewchristianschool.org
SUMMARY:JV/V Girls Soccer (H) DSM East
DESCRIPTION:V – 5:00; JV -6:30
URL:https://grandviewchristianschool.org/event/jv-v-girls-soccer-h-dsm-east/
LOCATION:Cownie Soccer Complex\, 2600 Hartford Ave\, Des Moines\, IA\, 50320\, United States
CATEGORIES:HS Girls Soccer
END:VEVENT
BEGIN:VEVENT
DTSTART;TZID=America/Chicago:20250512T170000
DTEND;TZID=America/Chicago:20250512T203000
DTSTAMP:20260425T203953
CREATED:20250227T194031Z
LAST-MODIFIED:20250227T194031Z
UID:7033-1747069200-1747081800@grandviewchristianschool.org
SUMMARY:V G/B Soccer (H) Albia
DESCRIPTION:Girls – 5:00; Boys – 7:00
URL:https://grandviewchristianschool.org/event/v-g-b-soccer-h-albia/
LOCATION:Cownie Soccer Complex\, 2600 Hartford Ave\, Des Moines\, IA\, 50320\, United States
CATEGORIES:HS Boys Soccer,HS Girls Soccer
END:VEVENT
BEGIN:VEVENT
DTSTART;TZID=America/Chicago:20250508T170000
DTEND;TZID=America/Chicago:20250508T200000
DTSTAMP:20260425T203953
CREATED:20250227T193740Z
LAST-MODIFIED:20250227T193740Z
UID:7028-1746723600-1746734400@grandviewchristianschool.org
SUMMARY:JV/V Girls Soccer (H) Chariton
DESCRIPTION:V – 5:00; JV – 6:30
URL:https://grandviewchristianschool.org/event/jv-v-girls-soccer-h-chariton/
LOCATION:Cownie Soccer Complex\, 2600 Hartford Ave\, Des Moines\, IA\, 50320\, United States
CATEGORIES:HS Girls Soccer
END:VEVENT
BEGIN:VEVENT
DTSTART;TZID=America/Chicago:20250506T173000
DTEND;TZID=America/Chicago:20250506T203000
DTSTAMP:20260425T203953
CREATED:20250227T193516Z
LAST-MODIFIED:20250505T151706Z
UID:7024-1746552600-1746563400@grandviewchristianschool.org
SUMMARY:JV/V Girls Soccer @ Perry
DESCRIPTION:JV – 5:30; V – 7:00
URL:https://grandviewchristianschool.org/event/jv-v-girls-soccer-perry/
LOCATION:Perry High School\, 1200 18th St\, Perry\, IA\, 50220\, United States
CATEGORIES:HS Girls Soccer
END:VEVENT
BEGIN:VEVENT
DTSTART;TZID=America/Chicago:20250429T170000
DTEND;TZID=America/Chicago:20250429T203000
DTSTAMP:20260425T203953
CREATED:20250227T193345Z
LAST-MODIFIED:20250227T193345Z
UID:7022-1745946000-1745958600@grandviewchristianschool.org
SUMMARY:V G/B Soccer @ Hampton-Dumont-CAL
DESCRIPTION:Girls – 5:00; Boys – 7:00
URL:https://grandviewchristianschool.org/event/v-g-b-soccer-hampton-dumont-cal/
LOCATION:Hampton-Dumont High School\, 101 12th Ave NW\, Hampton\, IA\, 50411\, United States
CATEGORIES:HS Boys Soccer,HS Girls Soccer
END:VEVENT
BEGIN:VEVENT
DTSTART;TZID=America/Chicago:20250428T170000
DTEND;TZID=America/Chicago:20250428T203000
DTSTAMP:20260425T203953
CREATED:20250227T193041Z
LAST-MODIFIED:20250428T134724Z
UID:7020-1745859600-1745872200@grandviewchristianschool.org
SUMMARY:V G/B Soccer (H) Clarke
DESCRIPTION:Girls – 5:00; Boys – 7:00
URL:https://grandviewchristianschool.org/event/v-g-b-soccer-h-clarke/
LOCATION:IA
CATEGORIES:HS Boys Soccer,HS Girls Soccer
END:VEVENT
BEGIN:VEVENT
DTSTART;TZID=America/Chicago:20250424T173000
DTEND;TZID=America/Chicago:20250424T203000
DTSTAMP:20260425T203953
CREATED:20250227T192427Z
LAST-MODIFIED:20250424T174426Z
UID:7018-1745515800-1745526600@grandviewchristianschool.org
SUMMARY:Cancelled - JV/V Boys Soccer (H) Nevada
DESCRIPTION:V – 5:30; JV – 7:00
URL:https://grandviewchristianschool.org/event/jv-v-boys-soccer-h-nevada/
LOCATION:Cownie Soccer Complex\, 2600 Hartford Ave\, Des Moines\, IA\, 50320\, United States
CATEGORIES:HS Girls Soccer
END:VEVENT
BEGIN:VEVENT
DTSTART;TZID=America/Chicago:20250424T173000
DTEND;TZID=America/Chicago:20250424T190000
DTSTAMP:20260425T203953
CREATED:20250227T192024Z
LAST-MODIFIED:20250424T174311Z
UID:7016-1745515800-1745521200@grandviewchristianschool.org
SUMMARY:Cancelled - V Girls Soccer @ Colfax-Mingo
DESCRIPTION:
URL:https://grandviewchristianschool.org/event/v-girls-soccer-colfax-mingo/
LOCATION:Colfax Mingo High School\, 204 N League Rd\, Colfax\, IA\, 50054\, United States
CATEGORIES:HS Girls Soccer
END:VEVENT
BEGIN:VEVENT
DTSTART;TZID=America/Chicago:20250422T170000
DTEND;TZID=America/Chicago:20250422T203000
DTSTAMP:20260425T203953
CREATED:20250227T191229Z
LAST-MODIFIED:20250227T191248Z
UID:7013-1745341200-1745353800@grandviewchristianschool.org
SUMMARY:V G/B Soccer (H) West Central Valley
DESCRIPTION:Girls – 5:00; Boys – 7:00
URL:https://grandviewchristianschool.org/event/v-g-b-soccer-h-west-central-valley/
LOCATION:Cownie Soccer Complex\, 2600 Hartford Ave\, Des Moines\, IA\, 50320\, United States
CATEGORIES:HS Boys Soccer,HS Girls Soccer
END:VEVENT
BEGIN:VEVENT
DTSTART;TZID=America/Chicago:20250415T170000
DTEND;TZID=America/Chicago:20250415T210000
DTSTAMP:20260425T203953
CREATED:20250227T191007Z
LAST-MODIFIED:20250414T152313Z
UID:7009-1744736400-1744750800@grandviewchristianschool.org
SUMMARY:JV/V Girls Soccer (H) Nevada
DESCRIPTION:JV – 5p.m. \nV – 7 p.m.
URL:https://grandviewchristianschool.org/event/jv-v-girls-soccer-h-nevada/
LOCATION:Cownie Soccer Complex\, 2600 Hartford Ave\, Des Moines\, IA\, 50320\, United States
CATEGORIES:HS Girls Soccer
END:VEVENT
BEGIN:VEVENT
DTSTART;TZID=America/Chicago:20250414T170000
DTEND;TZID=America/Chicago:20250414T190000
DTSTAMP:20260425T203953
CREATED:20250227T190256Z
LAST-MODIFIED:20250414T151337Z
UID:7001-1744650000-1744657200@grandviewchristianschool.org
SUMMARY:Varsity Girls Soccer (H) Knoxville
DESCRIPTION:Varsity at 5 p.m.
URL:https://grandviewchristianschool.org/event/jv-v-girls-soccer-h-knoxville/
LOCATION:Cownie Soccer Complex\, 2600 Hartford Ave\, Des Moines\, IA\, 50320\, United States
CATEGORIES:HS Girls Soccer
END:VEVENT
BEGIN:VEVENT
DTSTART;TZID=America/Chicago:20250410T173000
DTEND;TZID=America/Chicago:20250410T203000
DTSTAMP:20260425T203953
CREATED:20250227T190125Z
LAST-MODIFIED:20250227T190140Z
UID:6999-1744306200-1744317000@grandviewchristianschool.org
SUMMARY:JV/V Girls Soccer @ Central Iowa United
DESCRIPTION:JV – 5:30; V – 7:00
URL:https://grandviewchristianschool.org/event/jv-v-girls-soccer-central-iowa-united/
LOCATION:West Marshall High School\, 601 3rd St NW\, State Center\, IA\, 50247\, United States
CATEGORIES:HS Girls Soccer
END:VEVENT
BEGIN:VEVENT
DTSTART;TZID=America/Chicago:20250407T173000
DTEND;TZID=America/Chicago:20250407T210000
DTSTAMP:20260425T203953
CREATED:20250227T185923Z
LAST-MODIFIED:20250227T185923Z
UID:6994-1744047000-1744059600@grandviewchristianschool.org
SUMMARY:V G/B Soccer @ Centerville
DESCRIPTION:Girls – 5:00; Boys – 7:00
URL:https://grandviewchristianschool.org/event/v-g-b-soccer-centerville/
LOCATION:Paul Johnson Field\, 710 W Cottage St\, Centervile\, IA\, 52544\, United States
CATEGORIES:HS Boys Soccer,HS Girls Soccer
END:VEVENT
BEGIN:VEVENT
DTSTART;TZID=America/Chicago:20250403T170000
DTEND;TZID=America/Chicago:20250403T210000
DTSTAMP:20260425T203953
CREATED:20250227T185655Z
LAST-MODIFIED:20250227T185715Z
UID:6992-1743699600-1743714000@grandviewchristianschool.org
SUMMARY:V G/B Soccer (H) AHSTW
DESCRIPTION:Girls – 5:00; Boys – 7:00
URL:https://grandviewchristianschool.org/event/v-g-b-soccer-h-ahstw/
LOCATION:IA
CATEGORIES:HS Boys Soccer,HS Girls Soccer
END:VEVENT
BEGIN:VEVENT
DTSTART;TZID=America/Chicago:20250401T173000
DTEND;TZID=America/Chicago:20250401T203000
DTSTAMP:20260425T203953
CREATED:20250227T185136Z
LAST-MODIFIED:20250227T185154Z
UID:6990-1743528600-1743539400@grandviewchristianschool.org
SUMMARY:JV/V Girls Soccer @ DSM North
DESCRIPTION:JV – 5:30; V – 7:00 \n 
URL:https://grandviewchristianschool.org/event/jv-v-girls-soccer-dsm-north/
LOCATION:North High School\, 501 Holcomb Ave\, Des Moines\, IA\, 50317\, United States
CATEGORIES:HS Girls Soccer
END:VEVENT
BEGIN:VEVENT
DTSTART;TZID=America/Chicago:20250331T170000
DTEND;TZID=America/Chicago:20250331T203000
DTSTAMP:20260425T203953
CREATED:20250227T185007Z
LAST-MODIFIED:20250227T185007Z
UID:6988-1743440400-1743453000@grandviewchristianschool.org
SUMMARY:JV/V Girls Soccer (H) Greene County
DESCRIPTION:V – 5:00; JV – 7:00
URL:https://grandviewchristianschool.org/event/jv-v-girls-soccer-h-greene-county/
LOCATION:Cownie Soccer Complex\, 2600 Hartford Ave\, Des Moines\, IA\, 50320\, United States
CATEGORIES:HS Girls Soccer
END:VEVENT
BEGIN:VEVENT
DTSTART;TZID=America/Chicago:20240515T173000
DTEND;TZID=America/Chicago:20240515T190000
DTSTAMP:20260425T203953
CREATED:20240130T211612Z
LAST-MODIFIED:20240826T195706Z
UID:4223-1715794200-1715799600@grandviewchristianschool.org
SUMMARY:Girls Regional Soccer 1st Round (H) Pella Christian
DESCRIPTION:
URL:https://grandviewchristianschool.org/event/girls-regional-soccer-1st-round/
LOCATION:Cownie Soccer Complex\, 2600 Hartford Ave\, Des Moines\, IA\, 50320\, United States
CATEGORIES:HS Girls Soccer,Master Calendar
END:VEVENT
BEGIN:VEVENT
DTSTART;TZID=America/Chicago:20240506T173000
DTEND;TZID=America/Chicago:20240506T203000
DTSTAMP:20260425T203953
CREATED:20240130T211141Z
LAST-MODIFIED:20240826T195708Z
UID:4219-1715016600-1715027400@grandviewchristianschool.org
SUMMARY:JV/V Girls Soccer @ Albia
DESCRIPTION:V- 5:30; JV- 7:00
URL:https://grandviewchristianschool.org/event/jv-v-girls-soccer-albia/
LOCATION:Albia High School\, 503 B Ave E\, Albia\, IA\, 52531\, United States
CATEGORIES:HS Girls Soccer,Master Calendar
END:VEVENT
BEGIN:VEVENT
DTSTART;TZID=America/Chicago:20240502T170000
DTEND;TZID=America/Chicago:20240502T193000
DTSTAMP:20260425T203953
CREATED:20240130T210728Z
LAST-MODIFIED:20240826T195711Z
UID:4212-1714669200-1714678200@grandviewchristianschool.org
SUMMARY:V/G Soccer @ Chariton
DESCRIPTION:V- 5:00; JV to follow
URL:https://grandviewchristianschool.org/event/v-g-soccer-chariton/
LOCATION:Chariton High School\, 501 N Grand St\, Chariton\, IA\, 50049\, United States
CATEGORIES:HS Girls Soccer,Master Calendar
END:VEVENT
BEGIN:VEVENT
DTSTART;TZID=America/Chicago:20240430T180000
DTEND;TZID=America/Chicago:20240430T220000
DTSTAMP:20260425T203953
CREATED:20240130T210009Z
LAST-MODIFIED:20240826T195710Z
UID:4209-1714500000-1714514400@grandviewchristianschool.org
SUMMARY:V G/B Soccer @ Panorama
DESCRIPTION:V/G- 6:00; V/B- 8:00
URL:https://grandviewchristianschool.org/event/v-g-b-soccer-panorama/
LOCATION:Panorama High School\, 701 W Main St\, Panora\, IA\, 50216\, United States
CATEGORIES:HS Boys Soccer,HS Girls Soccer,Master Calendar
END:VEVENT
BEGIN:VEVENT
DTSTART;TZID=America/Chicago:20240423T170000
DTEND;TZID=America/Chicago:20240423T210000
DTSTAMP:20260425T203953
CREATED:20240130T204854Z
LAST-MODIFIED:20240826T195709Z
UID:4205-1713891600-1713906000@grandviewchristianschool.org
SUMMARY:V G/B Soccer (H) vs Hampton-Dumont-Cal
DESCRIPTION:V/G- 5:00; V/B- 7:00
URL:https://grandviewchristianschool.org/event/v-g-b-soccer-h-vs-hampton-dumont-cal/
LOCATION:Cownie Soccer Complex\, 2600 Hartford Ave\, Des Moines\, IA\, 50320\, United States
CATEGORIES:HS Boys Soccer,HS Girls Soccer,Master Calendar
END:VEVENT
BEGIN:VEVENT
DTSTART;TZID=America/Chicago:20240422T173000
DTEND;TZID=America/Chicago:20240422T203000
DTSTAMP:20260425T203953
CREATED:20240130T204503Z
LAST-MODIFIED:20240826T195708Z
UID:4203-1713807000-1713817800@grandviewchristianschool.org
SUMMARY:JV/V Girls Soccer (H) DSM North
DESCRIPTION:V- 5:30; JV- 7:00 \nSENIOR NIGHT FOR GIRLS SOCCER & TRACK
URL:https://grandviewchristianschool.org/event/jv-v-girls-soccer-h-dsm-north/
LOCATION:Cownie Soccer Complex\, 2600 Hartford Ave\, Des Moines\, IA\, 50320\, United States
CATEGORIES:HS Girls Soccer,Master Calendar
END:VEVENT
BEGIN:VEVENT
DTSTART;TZID=America/Chicago:20240418T170000
DTEND;TZID=America/Chicago:20240418T183000
DTSTAMP:20260425T203953
CREATED:20240130T203002Z
LAST-MODIFIED:20240826T195710Z
UID:4192-1713459600-1713465000@grandviewchristianschool.org
SUMMARY:V/G Soccer (H) vs DMC
DESCRIPTION:
URL:https://grandviewchristianschool.org/event/v-g-soccer-h-vs-dmc/
LOCATION:Cownie Soccer Complex\, 2600 Hartford Ave\, Des Moines\, IA\, 50320\, United States
CATEGORIES:HS Girls Soccer,Master Calendar
END:VEVENT
BEGIN:VEVENT
DTSTART;TZID=America/Chicago:20240415T170000
DTEND;TZID=America/Chicago:20240415T183000
DTSTAMP:20260425T203953
CREATED:20240130T202721Z
LAST-MODIFIED:20240826T195710Z
UID:4187-1713200400-1713205800@grandviewchristianschool.org
SUMMARY:V/G Soccer (H) vs West Central Valley
DESCRIPTION:
URL:https://grandviewchristianschool.org/event/v-g-soccer-h-vs-west-central-valley/
LOCATION:Cownie Soccer Complex\, 2600 Hartford Ave\, Des Moines\, IA\, 50320\, United States
CATEGORIES:HS Girls Soccer,Master Calendar
END:VEVENT
BEGIN:VEVENT
DTSTART;TZID=America/Chicago:20240409T173000
DTEND;TZID=America/Chicago:20240409T210000
DTSTAMP:20260425T203953
CREATED:20240130T195413Z
LAST-MODIFIED:20240826T195709Z
UID:4177-1712683800-1712696400@grandviewchristianschool.org
SUMMARY:JV/V Girls Soccer @ Nevada
DESCRIPTION:JV- 5:30; V- 7:00
URL:https://grandviewchristianschool.org/event/jv-v-girls-soccer-nevada/
LOCATION:Nevade SCORE Recreation Complex\, 1545 Fawcett Pkwy\, Nevada\, IA\, 50201\, United States
CATEGORIES:HS Girls Soccer,Master Calendar
END:VEVENT
BEGIN:VEVENT
DTSTART;TZID=America/Chicago:20240408T173000
DTEND;TZID=America/Chicago:20240408T183000
DTSTAMP:20260425T203953
CREATED:20240130T195017Z
LAST-MODIFIED:20240826T195711Z
UID:4174-1712597400-1712601000@grandviewchristianschool.org
SUMMARY:V/G Soccer @ Knoxville
DESCRIPTION:
URL:https://grandviewchristianschool.org/event/v-g-soccer-knoxville/
LOCATION:Randy Wilson Track\, Panther Drive\, Knoxville\, IA\, 50138\, United States
CATEGORIES:HS Girls Soccer,Master Calendar
END:VEVENT
BEGIN:VEVENT
DTSTART;TZID=America/Chicago:20240404T170000
DTEND;TZID=America/Chicago:20240404T203000
DTSTAMP:20260425T203953
CREATED:20240305T175641Z
LAST-MODIFIED:20240826T195708Z
UID:4862-1712250000-1712262600@grandviewchristianschool.org
SUMMARY:JV/V Girls Soccer (H) West Marshall
DESCRIPTION:V: 5:00; JV: 7:00
URL:https://grandviewchristianschool.org/event/jv-v-girls-soccer-h-west-marshall/
LOCATION:Cownie Soccer Complex\, 2600 Hartford Ave\, Des Moines\, IA\, 50320\, United States
CATEGORIES:HS Girls Soccer,Master Calendar
END:VEVENT
BEGIN:VEVENT
DTSTART;TZID=America/Chicago:20240401T163000
DTEND;TZID=America/Chicago:20240401T180000
DTSTAMP:20260425T203953
CREATED:20240322T211634Z
LAST-MODIFIED:20240826T195710Z
UID:4964-1711989000-1711994400@grandviewchristianschool.org
SUMMARY:V/G Soccer (H) Lamoni
DESCRIPTION:
URL:https://grandviewchristianschool.org/event/v-g-soccer-h-lamoni/
LOCATION:IA
CATEGORIES:HS Girls Soccer,Master Calendar
END:VEVENT
BEGIN:VEVENT
DTSTART;TZID=America/Chicago:20240328T170000
DTEND;TZID=America/Chicago:20240328T210000
DTSTAMP:20260425T203953
CREATED:20240130T191854Z
LAST-MODIFIED:20240826T195710Z
UID:4156-1711645200-1711659600@grandviewchristianschool.org
SUMMARY:V G/B Soccer @ AHSTW\, Avoca
DESCRIPTION:V/G- 5:00; V/B- 7:00
URL:https://grandviewchristianschool.org/event/v-g-b-soccer-ahstw-avoca/
LOCATION:AHSTW Community School\, 768 S Maple St\, Avoca\, IA\, 51521\, United States
CATEGORIES:HS Boys Soccer,HS Girls Soccer,Master Calendar
END:VEVENT
BEGIN:VEVENT
DTSTART;TZID=America/Chicago:20240326T173000
DTEND;TZID=America/Chicago:20240326T203000
DTSTAMP:20260425T203953
CREATED:20240130T191402Z
LAST-MODIFIED:20240826T195709Z
UID:4152-1711474200-1711485000@grandviewchristianschool.org
SUMMARY:JV/V Girls Soccer @ Greene County
DESCRIPTION:JV- 5:30; V- approx 6:30-6:45
URL:https://grandviewchristianschool.org/event/jv-v-girls-soccer-greene-county/
LOCATION:Greene County Middle School\, 101 Ram Drive\, Jefferson\, IA\, 50129\, United States
CATEGORIES:HS Girls Soccer,Master Calendar
END:VEVENT
END:VCALENDAR