BEGIN:VCALENDAR
VERSION:2.0
PRODID:-//Grand View Christian School - Des Moines, IA - ECPv6.15.13.1//NONSGML v1.0//EN
CALSCALE:GREGORIAN
METHOD:PUBLISH
X-WR-CALNAME:Grand View Christian School - Des Moines, IA
X-ORIGINAL-URL:https://grandviewchristianschool.org
X-WR-CALDESC:Events for Grand View Christian School - Des Moines, IA
REFRESH-INTERVAL;VALUE=DURATION:PT1H
X-Robots-Tag:noindex
X-PUBLISHED-TTL:PT1H
BEGIN:VTIMEZONE
TZID:America/Chicago
BEGIN:DAYLIGHT
TZOFFSETFROM:-0600
TZOFFSETTO:-0500
TZNAME:CDT
DTSTART:20230312T080000
END:DAYLIGHT
BEGIN:STANDARD
TZOFFSETFROM:-0500
TZOFFSETTO:-0600
TZNAME:CST
DTSTART:20231105T070000
END:STANDARD
BEGIN:DAYLIGHT
TZOFFSETFROM:-0600
TZOFFSETTO:-0500
TZNAME:CDT
DTSTART:20240310T080000
END:DAYLIGHT
BEGIN:STANDARD
TZOFFSETFROM:-0500
TZOFFSETTO:-0600
TZNAME:CST
DTSTART:20241103T070000
END:STANDARD
BEGIN:DAYLIGHT
TZOFFSETFROM:-0600
TZOFFSETTO:-0500
TZNAME:CDT
DTSTART:20250309T080000
END:DAYLIGHT
BEGIN:STANDARD
TZOFFSETFROM:-0500
TZOFFSETTO:-0600
TZNAME:CST
DTSTART:20251102T070000
END:STANDARD
END:VTIMEZONE
BEGIN:VEVENT
DTSTART;TZID=America/Chicago:20240627T100000
DTEND;TZID=America/Chicago:20240627T130000
DTSTAMP:20260425T203710
CREATED:20240503T135834Z
LAST-MODIFIED:20240826T201333Z
UID:5133-1719482400-1719493200@grandviewchristianschool.org
SUMMARY:JH Baseball @ Bondurant
DESCRIPTION:2 games
URL:https://grandviewchristianschool.org/event/jh-baseball-bondurant/
LOCATION:Bondurant-Farrar Middle School\, 300 Garfield St SW\, Bondurant\, IA\, 50035\, United States
CATEGORIES:JH Baseball,Master Calendar
END:VEVENT
BEGIN:VEVENT
DTSTART;TZID=America/Chicago:20240626T100000
DTEND;TZID=America/Chicago:20240626T130000
DTSTAMP:20260425T203710
CREATED:20240503T135559Z
LAST-MODIFIED:20240826T201338Z
UID:5130-1719396000-1719406800@grandviewchristianschool.org
SUMMARY:JH Baseball @ Colo-Nesco
DESCRIPTION:2 games
URL:https://grandviewchristianschool.org/event/jh-baseball-colo-nesco/
LOCATION:Colo-Nesco Elementary School- Duane Newton Field\, 407 N Center St\, Zearing\, IA\, 50278\, United States
CATEGORIES:JH Baseball,Master Calendar
END:VEVENT
BEGIN:VEVENT
DTSTART;TZID=America/Chicago:20240624T100000
DTEND;TZID=America/Chicago:20240624T130000
DTSTAMP:20260425T203710
CREATED:20240503T134935Z
LAST-MODIFIED:20240826T201335Z
UID:5126-1719223200-1719234000@grandviewchristianschool.org
SUMMARY:JH Baseball @ Collins-Maxwell
DESCRIPTION:2 games
URL:https://grandviewchristianschool.org/event/jh-baseball-collins-maxwell/
LOCATION:Collins City Park\, Collins\, IA\, United States
CATEGORIES:JH Baseball,Master Calendar
END:VEVENT
BEGIN:VEVENT
DTSTART;TZID=America/Chicago:20240621T090000
DTEND;TZID=America/Chicago:20240621T120000
DTSTAMP:20260425T203710
CREATED:20240503T134517Z
LAST-MODIFIED:20240826T201325Z
UID:5124-1718960400-1718971200@grandviewchristianschool.org
SUMMARY:JH Baseball (H) PCM
DESCRIPTION:2 games
URL:https://grandviewchristianschool.org/event/jh-baseball-h-pcm/
LOCATION:Grand View Little League\, 4381 NE 38th St\, Des Moines\, IA\, 50317\, United States
CATEGORIES:JH Baseball,Master Calendar
END:VEVENT
BEGIN:VEVENT
DTSTART;TZID=America/Chicago:20240620T100000
DTEND;TZID=America/Chicago:20240620T130000
DTSTAMP:20260425T203710
CREATED:20240503T134241Z
LAST-MODIFIED:20240826T201331Z
UID:5122-1718877600-1718888400@grandviewchristianschool.org
SUMMARY:JH Baseball @ Baxter
DESCRIPTION:2 games
URL:https://grandviewchristianschool.org/event/jh-baseball-baxter/
LOCATION:Baxter- Seales Sports Complex\, 309 W Station St\, Baxter\, IA\, 50028\, United States
CATEGORIES:JH Baseball,Master Calendar
END:VEVENT
BEGIN:VEVENT
DTSTART;TZID=America/Chicago:20240619T090000
DTEND;TZID=America/Chicago:20240619T120000
DTSTAMP:20260425T203710
CREATED:20240503T133625Z
LAST-MODIFIED:20240826T201321Z
UID:5120-1718787600-1718798400@grandviewchristianschool.org
SUMMARY:JH Baseball (H) Collins-Maxwell
DESCRIPTION:2 games
URL:https://grandviewchristianschool.org/event/jh-baseball-h-collins-maxwell/
LOCATION:Grand View Little League\, 4381 NE 38th St\, Des Moines\, IA\, 50317\, United States
CATEGORIES:JH Baseball,Master Calendar
END:VEVENT
BEGIN:VEVENT
DTSTART;TZID=America/Chicago:20240618T090000
DTEND;TZID=America/Chicago:20240618T120000
DTSTAMP:20260425T203710
CREATED:20240503T133414Z
LAST-MODIFIED:20240826T201317Z
UID:5118-1718701200-1718712000@grandviewchristianschool.org
SUMMARY:JH Baseball (H) Chariton
DESCRIPTION:2 games
URL:https://grandviewchristianschool.org/event/jh-baseball-h-chariton/
LOCATION:Grand View Little League\, 4381 NE 38th St\, Des Moines\, IA\, 50317\, United States
CATEGORIES:JH Baseball,Master Calendar
END:VEVENT
BEGIN:VEVENT
DTSTART;TZID=America/Chicago:20240613T090000
DTEND;TZID=America/Chicago:20240613T120000
DTSTAMP:20260425T203710
CREATED:20240503T132930Z
LAST-MODIFIED:20240826T201310Z
UID:5116-1718269200-1718280000@grandviewchristianschool.org
SUMMARY:JH Baseball (H) Bondurant
DESCRIPTION:2 games
URL:https://grandviewchristianschool.org/event/jh-baseball-h-bondurant/
LOCATION:Grand View Little League\, 4381 NE 38th St\, Des Moines\, IA\, 50317\, United States
CATEGORIES:JH Baseball,Master Calendar
END:VEVENT
BEGIN:VEVENT
DTSTART;TZID=America/Chicago:20240612T090000
DTEND;TZID=America/Chicago:20240612T120000
DTSTAMP:20260425T203710
CREATED:20240503T132444Z
LAST-MODIFIED:20240826T201318Z
UID:5112-1718182800-1718193600@grandviewchristianschool.org
SUMMARY:JH Baseball (H) Colfax-Mingo
DESCRIPTION:2 games
URL:https://grandviewchristianschool.org/event/jh-baseball-h-colfax-mingo/
LOCATION:Grand View Little League\, 4381 NE 38th St\, Des Moines\, IA\, 50317\, United States
CATEGORIES:JH Baseball,Master Calendar
END:VEVENT
BEGIN:VEVENT
DTSTART;TZID=America/Chicago:20240611T100000
DTEND;TZID=America/Chicago:20240611T130000
DTSTAMP:20260425T203710
CREATED:20240503T132251Z
LAST-MODIFIED:20240826T201340Z
UID:5110-1718100000-1718110800@grandviewchristianschool.org
SUMMARY:JH Baseball @ Martensdale-St.Marys
DESCRIPTION:2 games
URL:https://grandviewchristianschool.org/event/jh-baseball-martensdale-st-marys/
LOCATION:Martensdale-St. Marys Baseball Field\, E Iowa St\, Saint Marys\, IA\, 50241\, United States
CATEGORIES:JH Baseball,Master Calendar
END:VEVENT
BEGIN:VEVENT
DTSTART;TZID=America/Chicago:20240610T090000
DTEND;TZID=America/Chicago:20240610T120000
DTSTAMP:20260425T203710
CREATED:20240503T132634Z
LAST-MODIFIED:20240826T201327Z
UID:5114-1718010000-1718020800@grandviewchristianschool.org
SUMMARY:JH Baseball (H) Pella Christian
DESCRIPTION:2 games
URL:https://grandviewchristianschool.org/event/jh-baseball-h-pella-christian/
LOCATION:Grand View Little League\, 4381 NE 38th St\, Des Moines\, IA\, 50317\, United States
CATEGORIES:JH Baseball,Master Calendar
END:VEVENT
BEGIN:VEVENT
DTSTART;TZID=America/Chicago:20240604T090000
DTEND;TZID=America/Chicago:20240604T120000
DTSTAMP:20260425T203710
CREATED:20240503T130824Z
LAST-MODIFIED:20240826T201341Z
UID:5108-1717491600-1717502400@grandviewchristianschool.org
SUMMARY:JH Baseball @ Ogden
DESCRIPTION:2 games
URL:https://grandviewchristianschool.org/event/jh-baseball-ogden/
LOCATION:Ogden High School\, 732 W Division St\, Ogden\, IA\, 50212\, United States
CATEGORIES:JH Baseball,Master Calendar
END:VEVENT
BEGIN:VEVENT
DTSTART;TZID=America/Chicago:20240603T090000
DTEND;TZID=America/Chicago:20240603T120000
DTSTAMP:20260425T203710
CREATED:20240503T130001Z
LAST-MODIFIED:20240826T201323Z
UID:5106-1717405200-1717416000@grandviewchristianschool.org
SUMMARY:JH Baseball (H) Lynnville-Sully
DESCRIPTION:2 games
URL:https://grandviewchristianschool.org/event/jh-baseball-h-lynnville-sully/
LOCATION:Grand View Little League\, 4381 NE 38th St\, Des Moines\, IA\, 50317\, United States
CATEGORIES:JH Baseball,Master Calendar
END:VEVENT
BEGIN:VEVENT
DTSTART;TZID=America/Chicago:20240531T090000
DTEND;TZID=America/Chicago:20240531T130000
DTSTAMP:20260425T203710
CREATED:20240503T125737Z
LAST-MODIFIED:20240826T201329Z
UID:5104-1717146000-1717160400@grandviewchristianschool.org
SUMMARY:JH Baseball (H) SE Warren
DESCRIPTION:2 games
URL:https://grandviewchristianschool.org/event/jh-baseball-h-se-warren/
LOCATION:Grand View Little League\, 4381 NE 38th St\, Des Moines\, IA\, 50317\, United States
CATEGORIES:JH Baseball,Master Calendar
END:VEVENT
END:VCALENDAR