BEGIN:VCALENDAR
VERSION:2.0
PRODID:-//Grand View Christian School - Des Moines, IA - ECPv6.15.13.1//NONSGML v1.0//EN
CALSCALE:GREGORIAN
METHOD:PUBLISH
X-ORIGINAL-URL:https://grandviewchristianschool.org
X-WR-CALDESC:Events for Grand View Christian School - Des Moines, IA
REFRESH-INTERVAL;VALUE=DURATION:PT1H
X-Robots-Tag:noindex
X-PUBLISHED-TTL:PT1H
BEGIN:VTIMEZONE
TZID:America/Chicago
BEGIN:DAYLIGHT
TZOFFSETFROM:-0600
TZOFFSETTO:-0500
TZNAME:CDT
DTSTART:20230312T080000
END:DAYLIGHT
BEGIN:STANDARD
TZOFFSETFROM:-0500
TZOFFSETTO:-0600
TZNAME:CST
DTSTART:20231105T070000
END:STANDARD
BEGIN:DAYLIGHT
TZOFFSETFROM:-0600
TZOFFSETTO:-0500
TZNAME:CDT
DTSTART:20240310T080000
END:DAYLIGHT
BEGIN:STANDARD
TZOFFSETFROM:-0500
TZOFFSETTO:-0600
TZNAME:CST
DTSTART:20241103T070000
END:STANDARD
BEGIN:DAYLIGHT
TZOFFSETFROM:-0600
TZOFFSETTO:-0500
TZNAME:CDT
DTSTART:20250309T080000
END:DAYLIGHT
BEGIN:STANDARD
TZOFFSETFROM:-0500
TZOFFSETTO:-0600
TZNAME:CST
DTSTART:20251102T070000
END:STANDARD
BEGIN:DAYLIGHT
TZOFFSETFROM:-0600
TZOFFSETTO:-0500
TZNAME:CDT
DTSTART:20260308T080000
END:DAYLIGHT
BEGIN:STANDARD
TZOFFSETFROM:-0500
TZOFFSETTO:-0600
TZNAME:CST
DTSTART:20261101T070000
END:STANDARD
END:VTIMEZONE
BEGIN:VEVENT
DTSTART;TZID=America/Chicago:20250220T163000
DTEND;TZID=America/Chicago:20250220T183000
DTSTAMP:20260425T205425
CREATED:20250109T221600Z
LAST-MODIFIED:20250109T221600Z
UID:6687-1740069000-1740076200@grandviewchristianschool.org
SUMMARY:7th Boys Basketball (H) PCM
DESCRIPTION:
URL:https://grandviewchristianschool.org/event/7th-boys-basketball-h-pcm/
LOCATION:GVCS High School\, 1701 E 33rd St\, Des Moines\, IA\, 50317\, United States
CATEGORIES:JH Boys Basketball
END:VEVENT
BEGIN:VEVENT
DTSTART;TZID=America/Chicago:20250213T163000
DTEND;TZID=America/Chicago:20250213T183000
DTSTAMP:20260425T205425
CREATED:20250109T220714Z
LAST-MODIFIED:20250109T220731Z
UID:6682-1739464200-1739471400@grandviewchristianschool.org
SUMMARY:7th Boys Basketball @ Greene County
DESCRIPTION:
URL:https://grandviewchristianschool.org/event/7th-boys-basketball-greene-county/
LOCATION:Greene County Middle School\, 101 Ram Drive\, Jefferson\, IA\, 50129\, United States
CATEGORIES:JH Boys Basketball
END:VEVENT
BEGIN:VEVENT
DTSTART;TZID=America/Chicago:20250213T163000
DTEND;TZID=America/Chicago:20250213T183000
DTSTAMP:20260425T205425
CREATED:20250109T220525Z
LAST-MODIFIED:20250213T143141Z
UID:6680-1739464200-1739471400@grandviewchristianschool.org
SUMMARY:8th Boys Basketball (H) Greene County
DESCRIPTION:
URL:https://grandviewchristianschool.org/event/8th-boys-basketball-h-greene-county/
LOCATION:GVCS High School\, 1701 E 33rd St\, Des Moines\, IA\, 50317\, United States
CATEGORIES:JH Boys Basketball
END:VEVENT
BEGIN:VEVENT
DTSTART;TZID=America/Chicago:20250211T161500
DTEND;TZID=America/Chicago:20250211T190000
DTSTAMP:20260425T205425
CREATED:20250109T220048Z
LAST-MODIFIED:20250210T154247Z
UID:6676-1739290500-1739300400@grandviewchristianschool.org
SUMMARY:7th/8th Boys Basketball @ ACA
DESCRIPTION:3 games
URL:https://grandviewchristianschool.org/event/7th-8th-boys-basketball-aca/
LOCATION:Ankeny Christian Academy\, 1604 W. 1st st\, Ankeny\, IA\, 50023\, United States
CATEGORIES:JH Boys Basketball
END:VEVENT
BEGIN:VEVENT
DTSTART;TZID=America/Chicago:20250206T163000
DTEND;TZID=America/Chicago:20250206T183000
DTSTAMP:20260425T205425
CREATED:20250109T215608Z
LAST-MODIFIED:20250109T215608Z
UID:6672-1738859400-1738866600@grandviewchristianschool.org
SUMMARY:7th Boys Basketball @ Nevada
DESCRIPTION:
URL:https://grandviewchristianschool.org/event/7th-boys-basketball-nevada/
LOCATION:Nevada Middle School\, 1035 15th St\, Nevada\, IA\, United States
CATEGORIES:JH Boys Basketball
END:VEVENT
BEGIN:VEVENT
DTSTART;TZID=America/Chicago:20250206T163000
DTEND;TZID=America/Chicago:20250206T183000
DTSTAMP:20260425T205425
CREATED:20250109T215924Z
LAST-MODIFIED:20250109T215924Z
UID:6674-1738859400-1738866600@grandviewchristianschool.org
SUMMARY:8th Boys Basketball (H) Nevada
DESCRIPTION:
URL:https://grandviewchristianschool.org/event/8th-boys-basketball-h-nevada/
LOCATION:GVCS High School\, 1701 E 33rd St\, Des Moines\, IA\, 50317\, United States
CATEGORIES:JH Boys Basketball
END:VEVENT
BEGIN:VEVENT
DTSTART;TZID=America/Chicago:20250204T161500
DTEND;TZID=America/Chicago:20250204T181500
DTSTAMP:20260425T205425
CREATED:20250109T215443Z
LAST-MODIFIED:20250109T215443Z
UID:6669-1738685700-1738692900@grandviewchristianschool.org
SUMMARY:7th Boys Basketball @ Pleasantville
DESCRIPTION:2 games
URL:https://grandviewchristianschool.org/event/7th-boys-basketball-pleasantville/
LOCATION:Pleasantville High School\, 415 Jones St\, Pleasantville\, IA\, 50225\, United States
CATEGORIES:JH Boys Basketball
END:VEVENT
BEGIN:VEVENT
DTSTART;TZID=America/Chicago:20250203T163000
DTEND;TZID=America/Chicago:20250203T183000
DTSTAMP:20260425T205425
CREATED:20250109T212355Z
LAST-MODIFIED:20250109T212355Z
UID:6665-1738600200-1738607400@grandviewchristianschool.org
SUMMARY:8th Boys Basketball (H) South Hamilton
DESCRIPTION:
URL:https://grandviewchristianschool.org/event/8th-boys-basketball-h-south-hamilton/
LOCATION:GVCS High School\, 1701 E 33rd St\, Des Moines\, IA\, 50317\, United States
CATEGORIES:JH Boys Basketball
END:VEVENT
BEGIN:VEVENT
DTSTART;TZID=America/Chicago:20250131T160000
DTEND;TZID=America/Chicago:20250131T180000
DTSTAMP:20260425T205425
CREATED:20250109T211820Z
LAST-MODIFIED:20250109T212147Z
UID:6663-1738339200-1738346400@grandviewchristianschool.org
SUMMARY:7th Boys Basketball @ DMC
DESCRIPTION:2 games
URL:https://grandviewchristianschool.org/event/7th-boys-basketball-dmc/
LOCATION:Des Moines Christian School\, 13007 Douglas Parkway\, Urbandale\, IA\, 50323\, United States
CATEGORIES:JH Boys Basketball
END:VEVENT
BEGIN:VEVENT
DTSTART;TZID=America/Chicago:20250130T163000
DTEND;TZID=America/Chicago:20250130T183000
DTSTAMP:20260425T205425
CREATED:20250109T205220Z
LAST-MODIFIED:20250109T205220Z
UID:6659-1738254600-1738261800@grandviewchristianschool.org
SUMMARY:7th Boys Basketball (H) Greene County
DESCRIPTION:
URL:https://grandviewchristianschool.org/event/7th-boys-basketball-h-greene-county/
LOCATION:GVCS High School\, 1701 E 33rd St\, Des Moines\, IA\, 50317\, United States
CATEGORIES:JH Boys Basketball
END:VEVENT
BEGIN:VEVENT
DTSTART;TZID=America/Chicago:20250130T163000
DTEND;TZID=America/Chicago:20250130T183000
DTSTAMP:20260425T205425
CREATED:20250109T205446Z
LAST-MODIFIED:20250109T205446Z
UID:6661-1738254600-1738261800@grandviewchristianschool.org
SUMMARY:8th Boys Basketball @ Greene County
DESCRIPTION:
URL:https://grandviewchristianschool.org/event/8th-boys-basketball-greene-county/
LOCATION:Greene County Middle School\, 101 Ram Drive\, Jefferson\, IA\, 50129\, United States
CATEGORIES:JH Boys Basketball
END:VEVENT
BEGIN:VEVENT
DTSTART;TZID=America/Chicago:20250128T163000
DTEND;TZID=America/Chicago:20250128T183000
DTSTAMP:20260425T205425
CREATED:20250109T205006Z
LAST-MODIFIED:20250109T205006Z
UID:6656-1738081800-1738089000@grandviewchristianschool.org
SUMMARY:8th Boys Basketball @ Nevada
DESCRIPTION:
URL:https://grandviewchristianschool.org/event/8th-boys-basketball-nevada/
LOCATION:Nevada Middle School\, 1035 15th St\, Nevada\, IA\, United States
CATEGORIES:JH Boys Basketball
END:VEVENT
BEGIN:VEVENT
DTSTART;TZID=America/Chicago:20250127T163000
DTEND;TZID=America/Chicago:20250127T183000
DTSTAMP:20260425T205425
CREATED:20250109T195346Z
LAST-MODIFIED:20250109T195346Z
UID:6652-1737995400-1738002600@grandviewchristianschool.org
SUMMARY:7th Boys Basketball (H) Roland-Story
DESCRIPTION:
URL:https://grandviewchristianschool.org/event/7th-boys-basketball-h-roland-story/
LOCATION:GVCS High School\, 1701 E 33rd St\, Des Moines\, IA\, 50317\, United States
CATEGORIES:JH Boys Basketball
END:VEVENT
BEGIN:VEVENT
DTSTART;TZID=America/Chicago:20250127T163000
DTEND;TZID=America/Chicago:20250127T183000
DTSTAMP:20260425T205425
CREATED:20250109T195651Z
LAST-MODIFIED:20250109T195651Z
UID:6654-1737995400-1738002600@grandviewchristianschool.org
SUMMARY:8th Boys Basketall @ Roland-Story
DESCRIPTION:
URL:https://grandviewchristianschool.org/event/8th-boys-basketall-roland-story/
LOCATION:Roland-Story Middle School\, 206 S Main St\, Roland\, IA\, 50236\, United States
CATEGORIES:JH Boys Basketball
END:VEVENT
BEGIN:VEVENT
DTSTART;TZID=America/Chicago:20250123T163000
DTEND;TZID=America/Chicago:20250123T183000
DTSTAMP:20260425T205425
CREATED:20250108T164145Z
LAST-MODIFIED:20250120T223500Z
UID:6648-1737649800-1737657000@grandviewchristianschool.org
SUMMARY:7th Boys Basketball (H) Saydel
DESCRIPTION:
URL:https://grandviewchristianschool.org/event/7th-boys-basketball-h-saydel/
LOCATION:GVCS High School\, 1701 E 33rd St\, Des Moines\, IA\, 50317\, United States
CATEGORIES:JH Boys Basketball
END:VEVENT
BEGIN:VEVENT
DTSTART;TZID=America/Chicago:20250123T163000
DTEND;TZID=America/Chicago:20250123T183000
DTSTAMP:20260425T205425
CREATED:20250108T164302Z
LAST-MODIFIED:20250108T164302Z
UID:6650-1737649800-1737657000@grandviewchristianschool.org
SUMMARY:8th Boys Basketball @ Saydel
DESCRIPTION:
URL:https://grandviewchristianschool.org/event/8th-boys-basketball-saydel/
LOCATION:Woodside Middle School\, 5810 NE 14th St\, Des Moines\, IA\, 50313\, United States
CATEGORIES:JH Boys Basketball
END:VEVENT
BEGIN:VEVENT
DTSTART;TZID=America/Chicago:20250116T163000
DTEND;TZID=America/Chicago:20250116T183000
DTSTAMP:20260425T205425
CREATED:20250108T163558Z
LAST-MODIFIED:20250108T163558Z
UID:6642-1737045000-1737052200@grandviewchristianschool.org
SUMMARY:7th Boys Basketball (H) Perry
DESCRIPTION:
URL:https://grandviewchristianschool.org/event/7th-boys-basketball-h-perry/
LOCATION:GVCS High School\, 1701 E 33rd St\, Des Moines\, IA\, 50317\, United States
CATEGORIES:JH Boys Basketball
END:VEVENT
BEGIN:VEVENT
DTSTART;TZID=America/Chicago:20250116T163000
DTEND;TZID=America/Chicago:20250116T183000
DTSTAMP:20260425T205425
CREATED:20250108T163755Z
LAST-MODIFIED:20250108T163755Z
UID:6644-1737045000-1737052200@grandviewchristianschool.org
SUMMARY:8th Boys Basketball @ Perry
DESCRIPTION:
URL:https://grandviewchristianschool.org/event/8th-boys-basketball-perry/
LOCATION:Perry Middle School\, 1200 18th St\, Perry\, IA\, 50220\, United States
CATEGORIES:JH Boys Basketball
END:VEVENT
BEGIN:VEVENT
DTSTART;TZID=America/Chicago:20250114T160000
DTEND;TZID=America/Chicago:20250114T180000
DTSTAMP:20260425T205425
CREATED:20250108T163005Z
LAST-MODIFIED:20250108T163005Z
UID:6640-1736870400-1736877600@grandviewchristianschool.org
SUMMARY:8th Boys Basketball @ DMC
DESCRIPTION:2 games
URL:https://grandviewchristianschool.org/event/8th-boys-basketball-dmc/
LOCATION:Des Moines Christian School\, 13007 Douglas Parkway\, Urbandale\, IA\, 50323\, United States
CATEGORIES:JH Boys Basketball
END:VEVENT
BEGIN:VEVENT
DTSTART;VALUE=DATE:20250103
DTEND;VALUE=DATE:20250104
DTSTAMP:20260425T205425
CREATED:20240708T151416Z
LAST-MODIFIED:20241115T203741Z
UID:5350-1735862400-1735948799@grandviewchristianschool.org
SUMMARY:Junior High Boys Basketball Starts
DESCRIPTION:
URL:https://grandviewchristianschool.org/event/junior-high-boys-basketball-starts/
LOCATION:IA
CATEGORIES:JH Boys Basketball,Master Calendar
END:VEVENT
BEGIN:VEVENT
DTSTART;TZID=America/Chicago:20240206T163000
DTEND;TZID=America/Chicago:20240206T180000
DTSTAMP:20260425T205425
CREATED:20231206T023947Z
LAST-MODIFIED:20240826T201550Z
UID:2452-1707237000-1707242400@grandviewchristianschool.org
SUMMARY:JH Boys Basketball at Collins-Maxwell
DESCRIPTION:
URL:https://grandviewchristianschool.org/event/jh-boys-basketball-at-baxter-high-school/
LOCATION:Collins-Maxwell Elementary\, 416 Fourth Ave\, Collins\, 50055\, United States
CATEGORIES:JH Boys Basketball,Master Calendar
END:VEVENT
BEGIN:VEVENT
DTSTART;TZID=America/Chicago:20240130T163000
DTEND;TZID=America/Chicago:20240130T180000
DTSTAMP:20260425T205425
CREATED:20231206T044644Z
LAST-MODIFIED:20240826T201550Z
UID:2516-1706632200-1706637600@grandviewchristianschool.org
SUMMARY:JH Boys Basketball at Callanan MS
DESCRIPTION:
URL:https://grandviewchristianschool.org/event/jh-boys-basketball-at-callanan-ms/
LOCATION:Callanan MS\, 3010 Center St\, Des Moines\, IA\, 50312\, United States
CATEGORIES:JH Boys Basketball,Master Calendar
END:VEVENT
BEGIN:VEVENT
DTSTART;TZID=America/Chicago:20240129T161500
DTEND;TZID=America/Chicago:20240129T173000
DTSTAMP:20260425T205425
CREATED:20231206T034410Z
LAST-MODIFIED:20240826T201551Z
UID:2483-1706544900-1706549400@grandviewchristianschool.org
SUMMARY:JH Boys Basketball vs Oskaloosa Christian
DESCRIPTION:
URL:https://grandviewchristianschool.org/event/jh-boys-basketball-vs-oskaloosa-christian/
LOCATION:Oskaloosa Christian Schools\, 726 N E St\, Oskaloosa\, IA\, 52577\, United States
CATEGORIES:JH Boys Basketball,Master Calendar
END:VEVENT
BEGIN:VEVENT
DTSTART;TZID=America/Chicago:20240125T161500
DTEND;TZID=America/Chicago:20240125T171500
DTSTAMP:20260425T205425
CREATED:20231206T041816Z
LAST-MODIFIED:20240826T201550Z
UID:2500-1706199300-1706202900@grandviewchristianschool.org
SUMMARY:JH Boys Basketball at GMG
DESCRIPTION:
URL:https://grandviewchristianschool.org/event/jh-boys-basketball-at-gmg/
LOCATION:GMG High School\, 306 Park St\, Garwin\, IA\, 50632\, United States
CATEGORIES:JH Boys Basketball,Master Calendar
END:VEVENT
BEGIN:VEVENT
DTSTART;TZID=America/Chicago:20240123T101500
DTEND;TZID=America/Chicago:20240123T113000
DTSTAMP:20260425T205425
CREATED:20231206T045846Z
LAST-MODIFIED:20240826T201551Z
UID:2519-1706004900-1706009400@grandviewchristianschool.org
SUMMARY:JH Boys Basketball vs Twin Cedars
DESCRIPTION:2 Games
URL:https://grandviewchristianschool.org/event/jh-boys-basketball-vs-twin-cedars/
LOCATION:GVCS High School\, 1701 E 33rd St\, Des Moines\, IA\, 50317\, United States
CATEGORIES:JH Boys Basketball,Master Calendar
END:VEVENT
BEGIN:VEVENT
DTSTART;TZID=America/Chicago:20240122T101500
DTEND;TZID=America/Chicago:20240122T113000
DTSTAMP:20260425T205425
CREATED:20231206T032607Z
LAST-MODIFIED:20240826T201551Z
UID:2466-1705918500-1705923000@grandviewchristianschool.org
SUMMARY:JH Boys Basketball vs Lynnville-Sully
DESCRIPTION:
URL:https://grandviewchristianschool.org/event/jh-boys-basketball-vs-lynnville-sully/
LOCATION:GVCS High School\, 1701 E 33rd St\, Des Moines\, IA\, 50317\, United States
CATEGORIES:JH Boys Basketball,Master Calendar
END:VEVENT
BEGIN:VEVENT
DTSTART;TZID=America/Chicago:20240119T161500
DTEND;TZID=America/Chicago:20240119T173000
DTSTAMP:20260425T205425
CREATED:20231206T032005Z
LAST-MODIFIED:20240826T201550Z
UID:2463-1705680900-1705685400@grandviewchristianschool.org
SUMMARY:JH Boys Basketball at BGM
DESCRIPTION:2 Games
URL:https://grandviewchristianschool.org/event/jh-boys-basketball-at-bgm/
LOCATION:BGM High School\, 1090 Jackson St\, Brooklyn\, IA\, 52211\, United States
CATEGORIES:JH Boys Basketball,Master Calendar
END:VEVENT
BEGIN:VEVENT
DTSTART;TZID=America/Chicago:20240118T101500
DTEND;TZID=America/Chicago:20240118T113000
DTSTAMP:20260425T205425
CREATED:20231206T024321Z
LAST-MODIFIED:20240826T201550Z
UID:2455-1705572900-1705577400@grandviewchristianschool.org
SUMMARY:JH Boys Basketball vs ACA
DESCRIPTION:
URL:https://grandviewchristianschool.org/event/jh-boys-basketball-vs-aca/
LOCATION:GVCS High School\, 1701 E 33rd St\, Des Moines\, IA\, 50317\, United States
CATEGORIES:JH Boys Basketball,Master Calendar
END:VEVENT
BEGIN:VEVENT
DTSTART;TZID=America/Chicago:20240111T101500
DTEND;TZID=America/Chicago:20240111T113000
DTSTAMP:20260425T205425
CREATED:20231206T021453Z
LAST-MODIFIED:20240826T201551Z
UID:2443-1704968100-1704972600@grandviewchristianschool.org
SUMMARY:JH Boys Basketball vs Pleasantville
DESCRIPTION:
URL:https://grandviewchristianschool.org/event/jh-boys-basketball-vs-pleasantville/
LOCATION:GVCS High School\, 1701 E 33rd St\, Des Moines\, IA\, 50317\, United States
CATEGORIES:JH Boys Basketball,Master Calendar
END:VEVENT
BEGIN:VEVENT
DTSTART;TZID=America/Chicago:20240109T103000
DTEND;TZID=America/Chicago:20240109T120000
DTSTAMP:20260425T205425
CREATED:20231206T015902Z
LAST-MODIFIED:20240826T201551Z
UID:2438-1704796200-1704801600@grandviewchristianschool.org
SUMMARY:JH Boys Basketball vs Des Moines Christian
DESCRIPTION:
URL:https://grandviewchristianschool.org/event/jh-boys-basketball-vs-des-moines-christian/
LOCATION:GVCS High School\, 1701 E 33rd St\, Des Moines\, IA\, 50317\, United States
CATEGORIES:JH Boys Basketball,Master Calendar
END:VEVENT
BEGIN:VEVENT
DTSTART;TZID=America/Chicago:20240108T103000
DTEND;TZID=America/Chicago:20240108T120000
DTSTAMP:20260425T205425
CREATED:20231130T221415Z
LAST-MODIFIED:20240826T201548Z
UID:2368-1704709800-1704715200@grandviewchristianschool.org
SUMMARY:*CANCELED* JH Boys Basketball at Collins-Maxwell
DESCRIPTION:
URL:https://grandviewchristianschool.org/event/jh-boys-basketball-at-collins-maxwell/
LOCATION:Collins Maxwell\, 400 Metcalf St\, Maxwell\, IA\, 50161\, United States
CATEGORIES:JH Boys Basketball,Master Calendar
END:VEVENT
END:VCALENDAR