BEGIN:VCALENDAR
VERSION:2.0
PRODID:-//Grand View Christian School - Des Moines, IA - ECPv6.15.13.1//NONSGML v1.0//EN
CALSCALE:GREGORIAN
METHOD:PUBLISH
X-ORIGINAL-URL:https://grandviewchristianschool.org
X-WR-CALDESC:Events for Grand View Christian School - Des Moines, IA
REFRESH-INTERVAL;VALUE=DURATION:PT1H
X-Robots-Tag:noindex
X-PUBLISHED-TTL:PT1H
BEGIN:VTIMEZONE
TZID:America/Chicago
BEGIN:DAYLIGHT
TZOFFSETFROM:-0600
TZOFFSETTO:-0500
TZNAME:CDT
DTSTART:20230312T080000
END:DAYLIGHT
BEGIN:STANDARD
TZOFFSETFROM:-0500
TZOFFSETTO:-0600
TZNAME:CST
DTSTART:20231105T070000
END:STANDARD
BEGIN:DAYLIGHT
TZOFFSETFROM:-0600
TZOFFSETTO:-0500
TZNAME:CDT
DTSTART:20240310T080000
END:DAYLIGHT
BEGIN:STANDARD
TZOFFSETFROM:-0500
TZOFFSETTO:-0600
TZNAME:CST
DTSTART:20241103T070000
END:STANDARD
BEGIN:DAYLIGHT
TZOFFSETFROM:-0600
TZOFFSETTO:-0500
TZNAME:CDT
DTSTART:20250309T080000
END:DAYLIGHT
BEGIN:STANDARD
TZOFFSETFROM:-0500
TZOFFSETTO:-0600
TZNAME:CST
DTSTART:20251102T070000
END:STANDARD
END:VTIMEZONE
BEGIN:VEVENT
DTSTART;TZID=America/Chicago:20241017T163000
DTEND;TZID=America/Chicago:20241017T173000
DTSTAMP:20260425T204752
CREATED:20240716T180413Z
LAST-MODIFIED:20240826T201705Z
UID:5649-1729182600-1729186200@grandviewchristianschool.org
SUMMARY:JH Cross Country @ Mt. Ayr Invitational
DESCRIPTION:
URL:https://grandviewchristianschool.org/event/jh-cross-country-mt-ayr-invitational/
LOCATION:Mt. Ayr Golf & Country Club\, 2347 230th Ave\, Mount Ayr\, IA\, 50854\, United States
CATEGORIES:JH Cross Country,Master Calendar
END:VEVENT
BEGIN:VEVENT
DTSTART;TZID=America/Chicago:20241014T160000
DTEND;TZID=America/Chicago:20241014T173000
DTSTAMP:20260425T204752
CREATED:20240716T180306Z
LAST-MODIFIED:20240826T201705Z
UID:5647-1728921600-1728927000@grandviewchristianschool.org
SUMMARY:JH Cross Country @ HOIAC Conference Meet
DESCRIPTION:
URL:https://grandviewchristianschool.org/event/jh-cross-country-hoiac-conference-meet/
LOCATION:Hickory Grove Park\, 67464 250th St\, Colo\, IA\, 50056\, United States
CATEGORIES:JH Cross Country,Master Calendar
END:VEVENT
BEGIN:VEVENT
DTSTART;TZID=America/Chicago:20241010T160000
DTEND;TZID=America/Chicago:20241010T170000
DTSTAMP:20260425T204752
CREATED:20240716T180158Z
LAST-MODIFIED:20240826T201706Z
UID:5645-1728576000-1728579600@grandviewchristianschool.org
SUMMARY:JH Cross Country @ Saydel Invitational
DESCRIPTION:
URL:https://grandviewchristianschool.org/event/jh-cross-country-saydel-invitational/
LOCATION:Saydel High School\, 5601 NE 7th St\, Des Moines\, IA\, 50313\, United States
CATEGORIES:JH Cross Country,Master Calendar
END:VEVENT
BEGIN:VEVENT
DTSTART;TZID=America/Chicago:20241007T163000
DTEND;TZID=America/Chicago:20241007T173000
DTSTAMP:20260425T204752
CREATED:20240716T180019Z
LAST-MODIFIED:20240826T201706Z
UID:5643-1728318600-1728322200@grandviewchristianschool.org
SUMMARY:JH Cross Country @ North Polk Invitational
DESCRIPTION:
URL:https://grandviewchristianschool.org/event/jh-cross-country-north-polk-invitational/
LOCATION:North Polk High School\, 13930 NE 6th St\, Alleman\, IA\, 50007\, United States
CATEGORIES:JH Cross Country,Master Calendar
END:VEVENT
BEGIN:VEVENT
DTSTART;TZID=America/Chicago:20241001T163000
DTEND;TZID=America/Chicago:20241001T173000
DTSTAMP:20260425T204752
CREATED:20240716T175839Z
LAST-MODIFIED:20240826T201706Z
UID:5641-1727800200-1727803800@grandviewchristianschool.org
SUMMARY:JH Cross Country @ Ogden Invitational
DESCRIPTION:
URL:https://grandviewchristianschool.org/event/jh-cross-country-ogden-invitational/
LOCATION:Don Williams Golf Course\, 610 H Ave\, Ogden\, IA\, 50212\, United States
CATEGORIES:JH Cross Country,Master Calendar
END:VEVENT
BEGIN:VEVENT
DTSTART;TZID=America/Chicago:20240923T163000
DTEND;TZID=America/Chicago:20240923T173000
DTSTAMP:20260425T204752
CREATED:20240716T175654Z
LAST-MODIFIED:20240826T201706Z
UID:5639-1727109000-1727112600@grandviewchristianschool.org
SUMMARY:JH Cross Country @ PCM Invitational
DESCRIPTION:
URL:https://grandviewchristianschool.org/event/jh-cross-country-pcm-invitational/
LOCATION:Gateway Recreation Golf Course\, 111 Taylor St\, Monroe\, IA\, 50170\, United States
CATEGORIES:JH Cross Country,Master Calendar
END:VEVENT
BEGIN:VEVENT
DTSTART;TZID=America/Chicago:20240916T163000
DTEND;TZID=America/Chicago:20240916T173000
DTSTAMP:20260425T204752
CREATED:20240716T175514Z
LAST-MODIFIED:20240826T201706Z
UID:5636-1726504200-1726507800@grandviewchristianschool.org
SUMMARY:JH Cross Country @ Pleasantville Invitational
DESCRIPTION:
URL:https://grandviewchristianschool.org/event/jh-cross-country-pleasantville-invtiational/
LOCATION:Pleasantville Golf & Country Club\, 957 N Highway 5\, Pleasantville\, IA\, 50225\, United States
CATEGORIES:JH Cross Country,Master Calendar
END:VEVENT
BEGIN:VEVENT
DTSTART;TZID=America/Chicago:20240912T163000
DTEND;TZID=America/Chicago:20240912T173000
DTSTAMP:20260425T204752
CREATED:20240716T174925Z
LAST-MODIFIED:20240826T201704Z
UID:5632-1726158600-1726162200@grandviewchristianschool.org
SUMMARY:JH Cross Country @ Colfax-Mingo Invitational
DESCRIPTION:
URL:https://grandviewchristianschool.org/event/jh-cross-country/
LOCATION:Colfax Country Club\, 3761 W 108th St S\, Colfax\, IA\, 50054\, United States
CATEGORIES:JH Cross Country,Master Calendar
END:VEVENT
END:VCALENDAR