BEGIN:VCALENDAR
VERSION:2.0
PRODID:-//Grand View Christian School - Des Moines, IA - ECPv6.15.13.1//NONSGML v1.0//EN
CALSCALE:GREGORIAN
METHOD:PUBLISH
X-ORIGINAL-URL:https://grandviewchristianschool.org
X-WR-CALDESC:Events for Grand View Christian School - Des Moines, IA
REFRESH-INTERVAL;VALUE=DURATION:PT1H
X-Robots-Tag:noindex
X-PUBLISHED-TTL:PT1H
BEGIN:VTIMEZONE
TZID:America/Chicago
BEGIN:DAYLIGHT
TZOFFSETFROM:-0600
TZOFFSETTO:-0500
TZNAME:CDT
DTSTART:20230312T080000
END:DAYLIGHT
BEGIN:STANDARD
TZOFFSETFROM:-0500
TZOFFSETTO:-0600
TZNAME:CST
DTSTART:20231105T070000
END:STANDARD
BEGIN:DAYLIGHT
TZOFFSETFROM:-0600
TZOFFSETTO:-0500
TZNAME:CDT
DTSTART:20240310T080000
END:DAYLIGHT
BEGIN:STANDARD
TZOFFSETFROM:-0500
TZOFFSETTO:-0600
TZNAME:CST
DTSTART:20241103T070000
END:STANDARD
BEGIN:DAYLIGHT
TZOFFSETFROM:-0600
TZOFFSETTO:-0500
TZNAME:CDT
DTSTART:20250309T080000
END:DAYLIGHT
BEGIN:STANDARD
TZOFFSETFROM:-0500
TZOFFSETTO:-0600
TZNAME:CST
DTSTART:20251102T070000
END:STANDARD
BEGIN:DAYLIGHT
TZOFFSETFROM:-0600
TZOFFSETTO:-0500
TZNAME:CDT
DTSTART:20260308T080000
END:DAYLIGHT
BEGIN:STANDARD
TZOFFSETFROM:-0500
TZOFFSETTO:-0600
TZNAME:CST
DTSTART:20261101T070000
END:STANDARD
END:VTIMEZONE
BEGIN:VEVENT
DTSTART;TZID=America/Chicago:20250220T163000
DTEND;TZID=America/Chicago:20250220T183000
DTSTAMP:20260425T205530
CREATED:20250109T220935Z
LAST-MODIFIED:20250109T220935Z
UID:6684-1740069000-1740076200@grandviewchristianschool.org
SUMMARY:8th Boys Basketball @ PCM
DESCRIPTION:
URL:https://grandviewchristianschool.org/event/8th-boys-basketball-pcm/
LOCATION:PCM Middle School\, 407 E Plainsman Rd\, Prairie City\, IA\, United States
CATEGORIES:JH Girls Basketball
END:VEVENT
BEGIN:VEVENT
DTSTART;TZID=America/Chicago:20250203T163000
DTEND;TZID=America/Chicago:20250203T183000
DTSTAMP:20260425T205530
CREATED:20250109T215024Z
LAST-MODIFIED:20250109T215024Z
UID:6667-1738600200-1738607400@grandviewchristianschool.org
SUMMARY:7th Boys Basketball @ South Hamilton
DESCRIPTION:
URL:https://grandviewchristianschool.org/event/7th-boys-basketball-south-hamilton/
LOCATION:South Hamilton Elementary School\, 315 Division St\, Jewell\, IA\, 50130\, United States
CATEGORIES:JH Girls Basketball
END:VEVENT
BEGIN:VEVENT
DTSTART;TZID=America/Chicago:20250121T160000
DTEND;TZID=America/Chicago:20250121T183000
DTSTAMP:20260425T205530
CREATED:20250109T220330Z
LAST-MODIFIED:20250109T220330Z
UID:6678-1737475200-1737484200@grandviewchristianschool.org
SUMMARY:7th/8th Boys Basketball (H) ACA
DESCRIPTION:3 games
URL:https://grandviewchristianschool.org/event/7th-8th-boys-basketball-h-aca-2/
LOCATION:GVC McWilliams Activities Center (MAC)\, 290\, Des Moines\, IA\, United States
CATEGORIES:JH Girls Basketball
END:VEVENT
BEGIN:VEVENT
DTSTART;TZID=America/Chicago:20241216T163000
DTEND;TZID=America/Chicago:20241216T173000
DTSTAMP:20260425T205530
CREATED:20241028T170513Z
LAST-MODIFIED:20241028T170513Z
UID:6309-1734366600-1734370200@grandviewchristianschool.org
SUMMARY:7th Girls Basketball @ Perry
DESCRIPTION:
URL:https://grandviewchristianschool.org/event/7th-girls-basketball-perry/
LOCATION:Perry Middle School\, 1200 18th St\, Perry\, IA\, 50220\, United States
CATEGORIES:JH Girls Basketball
END:VEVENT
BEGIN:VEVENT
DTSTART;TZID=America/Chicago:20241216T163000
DTEND;TZID=America/Chicago:20241216T173000
DTSTAMP:20260425T205530
CREATED:20241028T170620Z
LAST-MODIFIED:20241028T170620Z
UID:6311-1734366600-1734370200@grandviewchristianschool.org
SUMMARY:8th Girls Basketball (H) Perry
DESCRIPTION:
URL:https://grandviewchristianschool.org/event/8th-girls-basketball-h-perry/
LOCATION:GVCS High School\, 1701 E 33rd St\, Des Moines\, IA\, 50317\, United States
CATEGORIES:JH Girls Basketball
END:VEVENT
BEGIN:VEVENT
DTSTART;TZID=America/Chicago:20241213T160000
DTEND;TZID=America/Chicago:20241213T180000
DTSTAMP:20260425T205530
CREATED:20241028T170344Z
LAST-MODIFIED:20241028T170344Z
UID:6307-1734105600-1734112800@grandviewchristianschool.org
SUMMARY:7th/8th Girls Basketball (H) ACA
DESCRIPTION:
URL:https://grandviewchristianschool.org/event/7th-8th-girls-basketball-h-aca/
LOCATION:GVC McWilliams Activities Center (MAC)\, 290\, Des Moines\, IA\, United States
CATEGORIES:JH Girls Basketball
END:VEVENT
BEGIN:VEVENT
DTSTART;TZID=America/Chicago:20241209T163000
DTEND;TZID=America/Chicago:20241209T173000
DTSTAMP:20260425T205530
CREATED:20241028T164113Z
LAST-MODIFIED:20241028T164113Z
UID:6295-1733761800-1733765400@grandviewchristianschool.org
SUMMARY:7th Girls Basketball (H) Saydel
DESCRIPTION:
URL:https://grandviewchristianschool.org/event/7th-girls-basketball-h-saydel/
LOCATION:GVCS High School\, 1701 E 33rd St\, Des Moines\, IA\, 50317\, United States
CATEGORIES:JH Girls Basketball
END:VEVENT
BEGIN:VEVENT
DTSTART;TZID=America/Chicago:20241209T163000
DTEND;TZID=America/Chicago:20241209T173000
DTSTAMP:20260425T205530
CREATED:20241028T170209Z
LAST-MODIFIED:20241028T170243Z
UID:6305-1733761800-1733765400@grandviewchristianschool.org
SUMMARY:8th Girls Basketball (H) Saydel
DESCRIPTION:
URL:https://grandviewchristianschool.org/event/8th-girls-basketball-h-saydel/
LOCATION:GVCS High School\, 1701 E 33rd St\, Des Moines\, IA\, 50317\, United States
CATEGORIES:JH Girls Basketball
END:VEVENT
BEGIN:VEVENT
DTSTART;TZID=America/Chicago:20241203T160000
DTEND;TZID=America/Chicago:20241203T180000
DTSTAMP:20260425T205530
CREATED:20241028T162438Z
LAST-MODIFIED:20241028T162438Z
UID:6293-1733241600-1733248800@grandviewchristianschool.org
SUMMARY:7th/8th Girls Basketball (H) Lynnville-Sully
DESCRIPTION:
URL:https://grandviewchristianschool.org/event/7th-8th-girls-basketball-h-lynnville-sully/
LOCATION:GVC McWilliams Activities Center (MAC)\, 290\, Des Moines\, IA\, United States
CATEGORIES:JH Girls Basketball
END:VEVENT
BEGIN:VEVENT
DTSTART;TZID=America/Chicago:20241202T161500
DTEND;TZID=America/Chicago:20241202T171500
DTSTAMP:20260425T205530
CREATED:20241028T161712Z
LAST-MODIFIED:20241028T161712Z
UID:6291-1733156100-1733159700@grandviewchristianschool.org
SUMMARY:7th/8th Girls Basketball (H) Pella Christian
DESCRIPTION:
URL:https://grandviewchristianschool.org/event/7th-8th-girls-basketball-h-pella-christian/
LOCATION:GVCS High School\, 1701 E 33rd St\, Des Moines\, IA\, 50317\, United States
CATEGORIES:JH Girls Basketball
END:VEVENT
BEGIN:VEVENT
DTSTART;TZID=America/Chicago:20241125T161500
DTEND;TZID=America/Chicago:20241125T171500
DTSTAMP:20260425T205530
CREATED:20241028T161415Z
LAST-MODIFIED:20241028T161415Z
UID:6289-1732551300-1732554900@grandviewchristianschool.org
SUMMARY:7th/8th Girls Basketball @ Collins-Maxwell
DESCRIPTION:
URL:https://grandviewchristianschool.org/event/7th-8th-girls-basketball-collins-maxwell/
LOCATION:Collins-Maxwell Elementary\, 416 Fourth Ave\, Collins\, 50055\, United States
CATEGORIES:JH Girls Basketball
END:VEVENT
BEGIN:VEVENT
DTSTART;TZID=America/Chicago:20241122T160000
DTEND;TZID=America/Chicago:20241122T170000
DTSTAMP:20260425T205530
CREATED:20241028T161030Z
LAST-MODIFIED:20241028T161030Z
UID:6287-1732291200-1732294800@grandviewchristianschool.org
SUMMARY:7th/8th Girls Basketball @ ACA
DESCRIPTION:
URL:https://grandviewchristianschool.org/event/7th-8th-girls-basketball-aca/
LOCATION:Ankeny Christian Academy\, 1604 W. 1st st\, Ankeny\, IA\, 50023\, United States
CATEGORIES:JH Girls Basketball
END:VEVENT
BEGIN:VEVENT
DTSTART;TZID=America/Chicago:20241119T163000
DTEND;TZID=America/Chicago:20241119T173000
DTSTAMP:20260425T205530
CREATED:20241028T165817Z
LAST-MODIFIED:20241028T165817Z
UID:6303-1732033800-1732037400@grandviewchristianschool.org
SUMMARY:7th Girls Basketball (H) Roland-Story
DESCRIPTION:
URL:https://grandviewchristianschool.org/event/7th-girls-basketball-h-roland-story-2/
LOCATION:GVCS High School\, 1701 E 33rd St\, Des Moines\, IA\, 50317\, United States
CATEGORIES:JH Girls Basketball
END:VEVENT
BEGIN:VEVENT
DTSTART;TZID=America/Chicago:20241119T163000
DTEND;TZID=America/Chicago:20241119T173000
DTSTAMP:20260425T205530
CREATED:20241028T165707Z
LAST-MODIFIED:20241028T165707Z
UID:6301-1732033800-1732037400@grandviewchristianschool.org
SUMMARY:8th Girls Basketball @Roland-Story
DESCRIPTION:
URL:https://grandviewchristianschool.org/event/8th-girls-basketball-roland-story-2/
LOCATION:Roland-Story Middle School\, 206 S Main St\, Roland\, IA\, 50236\, United States
CATEGORIES:JH Girls Basketball
END:VEVENT
BEGIN:VEVENT
DTSTART;TZID=America/Chicago:20241114T163000
DTEND;TZID=America/Chicago:20241114T173000
DTSTAMP:20260425T205530
CREATED:20241028T154023Z
LAST-MODIFIED:20241028T154023Z
UID:6277-1731601800-1731605400@grandviewchristianschool.org
SUMMARY:7th Girls Basketball (H) Greene County
DESCRIPTION:
URL:https://grandviewchristianschool.org/event/7th-girls-basketball-h-greene-county/
LOCATION:GVCS High School\, 1701 E 33rd St\, Des Moines\, IA\, 50317\, United States
CATEGORIES:JH Girls Basketball
END:VEVENT
BEGIN:VEVENT
DTSTART;TZID=America/Chicago:20241114T163000
DTEND;TZID=America/Chicago:20241114T173000
DTSTAMP:20260425T205530
CREATED:20241028T154730Z
LAST-MODIFIED:20241028T154730Z
UID:6284-1731601800-1731605400@grandviewchristianschool.org
SUMMARY:8th Girls Basketball @ Roland-Story
DESCRIPTION:
URL:https://grandviewchristianschool.org/event/8th-girls-basketball-roland-story/
LOCATION:Roland-Story Middle School\, 206 S Main St\, Roland\, IA\, 50236\, United States
CATEGORIES:JH Girls Basketball
END:VEVENT
BEGIN:VEVENT
DTSTART;TZID=America/Chicago:20241107T163000
DTEND;TZID=America/Chicago:20241107T173000
DTSTAMP:20260425T205530
CREATED:20241028T153709Z
LAST-MODIFIED:20241028T153709Z
UID:6272-1730997000-1731000600@grandviewchristianschool.org
SUMMARY:7th Girls Basketball (H) Perry
DESCRIPTION:
URL:https://grandviewchristianschool.org/event/7th-girls-basketball-h-perry/
LOCATION:GVCS High School\, 1701 E 33rd St\, Des Moines\, IA\, 50317\, United States
CATEGORIES:JH Girls Basketball
END:VEVENT
BEGIN:VEVENT
DTSTART;TZID=America/Chicago:20241107T163000
DTEND;TZID=America/Chicago:20241107T173000
DTSTAMP:20260425T205530
CREATED:20241028T153915Z
LAST-MODIFIED:20241028T153915Z
UID:6274-1730997000-1731000600@grandviewchristianschool.org
SUMMARY:8th Girls Basketball @ Perry
DESCRIPTION:
URL:https://grandviewchristianschool.org/event/8th-girls-basketball-perry/
LOCATION:Perry Middle School\, 1200 18th St\, Perry\, IA\, 50220\, United States
CATEGORIES:JH Girls Basketball
END:VEVENT
BEGIN:VEVENT
DTSTART;TZID=America/Chicago:20241105T163000
DTEND;TZID=America/Chicago:20241105T173000
DTSTAMP:20260425T205530
CREATED:20241028T153203Z
LAST-MODIFIED:20241028T153203Z
UID:6267-1730824200-1730827800@grandviewchristianschool.org
SUMMARY:7th Girls Basketball (H) South Hamilton
DESCRIPTION:
URL:https://grandviewchristianschool.org/event/7th-girls-basketball-h-south-hamilton/
LOCATION:GVCS High School\, 1701 E 33rd St\, Des Moines\, IA\, 50317\, United States
CATEGORIES:JH Girls Basketball
END:VEVENT
BEGIN:VEVENT
DTSTART;TZID=America/Chicago:20241105T163000
DTEND;TZID=America/Chicago:20241105T173000
DTSTAMP:20260425T205530
CREATED:20241028T153603Z
LAST-MODIFIED:20241105T184630Z
UID:6269-1730824200-1730827800@grandviewchristianschool.org
SUMMARY:8th Girls Basketball (H) South Hamilton
DESCRIPTION:
URL:https://grandviewchristianschool.org/event/8th-girls-basketball-south-hamilton/
LOCATION:GVCS High School\, 1701 E 33rd St\, Des Moines\, IA\, 50317\, United States
CATEGORIES:JH Girls Basketball
END:VEVENT
END:VCALENDAR