BEGIN:VCALENDAR
VERSION:2.0
PRODID:-//Grand View Christian School - Des Moines, IA - ECPv6.15.13.1//NONSGML v1.0//EN
CALSCALE:GREGORIAN
METHOD:PUBLISH
X-WR-CALNAME:Grand View Christian School - Des Moines, IA
X-ORIGINAL-URL:https://grandviewchristianschool.org
X-WR-CALDESC:Events for Grand View Christian School - Des Moines, IA
REFRESH-INTERVAL;VALUE=DURATION:PT1H
X-Robots-Tag:noindex
X-PUBLISHED-TTL:PT1H
BEGIN:VTIMEZONE
TZID:America/Chicago
BEGIN:DAYLIGHT
TZOFFSETFROM:-0600
TZOFFSETTO:-0500
TZNAME:CDT
DTSTART:20230312T080000
END:DAYLIGHT
BEGIN:STANDARD
TZOFFSETFROM:-0500
TZOFFSETTO:-0600
TZNAME:CST
DTSTART:20231105T070000
END:STANDARD
BEGIN:DAYLIGHT
TZOFFSETFROM:-0600
TZOFFSETTO:-0500
TZNAME:CDT
DTSTART:20240310T080000
END:DAYLIGHT
BEGIN:STANDARD
TZOFFSETFROM:-0500
TZOFFSETTO:-0600
TZNAME:CST
DTSTART:20241103T070000
END:STANDARD
BEGIN:DAYLIGHT
TZOFFSETFROM:-0600
TZOFFSETTO:-0500
TZNAME:CDT
DTSTART:20250309T080000
END:DAYLIGHT
BEGIN:STANDARD
TZOFFSETFROM:-0500
TZOFFSETTO:-0600
TZNAME:CST
DTSTART:20251102T070000
END:STANDARD
END:VTIMEZONE
BEGIN:VEVENT
DTSTART;TZID=America/Chicago:20241014T163000
DTEND;TZID=America/Chicago:20241014T183000
DTSTAMP:20260425T204406
CREATED:20240716T042613Z
LAST-MODIFIED:20240826T202816Z
UID:5612-1728923400-1728930600@grandviewchristianschool.org
SUMMARY:JH Volleyball vs PCM
DESCRIPTION:7th @ Home; 8th @ PCM
URL:https://grandviewchristianschool.org/event/jh-volleyball-vs-pcm/
LOCATION:IA
CATEGORIES:JH Volleyball,Master Calendar
END:VEVENT
BEGIN:VEVENT
DTSTART;TZID=America/Chicago:20241007T163000
DTEND;TZID=America/Chicago:20241007T183000
DTSTAMP:20260425T204406
CREATED:20240716T040512Z
LAST-MODIFIED:20240826T202816Z
UID:5610-1728318600-1728325800@grandviewchristianschool.org
SUMMARY:JH Volleyball vs Perry
DESCRIPTION:7th @ Home; 8th @ Perry
URL:https://grandviewchristianschool.org/event/jh-volleyball-vs-perry/
LOCATION:IA
CATEGORIES:JH Volleyball,Master Calendar
END:VEVENT
BEGIN:VEVENT
DTSTART;TZID=America/Chicago:20241003T163000
DTEND;TZID=America/Chicago:20241003T183000
DTSTAMP:20260425T204406
CREATED:20240716T035718Z
LAST-MODIFIED:20240826T202815Z
UID:5608-1727973000-1727980200@grandviewchristianschool.org
SUMMARY:JH Volleyball vs Greene County
DESCRIPTION:7th @ Greene County; 8th @ home
URL:https://grandviewchristianschool.org/event/jh-volleyball-vs-greene-county/
LOCATION:IA
CATEGORIES:JH Volleyball,Master Calendar
END:VEVENT
BEGIN:VEVENT
DTSTART;TZID=America/Chicago:20241001T163000
DTEND;TZID=America/Chicago:20241001T183000
DTSTAMP:20260425T204406
CREATED:20240716T035227Z
LAST-MODIFIED:20240826T202816Z
UID:5606-1727800200-1727807400@grandviewchristianschool.org
SUMMARY:JH Volleyball vs Nevada
DESCRIPTION:7th @ Nevada; 8th @ home
URL:https://grandviewchristianschool.org/event/jh-volleyball-vs-nevada/
LOCATION:IA
CATEGORIES:JH Volleyball,Master Calendar
END:VEVENT
BEGIN:VEVENT
DTSTART;TZID=America/Chicago:20240923T163000
DTEND;TZID=America/Chicago:20240923T183000
DTSTAMP:20260425T204406
CREATED:20240716T033222Z
LAST-MODIFIED:20240826T202817Z
UID:5604-1727109000-1727116200@grandviewchristianschool.org
SUMMARY:JH Volleyball vs South Hamilton
DESCRIPTION:7th @ Home; 8th @ South Hamilton
URL:https://grandviewchristianschool.org/event/jh-volleyball-vs-south-hamilton/
LOCATION:IA
CATEGORIES:JH Volleyball,Master Calendar
END:VEVENT
BEGIN:VEVENT
DTSTART;TZID=America/Chicago:20240917T163000
DTEND;TZID=America/Chicago:20240917T183000
DTSTAMP:20260425T204406
CREATED:20240716T032242Z
LAST-MODIFIED:20240917T172039Z
UID:5602-1726590600-1726597800@grandviewchristianschool.org
SUMMARY:JH Volleyball (H) vs DMC
DESCRIPTION:
URL:https://grandviewchristianschool.org/event/jh-volleyball-h-vs-dmc/
LOCATION:GVCS High School\, 1701 E 33rd St\, Des Moines\, IA\, 50317\, United States
CATEGORIES:JH Volleyball,Master Calendar
END:VEVENT
BEGIN:VEVENT
DTSTART;TZID=America/Chicago:20240916T163000
DTEND;TZID=America/Chicago:20240916T183000
DTSTAMP:20260425T204406
CREATED:20240716T031622Z
LAST-MODIFIED:20240826T202816Z
UID:5598-1726504200-1726511400@grandviewchristianschool.org
SUMMARY:JH Volleyball vs Saydel
DESCRIPTION:7th @ Saydel; 8th @ Home
URL:https://grandviewchristianschool.org/event/jh-volleyball-vs-saydel/
LOCATION:IA
CATEGORIES:JH Volleyball,Master Calendar
END:VEVENT
BEGIN:VEVENT
DTSTART;TZID=America/Chicago:20240910T163000
DTEND;TZID=America/Chicago:20240910T183000
DTSTAMP:20260425T204406
CREATED:20240716T025802Z
LAST-MODIFIED:20240826T202815Z
UID:5596-1725985800-1725993000@grandviewchristianschool.org
SUMMARY:JH Volleyball vs ACA
DESCRIPTION:Black and green @ ACA; White and Yellow @ HOME
URL:https://grandviewchristianschool.org/event/jh-volleyball-vs-aca/
LOCATION:IA
CATEGORIES:JH Volleyball,Master Calendar
END:VEVENT
BEGIN:VEVENT
DTSTART;TZID=America/Chicago:20240909T163000
DTEND;TZID=America/Chicago:20240909T183000
DTSTAMP:20260425T204406
CREATED:20240716T023626Z
LAST-MODIFIED:20240826T202816Z
UID:5590-1725899400-1725906600@grandviewchristianschool.org
SUMMARY:JH Volleyball vs Pella Christian
DESCRIPTION:7th at HOME; 8th @ Pella Christian Grade School
URL:https://grandviewchristianschool.org/event/jh-volleyball-vs-pella-christian/
LOCATION:IA
CATEGORIES:JH Volleyball,Master Calendar
END:VEVENT
END:VCALENDAR