BEGIN:VCALENDAR
VERSION:2.0
PRODID:-//Grand View Christian School - Des Moines, IA - ECPv6.15.13.1//NONSGML v1.0//EN
CALSCALE:GREGORIAN
METHOD:PUBLISH
X-WR-CALNAME:Grand View Christian School - Des Moines, IA
X-ORIGINAL-URL:https://grandviewchristianschool.org
X-WR-CALDESC:Events for Grand View Christian School - Des Moines, IA
REFRESH-INTERVAL;VALUE=DURATION:PT1H
X-Robots-Tag:noindex
X-PUBLISHED-TTL:PT1H
BEGIN:VTIMEZONE
TZID:America/Chicago
BEGIN:DAYLIGHT
TZOFFSETFROM:-0600
TZOFFSETTO:-0500
TZNAME:CDT
DTSTART:20230312T080000
END:DAYLIGHT
BEGIN:STANDARD
TZOFFSETFROM:-0500
TZOFFSETTO:-0600
TZNAME:CST
DTSTART:20231105T070000
END:STANDARD
BEGIN:DAYLIGHT
TZOFFSETFROM:-0600
TZOFFSETTO:-0500
TZNAME:CDT
DTSTART:20240310T080000
END:DAYLIGHT
BEGIN:STANDARD
TZOFFSETFROM:-0500
TZOFFSETTO:-0600
TZNAME:CST
DTSTART:20241103T070000
END:STANDARD
BEGIN:DAYLIGHT
TZOFFSETFROM:-0600
TZOFFSETTO:-0500
TZNAME:CDT
DTSTART:20250309T080000
END:DAYLIGHT
BEGIN:STANDARD
TZOFFSETFROM:-0500
TZOFFSETTO:-0600
TZNAME:CST
DTSTART:20251102T070000
END:STANDARD
END:VTIMEZONE
BEGIN:VEVENT
DTSTART;TZID=America/Chicago:20240129T163000
DTEND;TZID=America/Chicago:20240129T204500
DTSTAMP:20260425T223800
CREATED:20231206T033021Z
LAST-MODIFIED:20240826T202916Z
UID:2470-1706545800-1706561100@grandviewchristianschool.org
SUMMARY:JV2/JV1/V Boys Basketball at Williamsburg
DESCRIPTION:JV2- 4:30; JV1- 6:00; V- 7:15
URL:https://grandviewchristianschool.org/event/jv2-boys-basketball-at-williamsburg/
LOCATION:Williamsburg High School\, 810 W Walnut St\, Williamsburg\, IA\, 52361\, United States
CATEGORIES:JV Boys Basketball,Master Calendar
END:VEVENT
BEGIN:VEVENT
DTSTART;TZID=America/Chicago:20240125T170000
DTEND;TZID=America/Chicago:20240125T211500
DTSTAMP:20260425T223800
CREATED:20231206T040935Z
LAST-MODIFIED:20240826T202914Z
UID:2496-1706202000-1706217300@grandviewchristianschool.org
SUMMARY:JV1/V Boys Basketball at Hampton-Dumont-CAL
DESCRIPTION:JV/G- 3:45; JV1/B- 5:00; V/G- 6:15; V/B- 7:45
URL:https://grandviewchristianschool.org/event/jv1-boys-basketball-at-hampton-dumont-cal/
LOCATION:Hampton-Dumont High School\, 101 12th Ave NW\, Hampton\, IA\, 50411\, United States
CATEGORIES:JV Boys Basketball,Master Calendar
END:VEVENT
BEGIN:VEVENT
DTSTART;TZID=America/Chicago:20240123T104500
DTEND;TZID=America/Chicago:20240123T150000
DTSTAMP:20260425T223800
CREATED:20231206T034714Z
LAST-MODIFIED:20240826T202916Z
UID:2486-1706006700-1706022000@grandviewchristianschool.org
SUMMARY:JV2/JV1/V Boys Basketball at Waukee Northwest
DESCRIPTION:JV2- 4:45; JV1- 6:15; V-7:45
URL:https://grandviewchristianschool.org/event/jv2-boys-basketball-at-waukee-nw/
LOCATION:Northwest High School\, 655 NW N 10th St\, Waukee\, IA\, 50263\, United States
CATEGORIES:JV Boys Basketball,Master Calendar
END:VEVENT
BEGIN:VEVENT
DTSTART;TZID=America/Chicago:20240118T103000
DTEND;TZID=America/Chicago:20240118T150000
DTSTAMP:20260425T223800
CREATED:20231206T024605Z
LAST-MODIFIED:20240826T202911Z
UID:2457-1705573800-1705590000@grandviewchristianschool.org
SUMMARY:*CANCELED V Boys Basketball at Underwood
DESCRIPTION:V/G- 6:00; V/B- 7:30
URL:https://grandviewchristianschool.org/event/jv2-boys-basketball-at-underwood/
LOCATION:Underwood High School\, 629 North St\, Underwood\, IA\, 51576\, United States
CATEGORIES:JV Boys Basketball,Master Calendar
END:VEVENT
BEGIN:VEVENT
DTSTART;TZID=America/Chicago:20240110T224500
DTEND;TZID=America/Chicago:20240111T150000
DTSTAMP:20260425T223800
CREATED:20231206T022940Z
LAST-MODIFIED:20240826T202916Z
UID:2450-1704926700-1704985200@grandviewchristianschool.org
SUMMARY:JV2/JV1/V Boys Basketball vs East High School
DESCRIPTION:JV2- 4:45; JV1- 6:00; V- 7:30
URL:https://grandviewchristianschool.org/event/jv-boys-basketball-vs-east-high-school/
LOCATION:Faith Baptist Bible College\, 1900 NW 4th St
CATEGORIES:JV Boys Basketball,Master Calendar
END:VEVENT
BEGIN:VEVENT
DTSTART;TZID=America/Chicago:20240109T104500
DTEND;TZID=America/Chicago:20240109T120000
DTSTAMP:20260425T223800
CREATED:20231206T020508Z
LAST-MODIFIED:20240826T202911Z
UID:2441-1704797100-1704801600@grandviewchristianschool.org
SUMMARY:*POSTPONED* JV1 Boys Basketball vs Perry
DESCRIPTION:
URL:https://grandviewchristianschool.org/event/jv1-boys-basketball-vs-perry/
LOCATION:Faith Baptist Bible College\, 1900 NW 4th St
CATEGORIES:JV Boys Basketball,Master Calendar
END:VEVENT
BEGIN:VEVENT
DTSTART;TZID=America/Chicago:20240106T090000
DTEND;TZID=America/Chicago:20240106T103000
DTSTAMP:20260425T223800
CREATED:20231130T220655Z
LAST-MODIFIED:20240826T202912Z
UID:2365-1704531600-1704537000@grandviewchristianschool.org
SUMMARY:JV Boys Basketball vs Treynor
DESCRIPTION:
URL:https://grandviewchristianschool.org/event/jv-boys-basketball-vs-treynor/
LOCATION:Faith Baptist Bible College\, 1900 NW 4th St
CATEGORIES:JV Boys Basketball,Master Calendar
END:VEVENT
BEGIN:VEVENT
DTSTART;TZID=America/Chicago:20240104T133000
DTEND;TZID=America/Chicago:20240104T150000
DTSTAMP:20260425T223800
CREATED:20231206T012950Z
LAST-MODIFIED:20240826T202913Z
UID:2432-1704375000-1704380400@grandviewchristianschool.org
SUMMARY:JV1 Boys Basketball vs ACA
DESCRIPTION:
URL:https://grandviewchristianschool.org/event/jv1-boys-basketball-vs-aca/
LOCATION:Faith Baptist Bible College\, 1900 NW 4th St
CATEGORIES:JV Boys Basketball,Master Calendar
END:VEVENT
BEGIN:VEVENT
DTSTART;TZID=America/Chicago:20240104T121500
DTEND;TZID=America/Chicago:20240104T133000
DTSTAMP:20260425T223800
CREATED:20231206T012134Z
LAST-MODIFIED:20240826T202915Z
UID:2430-1704370500-1704375000@grandviewchristianschool.org
SUMMARY:JV2 Boys Basketball vs ACA
DESCRIPTION:
URL:https://grandviewchristianschool.org/event/jv2-boys-basketball-vs-aca/
LOCATION:Faith Baptist Bible College\, 1900 NW 4th St
CATEGORIES:JV Boys Basketball,Master Calendar
END:VEVENT
END:VCALENDAR