BEGIN:VCALENDAR
VERSION:2.0
PRODID:-//Grand View Christian School - Des Moines, IA - ECPv6.15.13.1//NONSGML v1.0//EN
CALSCALE:GREGORIAN
METHOD:PUBLISH
X-ORIGINAL-URL:https://grandviewchristianschool.org
X-WR-CALDESC:Events for Grand View Christian School - Des Moines, IA
REFRESH-INTERVAL;VALUE=DURATION:PT1H
X-Robots-Tag:noindex
X-PUBLISHED-TTL:PT1H
BEGIN:VTIMEZONE
TZID:America/Chicago
BEGIN:DAYLIGHT
TZOFFSETFROM:-0600
TZOFFSETTO:-0500
TZNAME:CDT
DTSTART:20230312T080000
END:DAYLIGHT
BEGIN:STANDARD
TZOFFSETFROM:-0500
TZOFFSETTO:-0600
TZNAME:CST
DTSTART:20231105T070000
END:STANDARD
BEGIN:DAYLIGHT
TZOFFSETFROM:-0600
TZOFFSETTO:-0500
TZNAME:CDT
DTSTART:20240310T080000
END:DAYLIGHT
BEGIN:STANDARD
TZOFFSETFROM:-0500
TZOFFSETTO:-0600
TZNAME:CST
DTSTART:20241103T070000
END:STANDARD
BEGIN:DAYLIGHT
TZOFFSETFROM:-0600
TZOFFSETTO:-0500
TZNAME:CDT
DTSTART:20250309T080000
END:DAYLIGHT
BEGIN:STANDARD
TZOFFSETFROM:-0500
TZOFFSETTO:-0600
TZNAME:CST
DTSTART:20251102T070000
END:STANDARD
BEGIN:DAYLIGHT
TZOFFSETFROM:-0600
TZOFFSETTO:-0500
TZNAME:CDT
DTSTART:20260308T080000
END:DAYLIGHT
BEGIN:STANDARD
TZOFFSETFROM:-0500
TZOFFSETTO:-0600
TZNAME:CST
DTSTART:20261101T070000
END:STANDARD
END:VTIMEZONE
BEGIN:VEVENT
DTSTART;TZID=America/Chicago:20250520T160000
DTEND;TZID=America/Chicago:20250520T203000
DTSTAMP:20260425T203828
CREATED:20240708T163858Z
LAST-MODIFIED:20250502T160953Z
UID:5391-1747756800-1747773000@grandviewchristianschool.org
SUMMARY:Middle School Band/Choir Concert
DESCRIPTION:6th Grade Band and Choir – 4 p.m. \n7th Grade Band and Choir – 5:30 p.m. \n8th Grade Band and Choir – 7 p.m.
URL:https://grandviewchristianschool.org/event/middle-school-band-choir-concert/
CATEGORIES:All Parents,HS Parents,Master Calendar,MS Parents
END:VEVENT
BEGIN:VEVENT
DTSTART;TZID=America/Chicago:20250412T090000
DTEND;TZID=America/Chicago:20250412T120000
DTSTAMP:20260425T203828
CREATED:20250224T153350Z
LAST-MODIFIED:20250224T153350Z
UID:6948-1744448400-1744459200@grandviewchristianschool.org
SUMMARY:MS Band Solo/Ensemble Festival
DESCRIPTION:This event will take place in the MS/HS auditorium and music room (303)
URL:https://grandviewchristianschool.org/event/ms-band-solo-ensemble-festival/
LOCATION:GVCS High School\, 1701 E 33rd St\, Des Moines\, IA\, 50317\, United States
CATEGORIES:MS Parents
END:VEVENT
BEGIN:VEVENT
DTSTART;VALUE=DATE:20250324
DTEND;VALUE=DATE:20250325
DTSTAMP:20260425T203828
CREATED:20240708T152536Z
LAST-MODIFIED:20250304T173531Z
UID:5368-1742774400-1742860799@grandviewchristianschool.org
SUMMARY:Junior High Track and Field Starts
DESCRIPTION:
URL:https://grandviewchristianschool.org/event/junior-high-track-and-field-starts/
CATEGORIES:JH Girls/Boys Track,Master Calendar,MS Parents
END:VEVENT
BEGIN:VEVENT
DTSTART;TZID=America/Chicago:20250108T130000
DTEND;TZID=America/Chicago:20250108T143000
DTSTAMP:20260425T203828
CREATED:20241114T183448Z
LAST-MODIFIED:20250106T155650Z
UID:6439-1736341200-1736346600@grandviewchristianschool.org
SUMMARY:JH Boys Basketball & Hopesong/Regen Pictures
DESCRIPTION:
URL:https://grandviewchristianschool.org/event/jh-boys-basketball-hopesong-regen-pictures/
CATEGORIES:HS Parents,MS Parents
END:VEVENT
BEGIN:VEVENT
DTSTART;TZID=America/Chicago:20241212T160000
DTEND;TZID=America/Chicago:20241212T173000
DTSTAMP:20260425T203828
CREATED:20240708T145814Z
LAST-MODIFIED:20241022T155847Z
UID:5342-1734019200-1734024600@grandviewchristianschool.org
SUMMARY:MS Christmas Concert - 6th grade Band & Choir
DESCRIPTION:
URL:https://grandviewchristianschool.org/event/middle-school-christmas-concert/
LOCATION:GVCS High School\, 1701 E 33rd St\, Des Moines\, IA\, 50317\, United States
CATEGORIES:All Parents,MS Parents
END:VEVENT
BEGIN:VEVENT
DTSTART;VALUE=DATE:20241021
DTEND;VALUE=DATE:20241022
DTSTAMP:20260425T203828
CREATED:20240708T144600Z
LAST-MODIFIED:20241115T203816Z
UID:5326-1729468800-1729555199@grandviewchristianschool.org
SUMMARY:Junior High Girls Basketball Starts
DESCRIPTION:
URL:https://grandviewchristianschool.org/event/junior-high-girls-basketball-starts/
CATEGORIES:All Parents,Master Calendar,MS Parents
END:VEVENT
BEGIN:VEVENT
DTSTART;TZID=America/Chicago:20240521T180000
DTEND;TZID=America/Chicago:20240521T203000
DTSTAMP:20260425T203828
CREATED:20240304T145649Z
LAST-MODIFIED:20240304T150336Z
UID:4813-1716314400-1716323400@grandviewchristianschool.org
SUMMARY:MS Spring Band & Choir Concert
DESCRIPTION:6th grade at 6:00 pm and 7th/8th grades at 7:30 pm
URL:https://grandviewchristianschool.org/event/ms-band-choir-spring-concert/
LOCATION:GVCS High School\, 1701 E 33rd St\, Des Moines\, IA\, 50317\, United States
CATEGORIES:MS Parents
END:VEVENT
END:VCALENDAR