BEGIN:VCALENDAR
VERSION:2.0
PRODID:-//Grand View Christian School - Des Moines, IA - ECPv6.15.13.1//NONSGML v1.0//EN
CALSCALE:GREGORIAN
METHOD:PUBLISH
X-WR-CALNAME:Grand View Christian School - Des Moines, IA
X-ORIGINAL-URL:https://grandviewchristianschool.org
X-WR-CALDESC:Events for Grand View Christian School - Des Moines, IA
REFRESH-INTERVAL;VALUE=DURATION:PT1H
X-Robots-Tag:noindex
X-PUBLISHED-TTL:PT1H
BEGIN:VTIMEZONE
TZID:America/Chicago
BEGIN:DAYLIGHT
TZOFFSETFROM:-0600
TZOFFSETTO:-0500
TZNAME:CDT
DTSTART:20230312T080000
END:DAYLIGHT
BEGIN:STANDARD
TZOFFSETFROM:-0500
TZOFFSETTO:-0600
TZNAME:CST
DTSTART:20231105T070000
END:STANDARD
BEGIN:DAYLIGHT
TZOFFSETFROM:-0600
TZOFFSETTO:-0500
TZNAME:CDT
DTSTART:20240310T080000
END:DAYLIGHT
BEGIN:STANDARD
TZOFFSETFROM:-0500
TZOFFSETTO:-0600
TZNAME:CST
DTSTART:20241103T070000
END:STANDARD
BEGIN:DAYLIGHT
TZOFFSETFROM:-0600
TZOFFSETTO:-0500
TZNAME:CDT
DTSTART:20250309T080000
END:DAYLIGHT
BEGIN:STANDARD
TZOFFSETFROM:-0500
TZOFFSETTO:-0600
TZNAME:CST
DTSTART:20251102T070000
END:STANDARD
BEGIN:DAYLIGHT
TZOFFSETFROM:-0600
TZOFFSETTO:-0500
TZNAME:CDT
DTSTART:20260308T080000
END:DAYLIGHT
BEGIN:STANDARD
TZOFFSETFROM:-0500
TZOFFSETTO:-0600
TZNAME:CST
DTSTART:20261101T070000
END:STANDARD
END:VTIMEZONE
BEGIN:VEVENT
DTSTART;VALUE=DATE:20250324
DTEND;VALUE=DATE:20250325
DTSTAMP:20260425T203107
CREATED:20240708T152536Z
LAST-MODIFIED:20250304T173531Z
UID:5368-1742774400-1742860799@grandviewchristianschool.org
SUMMARY:Junior High Track and Field Starts
DESCRIPTION:
URL:https://grandviewchristianschool.org/event/junior-high-track-and-field-starts/
LOCATION:IA
CATEGORIES:JH Girls/Boys Track,Master Calendar,MS Parents
END:VEVENT
BEGIN:VEVENT
DTSTART;TZID=America/Chicago:20240502T163000
DTEND;TZID=America/Chicago:20240502T210000
DTSTAMP:20260425T203107
CREATED:20240131T185401Z
LAST-MODIFIED:20240826T202106Z
UID:4275-1714667400-1714683600@grandviewchristianschool.org
SUMMARY:JH G/B Track @ Madrid Invitational
DESCRIPTION:
URL:https://grandviewchristianschool.org/event/ms-g-b-track-madrid-invitational/
LOCATION:Madrid High School\, 599 N Kennedy Ave\, Madrid\, IA\, 50156\, United States
CATEGORIES:JH Girls/Boys Track,Master Calendar
END:VEVENT
BEGIN:VEVENT
DTSTART;TZID=America/Chicago:20240429T163000
DTEND;TZID=America/Chicago:20240429T210000
DTSTAMP:20260425T203107
CREATED:20240131T184715Z
LAST-MODIFIED:20240826T202106Z
UID:4272-1714408200-1714424400@grandviewchristianschool.org
SUMMARY:JH G/B Track @ Lynnville-Sully Invitational
DESCRIPTION:
URL:https://grandviewchristianschool.org/event/ms-g-b-lynnville-sully-invitational/
LOCATION:Lynnville-Sully High School\, 12476 Highway F62E\, Sully\, IA\, 50251\, United States
CATEGORIES:JH Girls/Boys Track,Master Calendar
END:VEVENT
BEGIN:VEVENT
DTSTART;TZID=America/Chicago:20240425T163000
DTEND;TZID=America/Chicago:20240425T210000
DTSTAMP:20260425T203107
CREATED:20240131T184413Z
LAST-MODIFIED:20240826T202106Z
UID:4269-1714062600-1714078800@grandviewchristianschool.org
SUMMARY:JH G/B Track @ DMC Invitational
DESCRIPTION:
URL:https://grandviewchristianschool.org/event/ms-g-b-track-dmc-invitational/
LOCATION:Des Moines Christian School\, 13007 Douglas Parkway\, Urbandale\, IA\, 50323\, United States
CATEGORIES:JH Girls/Boys Track,Master Calendar
END:VEVENT
BEGIN:VEVENT
DTSTART;TZID=America/Chicago:20240422T163000
DTEND;TZID=America/Chicago:20240422T200000
DTSTAMP:20260425T203107
CREATED:20240416T152958Z
LAST-MODIFIED:20240826T202106Z
UID:5004-1713803400-1713816000@grandviewchristianschool.org
SUMMARY:JH G/B Track @ EBF Little Rocket Relays
DESCRIPTION:
URL:https://grandviewchristianschool.org/event/jh-g-b-track-ebf-little-rocket-relays/
LOCATION:Eddyville Blakesburg Fremont High School\, 1301 Berdan St\, Eddyville\, IA\, 52553\, United States
CATEGORIES:JH Girls/Boys Track,Master Calendar
END:VEVENT
BEGIN:VEVENT
DTSTART;TZID=America/Chicago:20240418T163000
DTEND;TZID=America/Chicago:20240418T210000
DTSTAMP:20260425T203107
CREATED:20240131T184143Z
LAST-MODIFIED:20240826T202106Z
UID:4265-1713457800-1713474000@grandviewchristianschool.org
SUMMARY:JH G/B Track @ Bondurant Invitational
DESCRIPTION:
URL:https://grandviewchristianschool.org/event/ms-g-b-track-boundrant-invitational/
LOCATION:Bondurant High School\, 1000 Grant St N\, Bondurant\, IA\, 50035\, United States
CATEGORIES:JH Girls/Boys Track,Master Calendar
END:VEVENT
BEGIN:VEVENT
DTSTART;TZID=America/Chicago:20240416T163000
DTEND;TZID=America/Chicago:20240416T210000
DTSTAMP:20260425T203107
CREATED:20240305T171648Z
LAST-MODIFIED:20240826T202107Z
UID:4825-1713285000-1713301200@grandviewchristianschool.org
SUMMARY:JH G/B Track @ Saydel Invitational
DESCRIPTION:
URL:https://grandviewchristianschool.org/event/ms-g-b-track-saydel-invitational/
LOCATION:Saydel High School\, 5601 NE 7th St\, Des Moines\, IA\, 50313\, United States
CATEGORIES:JH Girls/Boys Track,Master Calendar
END:VEVENT
BEGIN:VEVENT
DTSTART;TZID=America/Chicago:20240411T163000
DTEND;TZID=America/Chicago:20240411T203000
DTSTAMP:20260425T203107
CREATED:20240404T174533Z
LAST-MODIFIED:20240826T202106Z
UID:4979-1712853000-1712867400@grandviewchristianschool.org
SUMMARY:JH G/B Track @ DMC
DESCRIPTION:
URL:https://grandviewchristianschool.org/event/ms-g-b-track-dmc/
LOCATION:IA
CATEGORIES:JH Girls/Boys Track,Master Calendar
END:VEVENT
BEGIN:VEVENT
DTSTART;TZID=America/Chicago:20240408T163000
DTEND;TZID=America/Chicago:20240408T210000
DTSTAMP:20260425T203107
CREATED:20240131T182543Z
LAST-MODIFIED:20240826T202107Z
UID:4262-1712593800-1712610000@grandviewchristianschool.org
SUMMARY:JH G/B Track @ Ogden Invitational
DESCRIPTION:
URL:https://grandviewchristianschool.org/event/ms-g-b-track-ogden-invitational/
LOCATION:Ogden High School\, 732 W Division St\, Ogden\, IA\, 50212\, United States
CATEGORIES:JH Girls/Boys Track,Master Calendar
END:VEVENT
BEGIN:VEVENT
DTSTART;TZID=America/Chicago:20240401T163000
DTEND;TZID=America/Chicago:20240401T210000
DTSTAMP:20260425T203107
CREATED:20240131T182352Z
LAST-MODIFIED:20240826T202105Z
UID:4259-1711989000-1712005200@grandviewchristianschool.org
SUMMARY:*Canceled JH G/B Track @ ACGC Invitational
DESCRIPTION:
URL:https://grandviewchristianschool.org/event/ms-g-b-track-acgc-invitational/
LOCATION:ACGC High School\, 900 School St\, Guthrie Center\, IA\, 50115\, United States
CATEGORIES:JH Girls/Boys Track,Master Calendar
END:VEVENT
END:VCALENDAR