BEGIN:VCALENDAR
VERSION:2.0
PRODID:-//Grand View Christian School - Des Moines, IA - ECPv6.15.13.1//NONSGML v1.0//EN
CALSCALE:GREGORIAN
METHOD:PUBLISH
X-WR-CALNAME:Grand View Christian School - Des Moines, IA
X-ORIGINAL-URL:https://grandviewchristianschool.org
X-WR-CALDESC:Events for Grand View Christian School - Des Moines, IA
REFRESH-INTERVAL;VALUE=DURATION:PT1H
X-Robots-Tag:noindex
X-PUBLISHED-TTL:PT1H
BEGIN:VTIMEZONE
TZID:America/Chicago
BEGIN:DAYLIGHT
TZOFFSETFROM:-0600
TZOFFSETTO:-0500
TZNAME:CDT
DTSTART:20230312T080000
END:DAYLIGHT
BEGIN:STANDARD
TZOFFSETFROM:-0500
TZOFFSETTO:-0600
TZNAME:CST
DTSTART:20231105T070000
END:STANDARD
BEGIN:DAYLIGHT
TZOFFSETFROM:-0600
TZOFFSETTO:-0500
TZNAME:CDT
DTSTART:20240310T080000
END:DAYLIGHT
BEGIN:STANDARD
TZOFFSETFROM:-0500
TZOFFSETTO:-0600
TZNAME:CST
DTSTART:20241103T070000
END:STANDARD
BEGIN:DAYLIGHT
TZOFFSETFROM:-0600
TZOFFSETTO:-0500
TZNAME:CDT
DTSTART:20250309T080000
END:DAYLIGHT
BEGIN:STANDARD
TZOFFSETFROM:-0500
TZOFFSETTO:-0600
TZNAME:CST
DTSTART:20251102T070000
END:STANDARD
BEGIN:DAYLIGHT
TZOFFSETFROM:-0600
TZOFFSETTO:-0500
TZNAME:CDT
DTSTART:20260308T080000
END:DAYLIGHT
BEGIN:STANDARD
TZOFFSETFROM:-0500
TZOFFSETTO:-0600
TZNAME:CST
DTSTART:20261101T070000
END:STANDARD
END:VTIMEZONE
BEGIN:VEVENT
DTSTART;TZID=America/Chicago:20250705T190000
DTEND;TZID=America/Chicago:20250705T210000
DTSTAMP:20260425T203106
CREATED:20250625T151622Z
LAST-MODIFIED:20250625T155947Z
UID:7404-1751742000-1751749200@grandviewchristianschool.org
SUMMARY:Varsity Boys Baseball vs Pella Christian - Substate First Round
DESCRIPTION:
URL:https://grandviewchristianschool.org/event/varsity-boys-baseball-vs-pella-christian-substate-first-round/
LOCATION:James Cownie Baseball Park\, 2501 SE 22nd St\, Des Moines\, IA\, 50320\, United States
CATEGORIES:HS Baseball
END:VEVENT
BEGIN:VEVENT
DTSTART;TZID=America/Chicago:20250702T170000
DTEND;TZID=America/Chicago:20250702T210000
DTSTAMP:20260425T203106
CREATED:20250428T150322Z
LAST-MODIFIED:20250625T161416Z
UID:7273-1751475600-1751490000@grandviewchristianschool.org
SUMMARY:Varsity Baseball DH (H) South Hamilton
DESCRIPTION:5 p.m. and 7 p.m.
URL:https://grandviewchristianschool.org/event/jv-v-baseball-h-ogden/
LOCATION:James Cownie Baseball Park\, 2501 SE 22nd St\, Des Moines\, IA\, 50320\, United States
CATEGORIES:HS Baseball
END:VEVENT
BEGIN:VEVENT
DTSTART;TZID=America/Chicago:20250701T170000
DTEND;TZID=America/Chicago:20250701T210000
DTSTAMP:20260425T203106
CREATED:20250428T150237Z
LAST-MODIFIED:20250428T150237Z
UID:7271-1751389200-1751403600@grandviewchristianschool.org
SUMMARY:JV/V Baseball @ Pella Christian
DESCRIPTION:JV- 5:00; V- 7:00
URL:https://grandviewchristianschool.org/event/jv-v-baseball-pella-christian-2/
LOCATION:Pella Christian High School\, 300 Eagle Ln\, Pella\, IA\, 50219\, United States
CATEGORIES:HS Baseball
END:VEVENT
BEGIN:VEVENT
DTSTART;TZID=America/Chicago:20250628T140000
DTEND;TZID=America/Chicago:20250628T200000
DTSTAMP:20260425T203106
CREATED:20250428T150147Z
LAST-MODIFIED:20250529T194912Z
UID:7269-1751119200-1751140800@grandviewchristianschool.org
SUMMARY:V Baseball Tourney @ Waterloo Bucks
DESCRIPTION:2 p.m. vs Central Lee\nIf lose- 4 p.m.\nIf win- 6 p.m.
URL:https://grandviewchristianschool.org/event/v-baseball-tourney-waterloo-bucks/
LOCATION:Riverfront Stadium\, 850 Park Rd\, Waterloo\, IA\, 50703\, United States
CATEGORIES:HS Baseball
END:VEVENT
BEGIN:VEVENT
DTSTART;TZID=America/Chicago:20250627T171500
DTEND;TZID=America/Chicago:20250627T213000
DTSTAMP:20260425T203106
CREATED:20250428T150026Z
LAST-MODIFIED:20250428T150026Z
UID:7267-1751044500-1751059800@grandviewchristianschool.org
SUMMARY:JV/V Baseball @ Nevada
DESCRIPTION:JV- 5:15; V- 7:30
URL:https://grandviewchristianschool.org/event/jv-v-baseball-nevada-2/
LOCATION:Nevade SCORE Recreation Complex\, 1545 Fawcett Pkwy\, Nevada\, IA\, 50201\, United States
CATEGORIES:HS Baseball
END:VEVENT
BEGIN:VEVENT
DTSTART;TZID=America/Chicago:20250623T143000
DTEND;TZID=America/Chicago:20250623T213000
DTSTAMP:20260425T203106
CREATED:20250428T145726Z
LAST-MODIFIED:20250428T145726Z
UID:7262-1750689000-1750714200@grandviewchristianschool.org
SUMMARY:JV & V/DH Baseball (H) Saydel
DESCRIPTION:JV- 2:30; V- 5:00 & 7:30
URL:https://grandviewchristianschool.org/event/jv-v-dh-baseball-h-saydel/
LOCATION:James Cownie Baseball Park\, 2501 SE 22nd St\, Des Moines\, IA\, 50320\, United States
CATEGORIES:HS Baseball
END:VEVENT
BEGIN:VEVENT
DTSTART;TZID=America/Chicago:20250621T100000
DTEND;TZID=America/Chicago:20250621T180000
DTSTAMP:20260425T203106
CREATED:20250428T145611Z
LAST-MODIFIED:20250428T145611Z
UID:7260-1750500000-1750528800@grandviewchristianschool.org
SUMMARY:V Baseball @ Saydel Jim Gebhart Tourney
DESCRIPTION:vs Webster City & Van Meter
URL:https://grandviewchristianschool.org/event/v-baseball-saydel-jim-gebhart-tourney/
LOCATION:Saydel High School\, 5601 NE 7th St\, Des Moines\, IA\, 50313\, United States
CATEGORIES:HS Baseball
END:VEVENT
BEGIN:VEVENT
DTSTART;TZID=America/Chicago:20250620T171500
DTEND;TZID=America/Chicago:20250620T213000
DTSTAMP:20260425T203106
CREATED:20250428T145455Z
LAST-MODIFIED:20250428T145455Z
UID:7257-1750439700-1750455000@grandviewchristianschool.org
SUMMARY:JV/V Baseball @ PCM
DESCRIPTION:JV- 5:15; V- 7:30
URL:https://grandviewchristianschool.org/event/jv-v-baseball-pcm/
LOCATION:Prairie City Elementary School\, 309 E Plainsman Rd\, Prairie City\, IA\, United States
CATEGORIES:HS Baseball
END:VEVENT
BEGIN:VEVENT
DTSTART;TZID=America/Chicago:20250618T171500
DTEND;TZID=America/Chicago:20250618T213000
DTSTAMP:20260425T203106
CREATED:20250428T145306Z
LAST-MODIFIED:20250428T145306Z
UID:7255-1750266900-1750282200@grandviewchristianschool.org
SUMMARY:JV/V Baseball (H) South Hamilton
DESCRIPTION:JV- 5:15; V- 7:30
URL:https://grandviewchristianschool.org/event/jv-v-baseball-h-south-hamilton-2/
LOCATION:James Cownie Baseball Park\, 2501 SE 22nd St\, Des Moines\, IA\, 50320\, United States
CATEGORIES:HS Baseball
END:VEVENT
BEGIN:VEVENT
DTSTART;TZID=America/Chicago:20250616T171500
DTEND;TZID=America/Chicago:20250616T213000
DTSTAMP:20260425T203106
CREATED:20250428T145118Z
LAST-MODIFIED:20250428T145118Z
UID:7251-1750094100-1750109400@grandviewchristianschool.org
SUMMARY:V/DH Baseball @ West Marshall
DESCRIPTION:5:15 & 7:30
URL:https://grandviewchristianschool.org/event/v-dh-baseball-west-marshall/
LOCATION:Schilling Field\, 499 2nd St SW\, State Center\, IA\, United States
CATEGORIES:HS Baseball
END:VEVENT
BEGIN:VEVENT
DTSTART;TZID=America/Chicago:20250613T171500
DTEND;TZID=America/Chicago:20250613T213000
DTSTAMP:20260425T203106
CREATED:20250428T144916Z
LAST-MODIFIED:20250428T144916Z
UID:7249-1749834900-1749850200@grandviewchristianschool.org
SUMMARY:JV/V Baseball @ Greene County
DESCRIPTION:JV- 5:15; V- 7:30
URL:https://grandviewchristianschool.org/event/jv-v-baseball-greene-county/
LOCATION:Greene County Middle School\, 101 Ram Drive\, Jefferson\, IA\, 50129\, United States
CATEGORIES:HS Baseball
END:VEVENT
BEGIN:VEVENT
DTSTART;TZID=America/Chicago:20250612T170000
DTEND;TZID=America/Chicago:20250612T210000
DTSTAMP:20260425T203106
CREATED:20250428T144801Z
LAST-MODIFIED:20250428T144801Z
UID:7247-1749747600-1749762000@grandviewchristianschool.org
SUMMARY:JV/V Baseball (H) Woodward-Granger
DESCRIPTION:JV- 5:00; V- 7:00
URL:https://grandviewchristianschool.org/event/jv-v-baseball-h-woodward-granger/
LOCATION:James Cownie Baseball Park\, 2501 SE 22nd St\, Des Moines\, IA\, 50320\, United States
CATEGORIES:HS Baseball
END:VEVENT
BEGIN:VEVENT
DTSTART;TZID=America/Chicago:20250611T171500
DTEND;TZID=America/Chicago:20250611T213000
DTSTAMP:20260425T203106
CREATED:20250428T144706Z
LAST-MODIFIED:20250428T144706Z
UID:7245-1749662100-1749677400@grandviewchristianschool.org
SUMMARY:JV/V Baseball (H) Roland-Story
DESCRIPTION:JV- 5:15; V- 7:30
URL:https://grandviewchristianschool.org/event/jv-v-baseball-h-roland-story/
CATEGORIES:HS Baseball
END:VEVENT
BEGIN:VEVENT
DTSTART;TZID=America/Chicago:20250609T171500
DTEND;TZID=America/Chicago:20250609T213000
DTSTAMP:20260425T203106
CREATED:20250428T143035Z
LAST-MODIFIED:20250428T143143Z
UID:7243-1749489300-1749504600@grandviewchristianschool.org
SUMMARY:JV/V Baseball @ Perry
DESCRIPTION:JV- 5:15; V- 7:30
URL:https://grandviewchristianschool.org/event/jv-v-baseball-perry-2/
LOCATION:Perry High School\, 1200 18th St\, Perry\, IA\, 50220\, United States
CATEGORIES:HS Baseball
END:VEVENT
BEGIN:VEVENT
DTSTART;TZID=America/Chicago:20250607T110000
DTEND;TZID=America/Chicago:20250607T150000
DTSTAMP:20260425T203106
CREATED:20250428T142516Z
LAST-MODIFIED:20250428T142516Z
UID:7241-1749294000-1749308400@grandviewchristianschool.org
SUMMARY:V Baseball @BGM Tourney
DESCRIPTION:11am vs Gladbrook Reinbeck\n1pm vs BGM
URL:https://grandviewchristianschool.org/event/v-baseball-bgm-tourney/
CATEGORIES:HS Baseball
END:VEVENT
BEGIN:VEVENT
DTSTART;TZID=America/Chicago:20250606T171500
DTEND;TZID=America/Chicago:20250606T213000
DTSTAMP:20260425T203106
CREATED:20250428T142331Z
LAST-MODIFIED:20250428T142331Z
UID:7239-1749230100-1749245400@grandviewchristianschool.org
SUMMARY:JV/V Baseball (H) Nevada
DESCRIPTION:JV- 5:15; V- 7:30
URL:https://grandviewchristianschool.org/event/jv-v-baseball-h-nevada/
LOCATION:James Cownie Baseball Park\, 2501 SE 22nd St\, Des Moines\, IA\, 50320\, United States
CATEGORIES:HS Baseball
END:VEVENT
BEGIN:VEVENT
DTSTART;TZID=America/Chicago:20250604T140000
DTEND;TZID=America/Chicago:20250604T200000
DTSTAMP:20260425T203106
CREATED:20250428T142238Z
LAST-MODIFIED:20250428T142238Z
UID:7237-1749045600-1749067200@grandviewchristianschool.org
SUMMARY:V Baseball (H) vs DMC & ACA
DESCRIPTION:2:00 GVC vs ACA\n4:00 ACA vs DMC\n6:00 GVC vs DMC
URL:https://grandviewchristianschool.org/event/v-baseball-h-vs-dmc-aca/
LOCATION:James Cownie Baseball Park\, 2501 SE 22nd St\, Des Moines\, IA\, 50320\, United States
CATEGORIES:HS Baseball
END:VEVENT
BEGIN:VEVENT
DTSTART;TZID=America/Chicago:20250603T171500
DTEND;TZID=America/Chicago:20250603T213000
DTSTAMP:20260425T203106
CREATED:20250428T141837Z
LAST-MODIFIED:20250520T184205Z
UID:7231-1748970900-1748986200@grandviewchristianschool.org
SUMMARY:JV/V Baseball @ South Hamilton
DESCRIPTION:JV- 5:15; V- 7:30
URL:https://grandviewchristianschool.org/event/jv-v-baseball-south-hamilton/
LOCATION:South Hamilton High School\, 315 Division St\, Jewell\, IA\, 50130\, United States
CATEGORIES:HS Baseball
END:VEVENT
BEGIN:VEVENT
DTSTART;TZID=America/Chicago:20250530T171500
DTEND;TZID=America/Chicago:20250530T213000
DTSTAMP:20260425T203106
CREATED:20250428T142037Z
LAST-MODIFIED:20250428T142037Z
UID:7235-1748625300-1748640600@grandviewchristianschool.org
SUMMARY:JV/V Baseball (H) PCM
DESCRIPTION:JV- 5:15; V- 7:30
URL:https://grandviewchristianschool.org/event/jv-v-baseball-h-pcm/
CATEGORIES:HS Baseball
END:VEVENT
BEGIN:VEVENT
DTSTART;TZID=America/Chicago:20250529T171500
DTEND;TZID=America/Chicago:20250529T213000
DTSTAMP:20260425T203106
CREATED:20250428T141939Z
LAST-MODIFIED:20250428T141939Z
UID:7233-1748538900-1748554200@grandviewchristianschool.org
SUMMARY:JV/V Baseball (H) Greene County
DESCRIPTION:JV- 5:15; V- 7:30
URL:https://grandviewchristianschool.org/event/jv-v-baseball-h-greene-county/
LOCATION:James Cownie Baseball Park\, 2501 SE 22nd St\, Des Moines\, IA\, 50320\, United States
CATEGORIES:HS Baseball
END:VEVENT
BEGIN:VEVENT
DTSTART;TZID=America/Chicago:20250521T170000
DTEND;TZID=America/Chicago:20250521T210000
DTSTAMP:20260425T203106
CREATED:20250428T141658Z
LAST-MODIFIED:20250428T141658Z
UID:7229-1747846800-1747861200@grandviewchristianschool.org
SUMMARY:JV/V Baseball @ Pleasantville
DESCRIPTION:JV- 5:00; V- 7:00
URL:https://grandviewchristianschool.org/event/jv-v-baseball-pleasantville/
LOCATION:Pleasantville High School\, 415 Jones St\, Pleasantville\, IA\, 50225\, United States
CATEGORIES:HS Baseball
END:VEVENT
BEGIN:VEVENT
DTSTART;TZID=America/Chicago:20250519T171500
DTEND;TZID=America/Chicago:20250519T213000
DTSTAMP:20260425T203106
CREATED:20250428T141216Z
LAST-MODIFIED:20250520T184031Z
UID:7224-1747674900-1747690200@grandviewchristianschool.org
SUMMARY:JV/V Baseball @ Roland-Story - POSTPONED
DESCRIPTION:JV – 5:15; V- 7:30
URL:https://grandviewchristianschool.org/event/jv-v-baseball-roland-story-2/
LOCATION:Roland-Story Norsemen Field\, 1066 Forty Oaks Drive\, Story City\, IA\, 50248\, United States
CATEGORIES:HS Baseball
END:VEVENT
BEGIN:VEVENT
DTSTART;VALUE=DATE:20250512
DTEND;VALUE=DATE:20250513
DTSTAMP:20260425T203106
CREATED:20240708T163558Z
LAST-MODIFIED:20250502T160558Z
UID:5385-1747008000-1747094399@grandviewchristianschool.org
SUMMARY:Junior High Baseball/Softball Starts
DESCRIPTION:
URL:https://grandviewchristianschool.org/event/junior-high-baseball-softball-starts/
CATEGORIES:HS Baseball,HS Parents,HS Softball,Master Calendar
END:VEVENT
BEGIN:VEVENT
DTSTART;VALUE=DATE:20250505
DTEND;VALUE=DATE:20250506
DTSTAMP:20260425T203106
CREATED:20240708T163404Z
LAST-MODIFIED:20250502T163818Z
UID:5381-1746403200-1746489599@grandviewchristianschool.org
SUMMARY:High School Baseball/Softball Starts
DESCRIPTION:
URL:https://grandviewchristianschool.org/event/high-school-baseball-softball-starts/
CATEGORIES:All Parents,HS Baseball,HS Softball,Master Calendar
END:VEVENT
BEGIN:VEVENT
DTSTART;TZID=America/Chicago:20240713T190000
DTEND;TZID=America/Chicago:20240713T210000
DTSTAMP:20260425T203106
CREATED:20240201T153843Z
LAST-MODIFIED:20240826T192953Z
UID:4337-1720897200-1720904400@grandviewchristianschool.org
SUMMARY:Baseball District Final
DESCRIPTION:
URL:https://grandviewchristianschool.org/event/baseball-district-final/
CATEGORIES:HS Baseball,Master Calendar
END:VEVENT
BEGIN:VEVENT
DTSTART;TZID=America/Chicago:20240709T190000
DTEND;TZID=America/Chicago:20240709T203000
DTSTAMP:20260425T203106
CREATED:20240708T215720Z
LAST-MODIFIED:20240826T192954Z
UID:5419-1720551600-1720557000@grandviewchristianschool.org
SUMMARY:Baseball Districts RD 2 vs Earlham
DESCRIPTION:
URL:https://grandviewchristianschool.org/event/baseball-districts-rd-2-vs-earlham/
LOCATION:Earlham High School\, 535 N Chestnut Ave\, Earlham\, IA\, 50072\, United States
CATEGORIES:HS Baseball,Master Calendar
END:VEVENT
BEGIN:VEVENT
DTSTART;TZID=America/Chicago:20240706T190000
DTEND;TZID=America/Chicago:20240706T210000
DTSTAMP:20260425T203106
CREATED:20240201T153459Z
LAST-MODIFIED:20240826T192954Z
UID:4333-1720292400-1720299600@grandviewchristianschool.org
SUMMARY:Baseball Districts
DESCRIPTION:
URL:https://grandviewchristianschool.org/event/baseball-districts/
CATEGORIES:HS Baseball,Master Calendar
END:VEVENT
BEGIN:VEVENT
DTSTART;TZID=America/Chicago:20240703T150000
DTEND;TZID=America/Chicago:20240703T190000
DTSTAMP:20260425T203106
CREATED:20240201T152440Z
LAST-MODIFIED:20240826T192956Z
UID:4331-1720018800-1720033200@grandviewchristianschool.org
SUMMARY:JV/V Baseball (H) vs West Marshall
DESCRIPTION:JV- 3:00; V- 5:00
URL:https://grandviewchristianschool.org/event/jv-v-baseball-h-vs-west-marshall/
LOCATION:West Marshall High School\, 601 3rd St NW\, State Center\, IA\, 50247\, United States
CATEGORIES:HS Baseball,Master Calendar
END:VEVENT
BEGIN:VEVENT
DTSTART;TZID=America/Chicago:20240702T173000
DTEND;TZID=America/Chicago:20240702T213000
DTSTAMP:20260425T203106
CREATED:20240201T152325Z
LAST-MODIFIED:20240826T192957Z
UID:4329-1719941400-1719955800@grandviewchristianschool.org
SUMMARY:JV/V Baseball @ Pella Christian
DESCRIPTION:JV- 5:30; V- 7:30
URL:https://grandviewchristianschool.org/event/jv-v-baseball-pella-christian/
LOCATION:Pella Christian High School\, 300 Eagle Ln\, Pella\, IA\, 50219\, United States
CATEGORIES:HS Baseball,Master Calendar
END:VEVENT
BEGIN:VEVENT
DTSTART;TZID=America/Chicago:20240628T173000
DTEND;TZID=America/Chicago:20240628T213000
DTSTAMP:20260425T203106
CREATED:20240201T152219Z
LAST-MODIFIED:20240826T192956Z
UID:4326-1719595800-1719610200@grandviewchristianschool.org
SUMMARY:JV/V Baseball @ Martensdale-St. Marys
DESCRIPTION:JV- 5:30; V- 7:30
URL:https://grandviewchristianschool.org/event/jv-v-baseball-martensdale-st-marys/
LOCATION:Martensdale-St. Marys Baseball Field\, E Iowa St\, Saint Marys\, IA\, 50241\, United States
CATEGORIES:HS Baseball,Master Calendar
END:VEVENT
BEGIN:VEVENT
DTSTART;TZID=America/Chicago:20240626T170000
DTEND;TZID=America/Chicago:20240626T210000
DTSTAMP:20260425T203106
CREATED:20240624T161843Z
LAST-MODIFIED:20240826T192959Z
UID:5257-1719421200-1719435600@grandviewchristianschool.org
SUMMARY:V/JV @ Central Decatur (@Lamoni)
DESCRIPTION:V- 5:00; JV-7:00
URL:https://grandviewchristianschool.org/event/v-jv-central-decatur-lamoni/
LOCATION:Lamoni Foreman City Park\, Lamoni\, IA\, United States
CATEGORIES:HS Baseball,Master Calendar
END:VEVENT
BEGIN:VEVENT
DTSTART;TZID=America/Chicago:20240625T173000
DTEND;TZID=America/Chicago:20240625T213000
DTSTAMP:20260425T203106
CREATED:20240201T152041Z
LAST-MODIFIED:20240826T192958Z
UID:4323-1719336600-1719351000@grandviewchristianschool.org
SUMMARY:JV/V Baseball @ Twin Cedars\, Bussey
DESCRIPTION:JV- 5:30; V- 7:00
URL:https://grandviewchristianschool.org/event/jv-v-baseball-twin-cedars-bussey/
LOCATION:Twin Cedars High School\, 2204 Hwy G71\, Bussey\, IA\, 50044\, United States
CATEGORIES:HS Baseball,Master Calendar
END:VEVENT
BEGIN:VEVENT
DTSTART;TZID=America/Chicago:20240624T170000
DTEND;TZID=America/Chicago:20240624T210000
DTSTAMP:20260425T203106
CREATED:20240201T151901Z
LAST-MODIFIED:20240826T192955Z
UID:4321-1719248400-1719262800@grandviewchristianschool.org
SUMMARY:JV/V Baseball (H) vs ACA
DESCRIPTION:JV- 5:00; V- 7:00
URL:https://grandviewchristianschool.org/event/jv-v-baseball-h-vs-aca/
LOCATION:James Cownie Baseball Park\, 2501 SE 22nd St\, Des Moines\, IA\, 50320\, United States
CATEGORIES:HS Baseball,Master Calendar
END:VEVENT
BEGIN:VEVENT
DTSTART;TZID=America/Chicago:20240621T170000
DTEND;TZID=America/Chicago:20240621T210000
DTSTAMP:20260425T203106
CREATED:20240528T190019Z
LAST-MODIFIED:20240826T192958Z
UID:5175-1718989200-1719003600@grandviewchristianschool.org
SUMMARY:JV/V Baseball @ Woodward-Granger
DESCRIPTION:JV- 5:00; V- 7:00
URL:https://grandviewchristianschool.org/event/jv-v-baseball-woodward-granger/
LOCATION:Hawk Baseball Field\, 2101 Walnut Street\, Granger\, IA\, 50109\, United States
CATEGORIES:HS Baseball,Master Calendar
END:VEVENT
BEGIN:VEVENT
DTSTART;TZID=America/Chicago:20240619T170000
DTEND;TZID=America/Chicago:20240619T210000
DTSTAMP:20260425T203106
CREATED:20240528T185752Z
LAST-MODIFIED:20240826T192958Z
UID:5172-1718816400-1718830800@grandviewchristianschool.org
SUMMARY:JV/V Baseball @Nodaway Valley\, Greenfield
DESCRIPTION:JV- 5:00; V- 7:00
URL:https://grandviewchristianschool.org/event/jv-v-baseball-nodaway-valley-greenfield/
LOCATION:Nodaway Valley High School\, 410 NW 2nd St\, Greenfield\, IA\, 50849\, United States
CATEGORIES:HS Baseball,Master Calendar
END:VEVENT
BEGIN:VEVENT
DTSTART;TZID=America/Chicago:20240618T173000
DTEND;TZID=America/Chicago:20240618T213000
DTSTAMP:20260425T203106
CREATED:20240201T151807Z
LAST-MODIFIED:20240826T192955Z
UID:4319-1718731800-1718746200@grandviewchristianschool.org
SUMMARY:JV/V Baseball (H) vs CAM
DESCRIPTION:JV- 5:30; V- 7:30
URL:https://grandviewchristianschool.org/event/jv-v-baseball-h-vs-cam/
LOCATION:James Cownie Baseball Park\, 2501 SE 22nd St\, Des Moines\, IA\, 50320\, United States
CATEGORIES:HS Baseball,Master Calendar
END:VEVENT
BEGIN:VEVENT
DTSTART;TZID=America/Chicago:20240617T173000
DTEND;TZID=America/Chicago:20240617T210000
DTSTAMP:20260425T203106
CREATED:20240201T151701Z
LAST-MODIFIED:20240826T192956Z
UID:4316-1718645400-1718658000@grandviewchristianschool.org
SUMMARY:JV/V Baseball @ Lenox
DESCRIPTION:JV- 5:30; V- 7:15
URL:https://grandviewchristianschool.org/event/jv-v-baseball-lenox/
LOCATION:Lenox High School\, 600 S Locust St\, Lenox\, IA\, 50851\, United States
CATEGORIES:HS Baseball,Master Calendar
END:VEVENT
BEGIN:VEVENT
DTSTART;TZID=America/Chicago:20240615T100000
DTEND;TZID=America/Chicago:20240615T180000
DTSTAMP:20260425T203106
CREATED:20240201T151429Z
LAST-MODIFIED:20240826T192959Z
UID:4314-1718445600-1718474400@grandviewchristianschool.org
SUMMARY:V/DH Baseball @ Saydel Tourney
DESCRIPTION:Time and opponent TBA. Teams: GVC\, Muscatine\, Saydel\, Van Meter
URL:https://grandviewchristianschool.org/event/v-dh-baseball-saydel-tourney/
LOCATION:Saydel High School\, 5601 NE 7th St\, Des Moines\, IA\, 50313\, United States
CATEGORIES:HS Baseball,Master Calendar
END:VEVENT
BEGIN:VEVENT
DTSTART;TZID=America/Chicago:20240613T170000
DTEND;TZID=America/Chicago:20240613T210000
DTSTAMP:20260425T203106
CREATED:20240213T211942Z
LAST-MODIFIED:20240826T192955Z
UID:4536-1718298000-1718312400@grandviewchristianschool.org
SUMMARY:JV/V Baseball (H) South Hamilton
DESCRIPTION:JV- 5:00; V- 7:00
URL:https://grandviewchristianschool.org/event/jv-v-baseball-h-south-hamilton/
LOCATION:James Cownie Baseball Park\, 2501 SE 22nd St\, Des Moines\, IA\, 50320\, United States
CATEGORIES:HS Baseball,Master Calendar
END:VEVENT
BEGIN:VEVENT
DTSTART;TZID=America/Chicago:20240610T150000
DTEND;TZID=America/Chicago:20240610T210000
DTSTAMP:20260425T203106
CREATED:20240201T151300Z
LAST-MODIFIED:20240826T192959Z
UID:4312-1718031600-1718053200@grandviewchristianschool.org
SUMMARY:V/DH Baseball @ DMC
DESCRIPTION:3:00- GVC vs DMC\n5:00- GVC vs ACA\n7:00- ACA vs DMC
URL:https://grandviewchristianschool.org/event/v-dh-baseball-dmc/
LOCATION:Des Moines Christian School\, 13007 Douglas Parkway\, Urbandale\, IA\, 50323\, United States
CATEGORIES:HS Baseball,Master Calendar
END:VEVENT
BEGIN:VEVENT
DTSTART;TZID=America/Chicago:20240606T170000
DTEND;TZID=America/Chicago:20240606T190000
DTSTAMP:20260425T203106
CREATED:20240528T185249Z
LAST-MODIFIED:20240826T192958Z
UID:5170-1717693200-1717700400@grandviewchristianschool.org
SUMMARY:V Baseball (H) Collins-Maxwell
DESCRIPTION:
URL:https://grandviewchristianschool.org/event/jv-v-baseball-h-collins-maxwell/
LOCATION:James Cownie Baseball Park\, 2501 SE 22nd St\, Des Moines\, IA\, 50320\, United States
CATEGORIES:HS Baseball,Master Calendar
END:VEVENT
BEGIN:VEVENT
DTSTART;TZID=America/Chicago:20240604T170000
DTEND;TZID=America/Chicago:20240604T210000
DTSTAMP:20260425T203106
CREATED:20240201T145857Z
LAST-MODIFIED:20240826T192955Z
UID:4303-1717520400-1717534800@grandviewchristianschool.org
SUMMARY:JV/V Baseball (H) GMG
DESCRIPTION:JV- 5:00; V- 7:00
URL:https://grandviewchristianschool.org/event/jv-v-baseball-h-gmg/
LOCATION:James Cownie Baseball Park\, 2501 SE 22nd St\, Des Moines\, IA\, 50320\, United States
CATEGORIES:HS Baseball,Master Calendar
END:VEVENT
BEGIN:VEVENT
DTSTART;TZID=America/Chicago:20240601T100000
DTEND;TZID=America/Chicago:20240601T140000
DTSTAMP:20260425T203106
CREATED:20240201T145640Z
LAST-MODIFIED:20240826T192959Z
UID:4301-1717236000-1717250400@grandviewchristianschool.org
SUMMARY:V/DH Baseball @ BGM
DESCRIPTION:
URL:https://grandviewchristianschool.org/event/v-dh-bgm/
LOCATION:BGM High School\, 1090 Jackson St\, Brooklyn\, IA\, 52211\, United States
CATEGORIES:HS Baseball,Master Calendar
END:VEVENT
BEGIN:VEVENT
DTSTART;TZID=America/Chicago:20240531T140000
DTEND;TZID=America/Chicago:20240531T200000
DTSTAMP:20260425T203106
CREATED:20240201T145206Z
LAST-MODIFIED:20240826T192959Z
UID:4299-1717164000-1717185600@grandviewchristianschool.org
SUMMARY:V/DH Baseball (H) vs Beckman Catholic & DMC
DESCRIPTION:2:00- GVC vs Beckman\n4:00- DMC vs Beckman\n6:00 GVC vs DMC
URL:https://grandviewchristianschool.org/event/v-dh-h-vs-beckman-catholic-dmc/
LOCATION:James Cownie Baseball Park\, 2501 SE 22nd St\, Des Moines\, IA\, 50320\, United States
CATEGORIES:HS Baseball,Master Calendar
END:VEVENT
BEGIN:VEVENT
DTSTART;TZID=America/Chicago:20240529T170000
DTEND;TZID=America/Chicago:20240529T210000
DTSTAMP:20260425T203106
CREATED:20240201T144827Z
LAST-MODIFIED:20240826T192957Z
UID:4297-1717002000-1717016400@grandviewchristianschool.org
SUMMARY:JV/V Baseball @ Ogden
DESCRIPTION:JV- 5:00; V- 7:00
URL:https://grandviewchristianschool.org/event/jv-v-baseball-ogden-2/
LOCATION:Ogden High School\, 732 W Division St\, Ogden\, IA\, 50212\, United States
CATEGORIES:HS Baseball,Master Calendar
END:VEVENT
BEGIN:VEVENT
DTSTART;TZID=America/Chicago:20240528T171500
DTEND;TZID=America/Chicago:20240528T213000
DTSTAMP:20260425T203106
CREATED:20240131T203440Z
LAST-MODIFIED:20240826T192957Z
UID:4292-1716916500-1716931800@grandviewchristianschool.org
SUMMARY:JV/V Baseball @ Roland-Story
DESCRIPTION:JV- 5:15; V- 7:30
URL:https://grandviewchristianschool.org/event/jv-v-baseball-roland-story/
LOCATION:Roland-Story Norsemen Field\, 1066 Forty Oaks Drive\, Story City\, IA\, 50248\, United States
CATEGORIES:HS Baseball,Master Calendar
END:VEVENT
BEGIN:VEVENT
DTSTART;TZID=America/Chicago:20240525T140000
DTEND;TZID=America/Chicago:20240525T220000
DTSTAMP:20260425T203106
CREATED:20240131T203204Z
LAST-MODIFIED:20240826T192959Z
UID:4289-1716645600-1716674400@grandviewchristianschool.org
SUMMARY:V/DH Baseball @ Riverfront Tourney
DESCRIPTION:2:00 vs Iowa Valley \nIf we win at 2:00\, we will play at 8:00. If we lose\, we will play at 6:00.
URL:https://grandviewchristianschool.org/event/v-dh-riverfront-tourney/
LOCATION:Riverfront Stadium\, 850 Park Rd\, Waterloo\, IA\, 50703\, United States
CATEGORIES:HS Baseball,Master Calendar
END:VEVENT
BEGIN:VEVENT
DTSTART;TZID=America/Chicago:20240522T170000
DTEND;TZID=America/Chicago:20240522T210000
DTSTAMP:20260425T203106
CREATED:20240131T202923Z
LAST-MODIFIED:20240826T192956Z
UID:4286-1716397200-1716411600@grandviewchristianschool.org
SUMMARY:JV/V Baseball @ Central Decatur\, Leon
DESCRIPTION:V @ 5:00pm\, JV to follow
URL:https://grandviewchristianschool.org/event/jv-v-baseball-central-decatur-leon/
LOCATION:Central Decatur High School\, 1201 NE Poplar St\, Leon\, IA\, 50144\, United States
CATEGORIES:HS Baseball,Master Calendar
END:VEVENT
BEGIN:VEVENT
DTSTART;TZID=America/Chicago:20240520T170000
DTEND;TZID=America/Chicago:20240520T210000
DTSTAMP:20260425T203106
CREATED:20240131T202632Z
LAST-MODIFIED:20240826T192958Z
UID:4283-1716224400-1716238800@grandviewchristianschool.org
SUMMARY:V/DH Baseball (H) DSM North
DESCRIPTION:Varsity double header 5 & 7
URL:https://grandviewchristianschool.org/event/v-dh-baseball-h-dsm-north/
LOCATION:James Cownie Baseball Park\, 2501 SE 22nd St\, Des Moines\, IA\, 50320\, United States
CATEGORIES:HS Baseball,Master Calendar
END:VEVENT
BEGIN:VEVENT
DTSTART;TZID=America/Chicago:20240516T171500
DTEND;TZID=America/Chicago:20240516T213000
DTSTAMP:20260425T203106
CREATED:20240131T201229Z
LAST-MODIFIED:20240826T192956Z
UID:4281-1715879700-1715895000@grandviewchristianschool.org
SUMMARY:JV/V Baseball @ Nevada
DESCRIPTION:JV- 5:15; V- 7:30
URL:https://grandviewchristianschool.org/event/jv-v-baseball-nevada/
LOCATION:Nevade SCORE Recreation Complex\, 1545 Fawcett Pkwy\, Nevada\, IA\, 50201\, United States
CATEGORIES:HS Baseball,Master Calendar
END:VEVENT
BEGIN:VEVENT
DTSTART;TZID=America/Chicago:20240513T171500
DTEND;TZID=America/Chicago:20240513T210000
DTSTAMP:20260425T203106
CREATED:20240131T200927Z
LAST-MODIFIED:20240826T192957Z
UID:4278-1715620500-1715634000@grandviewchristianschool.org
SUMMARY:JV/V Baseball @ Perry
DESCRIPTION:JV- 5:15; V-7:00
URL:https://grandviewchristianschool.org/event/jv-v-baseball-perry/
LOCATION:Perry High School\, 1200 18th St\, Perry\, IA\, 50220\, United States
CATEGORIES:HS Baseball,Master Calendar
END:VEVENT
END:VCALENDAR