BEGIN:VCALENDAR
VERSION:2.0
PRODID:-//Grand View Christian School - Des Moines, IA - ECPv6.15.13.1//NONSGML v1.0//EN
CALSCALE:GREGORIAN
METHOD:PUBLISH
X-ORIGINAL-URL:https://grandviewchristianschool.org
X-WR-CALDESC:Events for Grand View Christian School - Des Moines, IA
REFRESH-INTERVAL;VALUE=DURATION:PT1H
X-Robots-Tag:noindex
X-PUBLISHED-TTL:PT1H
BEGIN:VTIMEZONE
TZID:America/Chicago
BEGIN:DAYLIGHT
TZOFFSETFROM:-0600
TZOFFSETTO:-0500
TZNAME:CDT
DTSTART:20250309T080000
END:DAYLIGHT
BEGIN:STANDARD
TZOFFSETFROM:-0500
TZOFFSETTO:-0600
TZNAME:CST
DTSTART:20251102T070000
END:STANDARD
BEGIN:DAYLIGHT
TZOFFSETFROM:-0600
TZOFFSETTO:-0500
TZNAME:CDT
DTSTART:20260308T080000
END:DAYLIGHT
BEGIN:STANDARD
TZOFFSETFROM:-0500
TZOFFSETTO:-0600
TZNAME:CST
DTSTART:20261101T070000
END:STANDARD
BEGIN:DAYLIGHT
TZOFFSETFROM:-0600
TZOFFSETTO:-0500
TZNAME:CDT
DTSTART:20270314T080000
END:DAYLIGHT
BEGIN:STANDARD
TZOFFSETFROM:-0500
TZOFFSETTO:-0600
TZNAME:CST
DTSTART:20271107T070000
END:STANDARD
END:VTIMEZONE
BEGIN:VEVENT
DTSTART;TZID=America/Chicago:20260306T190000
DTEND;TZID=America/Chicago:20260306T203000
DTSTAMP:20260425T173803
CREATED:20250804T205011Z
LAST-MODIFIED:20250804T205011Z
UID:7610-1772823600-1772829000@grandviewchristianschool.org
SUMMARY:Fine Arts Showcase
DESCRIPTION:
URL:https://grandviewchristianschool.org/event/fine-arts-showcase-2/
LOCATION:IA
CATEGORIES:All Parents,Master Calendar
END:VEVENT
BEGIN:VEVENT
DTSTART;VALUE=DATE:20260309
DTEND;VALUE=DATE:20260310
DTSTAMP:20260425T173803
CREATED:20250805T132459Z
LAST-MODIFIED:20250805T132459Z
UID:7613-1773014400-1773100799@grandviewchristianschool.org
SUMMARY:Early Dismissal\, 2 p.m. (PTC)
DESCRIPTION:
URL:https://grandviewchristianschool.org/event/early-dismissal-2-p-m-ptc-3/
LOCATION:IA
CATEGORIES:All Parents,Master Calendar
END:VEVENT
BEGIN:VEVENT
DTSTART;VALUE=DATE:20260310
DTEND;VALUE=DATE:20260311
DTSTAMP:20260425T173803
CREATED:20250805T132644Z
LAST-MODIFIED:20250805T132644Z
UID:7615-1773100800-1773187199@grandviewchristianschool.org
SUMMARY:Early Dismissal\, 2 p.m. (PTC)
DESCRIPTION:
URL:https://grandviewchristianschool.org/event/early-dismissal-2-p-m-ptc-4/
LOCATION:IA
CATEGORIES:All Parents,Master Calendar
END:VEVENT
BEGIN:VEVENT
DTSTART;VALUE=DATE:20260313
DTEND;VALUE=DATE:20260314
DTSTAMP:20260425T173803
CREATED:20250805T132822Z
LAST-MODIFIED:20250805T132822Z
UID:7617-1773360000-1773446399@grandviewchristianschool.org
SUMMARY:No School
DESCRIPTION:
URL:https://grandviewchristianschool.org/event/no-school-5/
LOCATION:IA
CATEGORIES:All Parents,Master Calendar
END:VEVENT
BEGIN:VEVENT
DTSTART;VALUE=DATE:20260316
DTEND;VALUE=DATE:20260321
DTSTAMP:20260425T173803
CREATED:20250805T133229Z
LAST-MODIFIED:20250805T133229Z
UID:7619-1773619200-1774051199@grandviewchristianschool.org
SUMMARY:Spring Break
DESCRIPTION:
URL:https://grandviewchristianschool.org/event/spring-break-3/
LOCATION:IA
CATEGORIES:All Parents,Master Calendar
END:VEVENT
BEGIN:VEVENT
DTSTART;TZID=America/Chicago:20260326T190000
DTEND;TZID=America/Chicago:20260326T210000
DTSTAMP:20260425T173803
CREATED:20250805T133353Z
LAST-MODIFIED:20250805T133353Z
UID:7621-1774551600-1774558800@grandviewchristianschool.org
SUMMARY:Spring Musical
DESCRIPTION:
URL:https://grandviewchristianschool.org/event/spring-musical-3/
LOCATION:IA
CATEGORIES:All Parents,Master Calendar
END:VEVENT
BEGIN:VEVENT
DTSTART;TZID=America/Chicago:20260327T190000
DTEND;TZID=America/Chicago:20260327T210000
DTSTAMP:20260425T173803
CREATED:20250805T133516Z
LAST-MODIFIED:20250805T133516Z
UID:7623-1774638000-1774645200@grandviewchristianschool.org
SUMMARY:Spring Musical
DESCRIPTION:
URL:https://grandviewchristianschool.org/event/spring-musical-4/
LOCATION:IA
CATEGORIES:All Parents,Master Calendar
END:VEVENT
BEGIN:VEVENT
DTSTART;TZID=America/Chicago:20260328T190000
DTEND;TZID=America/Chicago:20260328T210000
DTSTAMP:20260425T173803
CREATED:20250805T133645Z
LAST-MODIFIED:20250805T133645Z
UID:7625-1774724400-1774731600@grandviewchristianschool.org
SUMMARY:Spring Musical
DESCRIPTION:
URL:https://grandviewchristianschool.org/event/spring-musical-5/
LOCATION:IA
CATEGORIES:All Parents,Master Calendar
END:VEVENT
BEGIN:VEVENT
DTSTART;VALUE=DATE:20260403
DTEND;VALUE=DATE:20260404
DTSTAMP:20260425T173803
CREATED:20250805T133806Z
LAST-MODIFIED:20250805T133806Z
UID:7627-1775174400-1775260799@grandviewchristianschool.org
SUMMARY:No School\, Good Friday
DESCRIPTION:
URL:https://grandviewchristianschool.org/event/no-school-good-friday-3/
LOCATION:IA
CATEGORIES:All Parents,Master Calendar
END:VEVENT
BEGIN:VEVENT
DTSTART;VALUE=DATE:20260406
DTEND;VALUE=DATE:20260410
DTSTAMP:20260425T173803
CREATED:20250805T133934Z
LAST-MODIFIED:20250805T133934Z
UID:7629-1775433600-1775779199@grandviewchristianschool.org
SUMMARY:ISASP Testing
DESCRIPTION:
URL:https://grandviewchristianschool.org/event/isasp-testing/
LOCATION:IA
CATEGORIES:All Parents,Master Calendar
END:VEVENT
BEGIN:VEVENT
DTSTART;VALUE=DATE:20260417
DTEND;VALUE=DATE:20260418
DTSTAMP:20260425T173803
CREATED:20250805T134055Z
LAST-MODIFIED:20250805T134055Z
UID:7631-1776384000-1776470399@grandviewchristianschool.org
SUMMARY:No School\, Teacher In-Service
DESCRIPTION:
URL:https://grandviewchristianschool.org/event/no-school-teacher-in-service-10/
LOCATION:IA
CATEGORIES:All Parents,Master Calendar
END:VEVENT
BEGIN:VEVENT
DTSTART;TZID=America/Chicago:20260501T170000
DTEND;TZID=America/Chicago:20260501T220000
DTSTAMP:20260425T173803
CREATED:20250805T134434Z
LAST-MODIFIED:20250805T134434Z
UID:7633-1777654800-1777672800@grandviewchristianschool.org
SUMMARY:JR/SR Banquet
DESCRIPTION:
URL:https://grandviewchristianschool.org/event/jr-sr-banquet-2/
LOCATION:IA
CATEGORIES:All Parents,Master Calendar
END:VEVENT
BEGIN:VEVENT
DTSTART;TZID=America/Chicago:20260508T190000
DTEND;TZID=America/Chicago:20260508T200000
DTSTAMP:20260425T173803
CREATED:20250805T145414Z
LAST-MODIFIED:20250805T145414Z
UID:7635-1778266800-1778270400@grandviewchristianschool.org
SUMMARY:Spring High School Vocal Concert
DESCRIPTION:
URL:https://grandviewchristianschool.org/event/spring-high-school-vocal-concert/
LOCATION:IA
CATEGORIES:All Parents,Master Calendar
END:VEVENT
BEGIN:VEVENT
DTSTART;TZID=America/Chicago:20260512T190000
DTEND;TZID=America/Chicago:20260512T200000
DTSTAMP:20260425T173803
CREATED:20250805T145553Z
LAST-MODIFIED:20250805T145553Z
UID:7637-1778612400-1778616000@grandviewchristianschool.org
SUMMARY:Spring High School Band Concert
DESCRIPTION:
URL:https://grandviewchristianschool.org/event/spring-high-school-band-concert/
LOCATION:IA
CATEGORIES:All Parents,Master Calendar
END:VEVENT
BEGIN:VEVENT
DTSTART;TZID=America/Chicago:20260515T190000
DTEND;TZID=America/Chicago:20260515T210000
DTSTAMP:20260425T173803
CREATED:20250805T150125Z
LAST-MODIFIED:20250805T150125Z
UID:7639-1778871600-1778878800@grandviewchristianschool.org
SUMMARY:High School Graduation
DESCRIPTION:
URL:https://grandviewchristianschool.org/event/high-school-graduation-2/
LOCATION:Grace Church\, 4200 E. 25th St\, Des Moines\, IA\, 50317\, United States
CATEGORIES:All Parents,Master Calendar
END:VEVENT
BEGIN:VEVENT
DTSTART;VALUE=DATE:20260518
DTEND;VALUE=DATE:20260522
DTSTAMP:20260425T173803
CREATED:20250805T150240Z
LAST-MODIFIED:20250805T150240Z
UID:7641-1779062400-1779407999@grandviewchristianschool.org
SUMMARY:High School Finals
DESCRIPTION:
URL:https://grandviewchristianschool.org/event/high-school-finals/
LOCATION:IA
CATEGORIES:All Parents,Master Calendar
END:VEVENT
BEGIN:VEVENT
DTSTART;VALUE=DATE:20260519
DTEND;VALUE=DATE:20260520
DTSTAMP:20260425T173803
CREATED:20250805T150409Z
LAST-MODIFIED:20250805T150409Z
UID:7643-1779148800-1779235199@grandviewchristianschool.org
SUMMARY:Spring Middle School Concert
DESCRIPTION:Time TBD
URL:https://grandviewchristianschool.org/event/spring-middle-school-concert/
LOCATION:IA
CATEGORIES:All Parents,Master Calendar
END:VEVENT
BEGIN:VEVENT
DTSTART;VALUE=DATE:20260521
DTEND;VALUE=DATE:20260522
DTSTAMP:20260425T173803
CREATED:20250805T151545Z
LAST-MODIFIED:20250805T151545Z
UID:7648-1779321600-1779407999@grandviewchristianschool.org
SUMMARY:4th/5th Grade Concert
DESCRIPTION:Time TBD
URL:https://grandviewchristianschool.org/event/4th-5th-grade-concert-2/
LOCATION:IA
CATEGORIES:All Parents,Master Calendar
END:VEVENT
BEGIN:VEVENT
DTSTART;VALUE=DATE:20260521
DTEND;VALUE=DATE:20260522
DTSTAMP:20260425T173803
CREATED:20250805T151407Z
LAST-MODIFIED:20250805T151407Z
UID:7646-1779321600-1779407999@grandviewchristianschool.org
SUMMARY:Kindergarten Graduation
DESCRIPTION:Time TBD
URL:https://grandviewchristianschool.org/event/kindergarten-graduation-2/
LOCATION:Grace Church\, 4200 E. 25th St\, Des Moines\, IA\, 50317\, United States
CATEGORIES:All Parents,Master Calendar
END:VEVENT
BEGIN:VEVENT
DTSTART;TZID=America/Chicago:20260521T081500
DTEND;TZID=America/Chicago:20260521T151500
DTSTAMP:20260425T173803
CREATED:20250805T151710Z
LAST-MODIFIED:20250805T151710Z
UID:7650-1779351300-1779376500@grandviewchristianschool.org
SUMMARY:Middle School BLAST
DESCRIPTION:
URL:https://grandviewchristianschool.org/event/middle-school-blast/
LOCATION:IA
CATEGORIES:All Parents,Master Calendar
END:VEVENT
BEGIN:VEVENT
DTSTART;VALUE=DATE:20260522
DTEND;VALUE=DATE:20260523
DTSTAMP:20260425T173803
CREATED:20250805T151832Z
LAST-MODIFIED:20250805T151832Z
UID:7652-1779408000-1779494399@grandviewchristianschool.org
SUMMARY:Last Day of School\, 12 p.m. Dismissal
DESCRIPTION:
URL:https://grandviewchristianschool.org/event/last-day-of-school-12-p-m-dismissal/
LOCATION:IA
CATEGORIES:All Parents,Master Calendar
END:VEVENT
BEGIN:VEVENT
DTSTART;VALUE=DATE:20260525
DTEND;VALUE=DATE:20260526
DTSTAMP:20260425T173803
CREATED:20250805T151940Z
LAST-MODIFIED:20250805T151940Z
UID:7654-1779667200-1779753599@grandviewchristianschool.org
SUMMARY:Memorial Day\, Offices Closed
DESCRIPTION:
URL:https://grandviewchristianschool.org/event/memorial-day-offices-closed-3/
LOCATION:IA
CATEGORIES:All Parents,Master Calendar
END:VEVENT
BEGIN:VEVENT
DTSTART;VALUE=DATE:20260619
DTEND;VALUE=DATE:20260620
DTSTAMP:20260425T173803
CREATED:20250623T153955Z
LAST-MODIFIED:20250623T153955Z
UID:7391-1781827200-1781913599@grandviewchristianschool.org
SUMMARY:Thunder Golf Classic
DESCRIPTION:Shotgun at 9 a.m. \nRegistration opens at 8 a.m. \nMini Golf 10 a.m.-10 p.m.
URL:https://grandviewchristianschool.org/event/thunder-golf-classic-3/
LOCATION:Terrace Hills Golf Course\, 8700 NE 46th Ave\, Altoona\, IA\, 50009\, United States
END:VEVENT
BEGIN:VEVENT
DTSTART;VALUE=DATE:20260619
DTEND;VALUE=DATE:20260620
DTSTAMP:20260425T173803
CREATED:20250805T152200Z
LAST-MODIFIED:20250805T152200Z
UID:7658-1781827200-1781913599@grandviewchristianschool.org
SUMMARY:Thunder Golf Classic
DESCRIPTION:
URL:https://grandviewchristianschool.org/event/thunder-golf-classic-4/
LOCATION:Terrace Hills Golf Course\, 8700 NE 46th Ave\, Altoona\, IA\, 50009\, United States
CATEGORIES:All Parents,Master Calendar
END:VEVENT
BEGIN:VEVENT
DTSTART;TZID=America/Chicago:20260619T100000
DTEND;TZID=America/Chicago:20260619T220000
DTSTAMP:20260425T173803
CREATED:20250805T152100Z
LAST-MODIFIED:20250805T152100Z
UID:7656-1781863200-1781906400@grandviewchristianschool.org
SUMMARY:GVCS Family Mini Golf Day
DESCRIPTION:
URL:https://grandviewchristianschool.org/event/gvcs-family-mini-golf-day/
LOCATION:Terrace Hills Golf Course\, 8700 NE 46th Ave\, Altoona\, IA\, 50009\, United States
CATEGORIES:All Parents,Master Calendar
END:VEVENT
END:VCALENDAR