BEGIN:VCALENDAR
VERSION:2.0
PRODID:-//Grand View Christian School - Des Moines, IA - ECPv6.15.13.1//NONSGML v1.0//EN
CALSCALE:GREGORIAN
METHOD:PUBLISH
X-WR-CALNAME:Grand View Christian School - Des Moines, IA
X-ORIGINAL-URL:https://grandviewchristianschool.org
X-WR-CALDESC:Events for Grand View Christian School - Des Moines, IA
REFRESH-INTERVAL;VALUE=DURATION:PT1H
X-Robots-Tag:noindex
X-PUBLISHED-TTL:PT1H
BEGIN:VTIMEZONE
TZID:America/Chicago
BEGIN:DAYLIGHT
TZOFFSETFROM:-0600
TZOFFSETTO:-0500
TZNAME:CDT
DTSTART:20240310T080000
END:DAYLIGHT
BEGIN:STANDARD
TZOFFSETFROM:-0500
TZOFFSETTO:-0600
TZNAME:CST
DTSTART:20241103T070000
END:STANDARD
BEGIN:DAYLIGHT
TZOFFSETFROM:-0600
TZOFFSETTO:-0500
TZNAME:CDT
DTSTART:20250309T080000
END:DAYLIGHT
BEGIN:STANDARD
TZOFFSETFROM:-0500
TZOFFSETTO:-0600
TZNAME:CST
DTSTART:20251102T070000
END:STANDARD
BEGIN:DAYLIGHT
TZOFFSETFROM:-0600
TZOFFSETTO:-0500
TZNAME:CDT
DTSTART:20260308T080000
END:DAYLIGHT
BEGIN:STANDARD
TZOFFSETFROM:-0500
TZOFFSETTO:-0600
TZNAME:CST
DTSTART:20261101T070000
END:STANDARD
END:VTIMEZONE
BEGIN:VEVENT
DTSTART;VALUE=DATE:20251001
DTEND;VALUE=DATE:20251002
DTSTAMP:20260425T190547
CREATED:20250804T201304Z
LAST-MODIFIED:20250804T201304Z
UID:7582-1759276800-1759363199@grandviewchristianschool.org
SUMMARY:WAT Kickoff
DESCRIPTION:
URL:https://grandviewchristianschool.org/event/wat-kickoff/
LOCATION:IA
CATEGORIES:All Parents,Master Calendar
END:VEVENT
BEGIN:VEVENT
DTSTART;VALUE=DATE:20251014
DTEND;VALUE=DATE:20251015
DTSTAMP:20260425T190547
CREATED:20250804T202115Z
LAST-MODIFIED:20250804T202115Z
UID:7584-1760400000-1760486399@grandviewchristianschool.org
SUMMARY:Early Dismissal\, 2 p.m. (PTC)
DESCRIPTION:
URL:https://grandviewchristianschool.org/event/early-dismissal-2-p-m-ptc/
LOCATION:IA
CATEGORIES:All Parents,Master Calendar
END:VEVENT
BEGIN:VEVENT
DTSTART;VALUE=DATE:20251016
DTEND;VALUE=DATE:20251017
DTSTAMP:20260425T190547
CREATED:20250804T202634Z
LAST-MODIFIED:20250804T202634Z
UID:7586-1760572800-1760659199@grandviewchristianschool.org
SUMMARY:Early Dismissal\, 2 p.m. (PTC)
DESCRIPTION:
URL:https://grandviewchristianschool.org/event/early-dismissal-2-p-m-ptc-2/
LOCATION:IA
CATEGORIES:All Parents,Master Calendar
END:VEVENT
BEGIN:VEVENT
DTSTART;VALUE=DATE:20251017
DTEND;VALUE=DATE:20251018
DTSTAMP:20260425T190547
CREATED:20250804T202752Z
LAST-MODIFIED:20250804T202752Z
UID:7588-1760659200-1760745599@grandviewchristianschool.org
SUMMARY:No School
DESCRIPTION:
URL:https://grandviewchristianschool.org/event/no-school-4/
LOCATION:IA
CATEGORIES:All Parents,Master Calendar
END:VEVENT
BEGIN:VEVENT
DTSTART;VALUE=DATE:20251020
DTEND;VALUE=DATE:20251021
DTSTAMP:20260425T190547
CREATED:20250804T202913Z
LAST-MODIFIED:20250804T202913Z
UID:7590-1760918400-1761004799@grandviewchristianschool.org
SUMMARY:No School\, Teacher In-Service
DESCRIPTION:
URL:https://grandviewchristianschool.org/event/no-school-teacher-in-service-7/
LOCATION:IA
CATEGORIES:All Parents,Master Calendar
END:VEVENT
BEGIN:VEVENT
DTSTART;VALUE=DATE:20251024
DTEND;VALUE=DATE:20251025
DTSTAMP:20260425T190547
CREATED:20250804T203154Z
LAST-MODIFIED:20250804T203154Z
UID:7592-1761264000-1761350399@grandviewchristianschool.org
SUMMARY:Walk-A-Thon
DESCRIPTION:Preschool 3 – 2nd Grade \n 
URL:https://grandviewchristianschool.org/event/walk-a-thon-2/
LOCATION:IA
CATEGORIES:All Parents,Master Calendar
END:VEVENT
END:VCALENDAR