BEGIN:VCALENDAR
VERSION:2.0
PRODID:-//Grand View Christian School - Des Moines, IA - ECPv6.15.13.1//NONSGML v1.0//EN
CALSCALE:GREGORIAN
METHOD:PUBLISH
X-ORIGINAL-URL:https://grandviewchristianschool.org
X-WR-CALDESC:Events for Grand View Christian School - Des Moines, IA
REFRESH-INTERVAL;VALUE=DURATION:PT1H
X-Robots-Tag:noindex
X-PUBLISHED-TTL:PT1H
BEGIN:VTIMEZONE
TZID:America/Chicago
BEGIN:DAYLIGHT
TZOFFSETFROM:-0600
TZOFFSETTO:-0500
TZNAME:CDT
DTSTART:20250309T080000
END:DAYLIGHT
BEGIN:STANDARD
TZOFFSETFROM:-0500
TZOFFSETTO:-0600
TZNAME:CST
DTSTART:20251102T070000
END:STANDARD
BEGIN:DAYLIGHT
TZOFFSETFROM:-0600
TZOFFSETTO:-0500
TZNAME:CDT
DTSTART:20260308T080000
END:DAYLIGHT
BEGIN:STANDARD
TZOFFSETFROM:-0500
TZOFFSETTO:-0600
TZNAME:CST
DTSTART:20261101T070000
END:STANDARD
BEGIN:DAYLIGHT
TZOFFSETFROM:-0600
TZOFFSETTO:-0500
TZNAME:CDT
DTSTART:20270314T080000
END:DAYLIGHT
BEGIN:STANDARD
TZOFFSETFROM:-0500
TZOFFSETTO:-0600
TZNAME:CST
DTSTART:20271107T070000
END:STANDARD
END:VTIMEZONE
BEGIN:VEVENT
DTSTART;TZID=America/Chicago:20260206T180000
DTEND;TZID=America/Chicago:20260206T210000
DTSTAMP:20260425T123958
CREATED:20260130T165538Z
LAST-MODIFIED:20260130T165538Z
UID:8419-1770400800-1770411600@grandviewchristianschool.org
SUMMARY:Varsity Girls and Boys Basketball @ Casey's Center
DESCRIPTION:Varsity Girls vs Nevada – 6 p.m. \nVarsity Boys vs Nevada – 7:30 p.m. \nTicket Link: https://www.gofevo.com/event/20252026466
URL:https://grandviewchristianschool.org/event/varsity-girls-and-boys-basketball-caseys-center/
LOCATION:Casey’s Center\, 233 Center St\, Des Moines\, IA\, 50309\, United States
CATEGORIES:HS Boys Basketball,HS Girls Basketball
END:VEVENT
BEGIN:VEVENT
DTSTART;TZID=America/Chicago:20260212T190000
DTEND;TZID=America/Chicago:20260212T200000
DTSTAMP:20260425T123958
CREATED:20260130T174007Z
LAST-MODIFIED:20260130T174007Z
UID:8422-1770922800-1770926400@grandviewchristianschool.org
SUMMARY:NHS Induction Ceremony
DESCRIPTION:
URL:https://grandviewchristianschool.org/event/nhs-induction-ceremony-2/
LOCATION:Grand View Christian School\, 1701 E 3rd Street\, Des Moines\, IA\, 50317\, United States
CATEGORIES:HS Parents
END:VEVENT
BEGIN:VEVENT
DTSTART;VALUE=DATE:20260213
DTEND;VALUE=DATE:20260214
DTSTAMP:20260425T123958
CREATED:20260105T144517Z
LAST-MODIFIED:20260105T144517Z
UID:8380-1770940800-1771027199@grandviewchristianschool.org
SUMMARY:No School\, WAT Holiday
DESCRIPTION:
URL:https://grandviewchristianschool.org/event/no-school-wat-holiday-3/
LOCATION:IA
CATEGORIES:All Parents
END:VEVENT
BEGIN:VEVENT
DTSTART;VALUE=DATE:20260216
DTEND;VALUE=DATE:20260217
DTSTAMP:20260425T123958
CREATED:20250804T204828Z
LAST-MODIFIED:20250804T204828Z
UID:7608-1771200000-1771286399@grandviewchristianschool.org
SUMMARY:No School\, Teacher In-Service
DESCRIPTION:
URL:https://grandviewchristianschool.org/event/no-school-teacher-in-service-9/
LOCATION:IA
CATEGORIES:All Parents,Master Calendar
END:VEVENT
END:VCALENDAR